BEGIN:VCALENDAR
VERSION:2.0
PRODID:-//The Queens Village Republican Club Online - ECPv6.15.14//NONSGML v1.0//EN
CALSCALE:GREGORIAN
METHOD:PUBLISH
X-ORIGINAL-URL:https://qvgop.org
X-WR-CALDESC:Events for The Queens Village Republican Club Online
REFRESH-INTERVAL;VALUE=DURATION:PT1H
X-Robots-Tag:noindex
X-PUBLISHED-TTL:PT1H
BEGIN:VTIMEZONE
TZID:America/New_York
BEGIN:DAYLIGHT
TZOFFSETFROM:-0500
TZOFFSETTO:-0400
TZNAME:EDT
DTSTART:20200308T070000
END:DAYLIGHT
BEGIN:STANDARD
TZOFFSETFROM:-0400
TZOFFSETTO:-0500
TZNAME:EST
DTSTART:20201101T060000
END:STANDARD
BEGIN:DAYLIGHT
TZOFFSETFROM:-0500
TZOFFSETTO:-0400
TZNAME:EDT
DTSTART:20210314T070000
END:DAYLIGHT
BEGIN:STANDARD
TZOFFSETFROM:-0400
TZOFFSETTO:-0500
TZNAME:EST
DTSTART:20211107T060000
END:STANDARD
BEGIN:DAYLIGHT
TZOFFSETFROM:-0500
TZOFFSETTO:-0400
TZNAME:EDT
DTSTART:20220313T070000
END:DAYLIGHT
BEGIN:STANDARD
TZOFFSETFROM:-0400
TZOFFSETTO:-0500
TZNAME:EST
DTSTART:20221106T060000
END:STANDARD
END:VTIMEZONE
BEGIN:VEVENT
DTSTART;TZID=America/New_York:20210401T193000
DTEND;TZID=America/New_York:20210401T213000
DTSTAMP:20260421T054839
CREATED:20210320T032250Z
LAST-MODIFIED:20210331T023948Z
UID:11090-1617305400-1617312600@qvgop.org
SUMMARY:NEXT QVGOP MEETING: REBUILDING AMERICA'S PUBLIC EDUCATION SYSTEM
DESCRIPTION:NEXT GENERAL CLUB MEETING:\nTHURS. APRIL 1\, 2021 at 7:30 PM\nWhat’s happening to America’s schools and what we can do about it\n\nRSVP to INFO@qvgop.org\nRSVP Deadline: 11 PM Wednesday\n\n \nPanel of speakers addressing the indoctrination of our children from Elementary School to College and how we can rebuild America’s Public Education System\nNICHOLAS GIORDANO\nProfessor of Political Science at Suffolk Community College and host of The P.A.S. Report Podcast\nJERRY MATACOTTA\nFounder of the History Seminar Series at QCC and worked 32 years for NYC Public Schools teaching High School American History\nSHAWN FARASH\nFounder of Long Island Loud Majority and former Hofstra University Student majoring in Radio Communication\nDR. JYOTI GANDHI\nReligious leader from Jain Community will offer the Opening Prayer. Dr. Jyoti Gandhi\, a Retired Pediatrician\, is Past President of Jain Center of America\, and Past President of Friends of Arch (organization offering free medical and health care assistance to the financially challenged people in Western India.) \nRSVP: Send email request to INFO@qvgop.org with your full name\, working email\, and mobile phone. Deadline to RSVP is Wednesday at 11 PM.  You will receive the link prior to the meeting. \n_________________________________________________________________________________________ \nSPEAKERS BIOS AND INFORMATION\nNicholas Giordano\n \nProfessor of Political Science at Suffolk Community College and host of The P.A.S. Report Podcast.  Recognized and well-respected for his analysis\, Professor Giordano appears on radio and television to provide analysis on current issues and trends within government\, politics\, international relations\, homeland security/emergency management\, and social/cultural related issues. In addition\, he is regularly called on to speak at events to provide expertise on critical issues facing the United States. \nIt is Professor Giordano’s passion that led him to start The P.A.S. Report. Sick of an advocacy news media that wants to dictate how to think\, Professor Giordano started The P.A.S. Report because of his unique ability to breakdown complex political issues and explaining those issues in a way to appeal to everyday Americans. By introducing facts\, the listeners can come to their own conclusions. \nFollow Professor Giordano on Twitter @PASReport or visit his website pasreport.com \n__________________________________________________________________________ \nJerry Matacotta\n \nHistorian Jerry Matacotta\, is the founder of the acclaimed History Seminar Series at Queensborough Community College\, and worked 32 years for New York City Public Schools primarily teaching High School American History. \nHe delivered the 2013 Lincoln Dinner Keynote Address in place of Rabbi Aryeh Spero who was detained at an airport\, due to the heavy snowstorm. In his address\, Matacotta spoke on Abraham Lincoln and what he means to this country and about education. He warned the audience that the Republican Party has given up the school system of the United States to a group of elitists who used similar takeover tactics as the 20th century strongmen\, Mao Zedong\, Joseph Stalin and Adolf Hitler to hijack the education system. He put out a call-to-action for Republicans to take back the schools. \n__________________________________________________________________________ \nShawn Farash\n \nShawn Farash of West Babylon\, is a salesman\, podcaster and self-described constitutional conservative\, and organizer of Trump rallies and Trump caravans with 100’s of vehicles and 1000’s of supporters of President Trump. He is the founder of Long Island Loud Majority and a former Hofstra University Student majoring in Radio Communication.  \nExcerpt from https://loudmajorityus.com/about-us\nThe Long Island Loud Majority was created to bring the “Silent Majority” together and collectively prove\, to itself and to the country\, that when operating as ONE\, we are not SILENT\, we are a very loud\, passionate\, and emboldened MAJORITY.  \nSince our inception in September of 2020\, our goal has been to create energy among patriotic American voters\, and to turn said energy into action. We have coordinated and organized a number of rallies and caravans\, from Albany to New York City\, to Montauk\, resulting in an awakening not just in our home state of New York\, but in various states across the country. The behavior has begun to change\, from passive to active\, as a growing number of Americans are becoming exceedingly tired of watching their liberties eroded away by an ever-expanding government. Read more
URL:https://qvgop.org/event/next-qvgop-meeting-rebuilding-americas-public-education-system/
LOCATION:Zoom
CATEGORIES:General Club Meetings
END:VEVENT
BEGIN:VEVENT
DTSTART;TZID=America/New_York:20210412T200000
DTEND;TZID=America/New_York:20210412T213000
DTSTAMP:20260421T054839
CREATED:20210331T040108Z
LAST-MODIFIED:20210331T040108Z
UID:11114-1618257600-1618263000@qvgop.org
SUMMARY:Liberty Brigade: "Activism 102" with Dan Hennessey
DESCRIPTION:
URL:https://qvgop.org/event/liberty-brigade-activism-102-with-dan-hennessey/
LOCATION:Zoom
END:VEVENT
BEGIN:VEVENT
DTSTART;TZID=America/New_York:20210419T190000
DTEND;TZID=America/New_York:20210419T210000
DTSTAMP:20260421T054839
CREATED:20210418T193553Z
LAST-MODIFIED:20210418T193553Z
UID:11145-1618858800-1618866000@qvgop.org
SUMMARY:R.S.V.P. - ZOOM - Monday April 19\, 2021 - DAVID BUCKBY FROM THE U.K.
DESCRIPTION:TO R.S.V.P. CLICK BELOW: \nhttp://bit.ly/Alert-Buckby-4-19 \nJoseph Concannon will be the first speaker\n \n  \n 
URL:https://qvgop.org/event/r-s-v-p-zoom-monday-april-19-2021-david-buckby-from-the-u-k/
LOCATION:Zoom
END:VEVENT
BEGIN:VEVENT
DTSTART;TZID=America/New_York:20210421T170000
DTEND;TZID=America/New_York:20210421T180000
DTSTAMP:20260421T054839
CREATED:20210419T220428Z
LAST-MODIFIED:20210419T220807Z
UID:11156-1619024400-1619028000@qvgop.org
SUMMARY:Call for Volunteers at the Future Home of The Bridge to Life Wednesday
DESCRIPTION:Call for Volunteers for Help with Clean Up Detail\nat the Future Home of The Bridge to Life\n \nWednesday April 21\, 2021 at 5:00 PM\nThe Future Home of The Bridge to Life \n14-2 124 Street\nCollege Point\, NY 11356\nVolunteer help needed for trash removal from building to dumpster. \nPlease call Delvis if you want to volunteer: 917-468-5720\nThe Bridge to Life’s mission and dedicated pro-life work is to provide informative\, honest and compassionate counseling to empower pregnant women to choose life while serving our families with support\, guidance and material assistance in order for them to raise their children in a loving and secure environment.
URL:https://qvgop.org/event/call-for-volunteers-at-the-future-home-of-the-bridge-to-life-wednesday/
LOCATION:The Bridge to Life – New Location\, 14-2 124 Street\, College Point\, NY\, 11356
END:VEVENT
BEGIN:VEVENT
DTSTART;TZID=America/New_York:20210426T200000
DTEND;TZID=America/New_York:20210426T220000
DTSTAMP:20260421T054839
CREATED:20210418T194848Z
LAST-MODIFIED:20210418T194848Z
UID:11149-1619467200-1619474400@qvgop.org
SUMMARY:NYMetroACT Zoom meeting on Monday\, April 26th
DESCRIPTION:HERE COMES ANOTHER GREAT MEETING!\nREGISTER NOW BEFORE YOU FORGET. \nCLICK ON THE IMAGE TO BE DIRECTED TO OUR REGISTRATION PAGE.\n \nWe want you to make our meetings your priority\, but you are encouraged to tune in to Nick Giordano’s podcasts at The P.A.S. Report when you’re not with NYMetroACT. He won’t mince words\, and he’s not PC.  You’ll always get the truth!
URL:https://qvgop.org/event/nymetroact-zoom-meeting-on-monday-april-26th/
LOCATION:Zoom
END:VEVENT
END:VCALENDAR