BEGIN:VCALENDAR
VERSION:2.0
PRODID:-//The Queens Village Republican Club Online - ECPv6.15.14//NONSGML v1.0//EN
CALSCALE:GREGORIAN
METHOD:PUBLISH
X-ORIGINAL-URL:https://qvgop.org
X-WR-CALDESC:Events for The Queens Village Republican Club Online
REFRESH-INTERVAL;VALUE=DURATION:PT1H
X-Robots-Tag:noindex
X-PUBLISHED-TTL:PT1H
BEGIN:VTIMEZONE
TZID:America/New_York
BEGIN:DAYLIGHT
TZOFFSETFROM:-0500
TZOFFSETTO:-0400
TZNAME:EDT
DTSTART:20200308T070000
END:DAYLIGHT
BEGIN:STANDARD
TZOFFSETFROM:-0400
TZOFFSETTO:-0500
TZNAME:EST
DTSTART:20201101T060000
END:STANDARD
BEGIN:DAYLIGHT
TZOFFSETFROM:-0500
TZOFFSETTO:-0400
TZNAME:EDT
DTSTART:20210314T070000
END:DAYLIGHT
BEGIN:STANDARD
TZOFFSETFROM:-0400
TZOFFSETTO:-0500
TZNAME:EST
DTSTART:20211107T060000
END:STANDARD
BEGIN:DAYLIGHT
TZOFFSETFROM:-0500
TZOFFSETTO:-0400
TZNAME:EDT
DTSTART:20220313T070000
END:DAYLIGHT
BEGIN:STANDARD
TZOFFSETFROM:-0400
TZOFFSETTO:-0500
TZNAME:EST
DTSTART:20221106T060000
END:STANDARD
END:VTIMEZONE
BEGIN:VEVENT
DTSTART;TZID=America/New_York:20210304T193000
DTEND;TZID=America/New_York:20210304T213000
DTSTAMP:20260421T073139
CREATED:20210215T205352Z
LAST-MODIFIED:20210301T233958Z
UID:10980-1614886200-1614893400@qvgop.org
SUMMARY:NEXT GENERAL CLUB MEETING: 2021 GOP CANDIDATES FORUM
DESCRIPTION:NEXT GENERAL CLUB MEETING:\nTHURS. MARCH 4\, 2021 at 7:30 PM\n2021 REPUBLICAN CANDIDATES FORUM\n\nRSVP to INFO@qvgop.org\nRSVP Deadline: 10 PM Wednesday\n______________________________________________________________\n  \nSpecial Guest Speaker: Gavin Wax \nA special message from the dynamic young President of New York Young Republican Club.\nThe following 2021 Republican candidates seeking the nomination to run for their respective offices are confirmed.\nCURTIS SLIWA\nRepublican candidate for Mayor of NYC\n \nJOHN TABACCO\nRepublican candidate for NYC Comptroller\nDANNIEL MAIO\nRepublican candidate for Queens Boro President\nVICKIE PALADINO\nRepublican candidate for NY City Council\, CD#19\nALEX AMOROSO\nRepublican candidate for NY City Council\, CD#23\nANGELO KING\nRepublican candidate for NY City Council\, CD#24\nAdditional candidates to be confirmed.\nRSVP: Send email request to INFO@qvgop.org with your full name\, working email\, and mobile phone. You will receive the link before the meeting. See below for candidate’s bios and more info about the candidates.\n______________________________________________________________\nSPEAKERS AND CANDIDATES BIOS\nGAVIN WAX\n \n______________________________________________________________\nCURTIS SLIWA FOR MAYOR OF NYC!\nCurtis Sliwa\, known by millions as the founder and leader of The Guardian Angels\, has greatly impacted the American way of life. Curtis refused to accept criminal activity and founded one of the worlds largest grassroots organizations. \nThe Guardian Angels\nIn 1979\, New York City was the crime capital of the United States. Along with many NYC natives\, Curtis Sliwa grew tired of the subway threats\, street fights and fearful nights. These dangers and lack of control were the impetus for Sliwas groundbreaking idea: The Guardian Angels. Conceived as a grassroots opportunity for individuals to rally with one another\, The Guardian Angels quickly became an international phenomenon. Known by their signature red berets\, the Angels persona stood for justice and the empowerment of individuals. \nRead more here.  \n______________________________________________________________\nJOHN TABACCO\nRepublican candidate for NYC Comptroller\nJohn Tabacco is the host of Liquid Lunch TV\, and attorney for Mac’s Public House. \nFor more information: https://www.facebook.com/TVLiquidlunch/  \nSee NY Post article: Talk show host John Tabacco enters NYC comptroller race \n  \n  \n  \n  \n______________________________________________________________\nDANNIEL MAIO\nRepublican candidate for Queens Boro President\nHello!  My name is Danniel Maio\, president of the Central Queens Republican Club\, https://central.queens.gop. I am running to win the Queens Boro Presidency against the incumbent\, Donovan Richards (D).  Citizens of Queens will be better served by Republicans focused on family\, community and compassion instead of Democrats touting programs and services that are self-dealing\, wasteful and blind to reality. \nI was raised in Frederick\, Maryland; graduated from American University with a BA in International Studies; and worked for Westinghouse Electric before starting Identity Map Company with my brother in 1990 making maps of New York City. \nI have been involved in Manhattan\, Kings and Queens County politics since 2001\, when I was the Manhattan Boro President candidate the year of 9/11.  I have been on the ballot 8 times\, and this race is my 12th attempt.  My mother has told me many times that I should switch my party registration to Democrat if I want to win in New York. Read more:  Rise Up\, Unite\, and Win Elections in 2021 \n______________________________________________________________\nVICKIE PALADINO\nRepublican candidate for NY City Council\, CD#19\nVickie Paladino has been a proud resident of this district for 66 years\, a small business owner\, mother\, and activist driven to undo the damage inflicted on our community by decades of mismanagement and cronyism. \nVickie was born in Whitestone to working-class parents. Her father\, a World War Two veteran\, passed away when she was only twelve years old\, leaving her mother to raise her three sisters and one brother alone. She learned at an early age the value of family and community\, especially during hard times. \nShe met her husband of 45 years at a St. Lukes church event\, and raised two sons in Whitestone\, in the house her husband grew up in and only a few blocks from where she herself grew up. \nTogether\, they owned a successful family business for over twenty five years\, serving the people of Northeast Queens and the surrounding areas. \nToday\, Vickie is a renowned community activist\, well known for standing up to Bill DeBlasio and the radical political elements who threaten to tear our city apart and destroy our quiet residential neighborhoods. Read more here.  \nVisit Vickie Paladino for City Council for more information.  \n______________________________________________________________\nALEX AMOROSO\nRepublican candidate for NY City Council\, CD#23\nA Message from Alex Amoroso \nThe Covid-19 epidemic has ravaged our city. It has exposed the last eight years of incompetence\, mismanagement and corruption by the de Blasio administration and this City Council. They have driven New York City to the brink. Financial mismanagement has New York facing bankruptcy. Only 70% of NYC students graduate high school on time. Proficiency in Math and English is below 65% . The response to the coronavirus pandemic and distribution of vaccinations has been a disaster leaving nearly 27.000 New Yorker’s dead and 33%  of NYC small businesses permanently closed. Crime is surging. 447 New Yorker’s were murdered in 2020. More than one precious life lost needlessly each day. 60.000 New Yorker’s are homeless and thousands flee the city – and state every month in one of the largest interstate exoduses in American history. For to long the people of New York City have been burned by the political establishment. The career politicians promise and promise yet never deliver. It is time for change\, because New York City is a city worth fighting for! \nAbout Alex \nAlex Andrew Amoroso was born in New York on November 1\, 2002. Alex was raised in the quiet neighborhood of Queens Village. If elected Alex would become New York City’s youngest Council Member at 19 years old. He is the first born of immigrant parents from the Caribbean nation of Trinidad & Tobago\, who can trace their ancestry back to Italy\, Scotland and India. Alex currently attends Queens High School for Language Studies in Flushing\, Queens and is scheduled to graduate in the Summer of 2021. \nPlease email Alex at alexamoroso4nyc@gmail.com to volunteer and help gather signatures. \n______________________________________________________________ \nANGELO KING\nRepublican candidate for NY City Council\, CD#24\nAngelo King was born in the Dominican Republic and immigrated to the United States as an infant. His father was an electrician\, and his mother was a seamstress who worked in a clothing factory in Williamsburg\, Brooklyn where they lived into his teenage years. He followed his father’s footsteps and became an electrical apprentice in 1998 and completed it in 2002 also gaining his Associates degree in Labor studies from Empire State College at the NYC Campus. He also graduated in 2011 with another associates degree in Construction Management Technology from NYC Technical College in Brooklyn. He is married with 3 children and has been living in Fresh Meadows Queens since 2007. \nDuring the COVID19 situation last year\, he observed that the city became unsafe and saw an increase of crime in his neighborhood. The Democrat leadership remained silent and did nothing to stop the chaos even to point of telling police to stand down. Angelo King decided to get into politics and join the Central Queens Republican Club in Queens. He is currently a Correspondent Secretary there and is seeking to become Candidate for the District 24 City Councilman seat. He wants to speak up for his community and not for the fame and fortune as his predecessors have done off the backs of taxpayers. His goal is to do the right thing as a Patriot and to protect the constitutional rights of his fellow residents.
URL:https://qvgop.org/event/next-general-club-meeting-2021-gop-candidates-forum/
LOCATION:Zoom
END:VEVENT
BEGIN:VEVENT
DTSTART;TZID=America/New_York:20210308T200000
DTEND;TZID=America/New_York:20210308T213000
DTSTAMP:20260421T073139
CREATED:20210226T042131Z
LAST-MODIFIED:20210226T042600Z
UID:11052-1615233600-1615239000@qvgop.org
SUMMARY:NYMetroACT March 2021 Meeting with Laura Loomer
DESCRIPTION:Monday\, March 8\, 2021 @ 8:00pm\nShe ran a spirited campaign in Florida\, but the Left and the media teamed up to prevent her win. It’s not over ’til it’s over- join us as Laura updates us- what happened\, what’s next\, and what we need to do to take the helm in the next election cycles. \n \nRSVP
URL:https://qvgop.org/event/nymetroact-march-2021-meeting-with-laura-loomer/
LOCATION:Zoom
END:VEVENT
BEGIN:VEVENT
DTSTART;TZID=America/New_York:20210322T200000
DTEND;TZID=America/New_York:20210322T213000
DTSTAMP:20260421T073139
CREATED:20210226T043317Z
LAST-MODIFIED:20210226T043504Z
UID:11058-1616443200-1616448600@qvgop.org
SUMMARY:NYMetroACT March 2021 Meeting with Katie Hopkins
DESCRIPTION:Monday\, March 22\, 2021 @ 8:00pm\nIf you think it’s any better in Britain\, think again!  Katie Hopkins is in the forefront of the fight\, and she’s a fearless purveyor of truth! This is a must-attend meeting that you don’t want to miss. She’s going out of her way for us- our meeting is after midnight in Britain. Join us! \n \nRSVP
URL:https://qvgop.org/event/nymetroact-march-2021-meeting-with-katie-hopkins/
LOCATION:Zoom
END:VEVENT
BEGIN:VEVENT
DTSTART;TZID=America/New_York:20210325T090000
DTEND;TZID=America/New_York:20210325T110000
DTSTAMP:20260421T073139
CREATED:20210116T181140Z
LAST-MODIFIED:20210226T035020Z
UID:10848-1616662800-1616670000@qvgop.org
SUMMARY:The 2021 International Gift of Life Walk - NYC
DESCRIPTION:
URL:https://qvgop.org/event/the-2021-international-gift-of-life-walk-nyc/
LOCATION:Foley Square\, Lafayette St\,\, Worth St.\, Center St.\, New York\, NY
END:VEVENT
BEGIN:VEVENT
DTSTART;TZID=America/New_York:20210331T160000
DTEND;TZID=America/New_York:20210331T180000
DTSTAMP:20260421T073139
CREATED:20210331T040613Z
LAST-MODIFIED:20210331T040613Z
UID:11118-1617206400-1617213600@qvgop.org
SUMMARY:NYC GOP Primary Debate
DESCRIPTION:
URL:https://qvgop.org/event/nyc-gop-primary-debate/
LOCATION:WABCradio.com
END:VEVENT
END:VCALENDAR