BEGIN:VCALENDAR
VERSION:2.0
PRODID:-//The Queens Village Republican Club Online - ECPv6.15.14//NONSGML v1.0//EN
CALSCALE:GREGORIAN
METHOD:PUBLISH
X-ORIGINAL-URL:https://qvgop.org
X-WR-CALDESC:Events for The Queens Village Republican Club Online
REFRESH-INTERVAL;VALUE=DURATION:PT1H
X-Robots-Tag:noindex
X-PUBLISHED-TTL:PT1H
BEGIN:VTIMEZONE
TZID:America/New_York
BEGIN:DAYLIGHT
TZOFFSETFROM:-0500
TZOFFSETTO:-0400
TZNAME:EDT
DTSTART:20190310T070000
END:DAYLIGHT
BEGIN:STANDARD
TZOFFSETFROM:-0400
TZOFFSETTO:-0500
TZNAME:EST
DTSTART:20191103T060000
END:STANDARD
BEGIN:DAYLIGHT
TZOFFSETFROM:-0500
TZOFFSETTO:-0400
TZNAME:EDT
DTSTART:20200308T070000
END:DAYLIGHT
BEGIN:STANDARD
TZOFFSETFROM:-0400
TZOFFSETTO:-0500
TZNAME:EST
DTSTART:20201101T060000
END:STANDARD
BEGIN:DAYLIGHT
TZOFFSETFROM:-0500
TZOFFSETTO:-0400
TZNAME:EDT
DTSTART:20210314T070000
END:DAYLIGHT
BEGIN:STANDARD
TZOFFSETFROM:-0400
TZOFFSETTO:-0500
TZNAME:EST
DTSTART:20211107T060000
END:STANDARD
END:VTIMEZONE
BEGIN:VEVENT
DTSTART;TZID=America/New_York:20201203T190000
DTEND;TZID=America/New_York:20201203T213000
DTSTAMP:20260421T124734
CREATED:20201121T042024Z
LAST-MODIFIED:20201121T042024Z
UID:10691-1607022000-1607031000@qvgop.org
SUMMARY:Next General Club Meeting: Christmas/Chanukah Party
DESCRIPTION:NEXT GENERAL CLUB MEETING: Thurs. Dec. 3\, 2020 at 7:00 pm\nCHRISTMAS/CHANUKAH DINNER PARTY\nat Nancy’s Restaurant\n255-41 Jericho Tpke\, Floral Park\, Queens\, 11001\n$50 per person\nRSVP: jtrent8830@aol.com or 718-343-8830\n\n \nSpecial Guest Speakers:\nREV. DANIEL ULYSSE\nChairman of Caribbean American Republican Assembly\,\nPresident\, Haitian American Republican Assembly\,\nOrganizer for Black Voices for Trump \n \nDIANE ATKINS\nNYS Co-Chair of the Mighty American Strike Force (MASF)\,\nCampaign Manager for Cathy Bernstein for Congress\nand proud NYC Republican activist.\nAdditional speakers to be announced. \nSee speaker bios below. Visit www.QVGOP.org for important updates \n  \nChristmas/Chanukah Party at Nancy’s Restaurant in Person!\n \nGood news for those tired of staying at home.  Our Club will be going ahead with its annual Christmas/Chanukah Party at one of our favorite dining venues: Nancy’s Restaurant at 255-41 Jericho Turnpike\, Floral Park (Queens.) \nDue to Covid-19 restrictions\, Nancy’s can only accommodate 39 people. Not one person more\, so it will be first come\, first served. Cost will be $50 per person (tax and tip included) and consists of a four-course dinner.  Cash bar service available.  The table layout will be six people per table. We will attempt to seat our members with whom they choose\, so let us know. Wear a face mask except when eating. Payment for this event is required for all attending. \nMenu Choices: potato bacon soup\, and choice of either caesar salad or mixed greens/tomatoes/carrots salad.  Choice of entrees: risotto with braised pork shoulder; grilled pork loin with spaetzle; fish and chips (cod); penne pasta with roasted chicken; fried chicken and French fries; Gnocchi with braised pork shoulder and mushrooms; grilled hanger steak. Dessert is bread pudding\, with caramel sauce\, whipped cream and vanilla ice cream. Soda and coffee or tea included. \nPlease RSVP at email: jtrent8830@aol.com\, or call 718-343-8830 and leave a message. Due to the limited number of reservations allowed\, please do not reserve unless you are committing to attending.  If your plans change\, please cancel as soon as possible. \n  \n \nGuest Speaker’s Bios\nREV. DANIEL ULYSSE\nDaniel Ulysse is an ordained Baptist minister\, a clinically trained Chaplain\, a social entrepreneur\, conservative Republican and a community organizer dedicated to God\, family\, country\, our soldiers and the law enforcement community. He is committed to building strong Haitian American communities in the U.S. and the sustainable development of Northern Haiti. \nRev. Ulysse became a community organizer during the 1982 Cuban Mariel Boat-lift crisis that brought thousands of Cubans and Haitians refugees to Miami FL. He volunteered at the Haitian Refugee Center\, produced community based radio and television programs to educate\, entertain and inform Haitians living in the diaspora. \nRev. Ulysse is also involved in several community based organizations in Haiti and the diaspora\, he is the founder of North Haiti Development Group an organization made of professionals involved in tourism\, agriculture\, health\, education\, construction\, maritime\, aviation and security. \nChaplain Ulysse is Chairman of the Caribbean American Republican Assembly\, President\, Haitian American Republican Assembly\, VP Haitians for Trump\, Black Voices for Trump member\, Queens Village Republican Club and other Republican associations\, and co-founder American Asian Caribbean Group building bridges among diverse communities. \nRev. Ulysse volunteered as an Auxilliary Police Officer with the NYPD and the USCG\, provides pastoral care on medical mission with his wife a medica doctor who provides free clinics in the Caribbean. \nAs a Chaplain\, Rev Ulysse is an agent of hope who enjoy public service\, empowering others and being present with people in crisis \nFor more info: Email danielulysse88@gmail.com Cell : (917) 216-7979 www.ncarassembly.com    \n  \nDIANE ATKINS\nDiane Atkins is a proud Republican and grassroots activist from Brooklyn\, NY. Her political activism started in 2012\, organizing protests in NYC and Washington\, DC against the unconstitutional policies of Barack Obama. She later joined several Republican clubs across NYC and volunteered on multiple campaigns. During the 2016 primaries\, she was a campaign Chairwoman in NYC’s CD11 for Ted Cruz for President\, and by October ‘16 was making GOTV phone calls from Trump Tower for Republican Presidential Nominee Donald J. Trump. Diane has organized multiple pro-Trump rallies in NYC\, including the very first post-election rally in support of our then newly elected President Trump! \n  \nLast October\, President Trump retweeted video of Diane and her friends storming Jerry Nadler’s DC office yelling “stop the coup” to protest the sham impeachment. She’s the NYS Coordinator for The Remembrance Project\, NYS Co-Chair of the Mighty American Strike Force (MASF) and was Campaign Manager for Cathy Bernstein for Congress in a race against Jerry Nadler\, where Bernstein received almost as many votes as the prior two Republican candidates combined. Diane’s appeared several times in audience panel discussions on Fox News shows and has been interviewed on camera\, radio\, and quoted in print by local\, national and international media outlets many times for her political activism\, including a recent invite from a Dutch TV program to discuss the election. Diane is proud that through her role with the MASF\, she helped facilitate the training of over 60 volunteers by the RNC/Trump Victory to make calls for President Trump and got dozens of volunteers out to Pennsylvania to door knock for President Trump the last few weeks before November’s election. And the fight for liberty continues! \n 
URL:https://qvgop.org/event/next-general-club-meeting-christmas-chanukah-party/
LOCATION:Nancy’s Restaurant\, 25541 Jericho Tpke\, Floral Park\, 11001
END:VEVENT
BEGIN:VEVENT
DTSTART;TZID=America/New_York:20201208T190000
DTEND;TZID=America/New_York:20201208T210000
DTSTAMP:20260421T124734
CREATED:20201208T041801Z
LAST-MODIFIED:20201208T041801Z
UID:10756-1607454000-1607461200@qvgop.org
SUMMARY:Dick Morris at the West Side Republican Club via Zoom
DESCRIPTION:Click Here to Sign up on Zoom
URL:https://qvgop.org/event/dick-morris-at-the-west-side-republican-club-via-zoom/
LOCATION:Zoom
END:VEVENT
BEGIN:VEVENT
DTSTART;TZID=America/New_York:20201221T200000
DTEND;TZID=America/New_York:20201221T213000
DTSTAMP:20260421T124734
CREATED:20201201T185835Z
LAST-MODIFIED:20201201T185835Z
UID:10735-1608580800-1608586200@qvgop.org
SUMMARY:NYMetroACT December Meeting
DESCRIPTION:
URL:https://qvgop.org/event/nymetroact-december-meeting/
LOCATION:Zoom
END:VEVENT
END:VCALENDAR