BEGIN:VCALENDAR
VERSION:2.0
PRODID:-//The Queens Village Republican Club Online - ECPv6.15.14//NONSGML v1.0//EN
CALSCALE:GREGORIAN
METHOD:PUBLISH
X-ORIGINAL-URL:https://qvgop.org
X-WR-CALDESC:Events for The Queens Village Republican Club Online
REFRESH-INTERVAL;VALUE=DURATION:PT1H
X-Robots-Tag:noindex
X-PUBLISHED-TTL:PT1H
BEGIN:VTIMEZONE
TZID:America/New_York
BEGIN:DAYLIGHT
TZOFFSETFROM:-0500
TZOFFSETTO:-0400
TZNAME:EDT
DTSTART:20190310T070000
END:DAYLIGHT
BEGIN:STANDARD
TZOFFSETFROM:-0400
TZOFFSETTO:-0500
TZNAME:EST
DTSTART:20191103T060000
END:STANDARD
BEGIN:DAYLIGHT
TZOFFSETFROM:-0500
TZOFFSETTO:-0400
TZNAME:EDT
DTSTART:20200308T070000
END:DAYLIGHT
BEGIN:STANDARD
TZOFFSETFROM:-0400
TZOFFSETTO:-0500
TZNAME:EST
DTSTART:20201101T060000
END:STANDARD
BEGIN:DAYLIGHT
TZOFFSETFROM:-0500
TZOFFSETTO:-0400
TZNAME:EDT
DTSTART:20210314T070000
END:DAYLIGHT
BEGIN:STANDARD
TZOFFSETFROM:-0400
TZOFFSETTO:-0500
TZNAME:EST
DTSTART:20211107T060000
END:STANDARD
END:VTIMEZONE
BEGIN:VEVENT
DTSTART;TZID=America/New_York:20201101T090000
DTEND;TZID=America/New_York:20201101T140000
DTSTAMP:20260421T143007
CREATED:20201030T021856Z
LAST-MODIFIED:20201030T021856Z
UID:10634-1604221200-1604239200@qvgop.org
SUMMARY:National Trump Day: The Greater NYC Area Unites As One
DESCRIPTION:Chovevei Zion Policy Fund invites everyone from Queens\,\nFive Towns\, & Staten Island to join the Brooklyn Car Rally\nin support of the re-election of \nPresident Donald J. Trump\nas it joins together with other groups from around NYC.\nCome early so you can decorate your vehicle with flags and paraphernalia.\nFor security reasons\, route will be given at event.\nFor more information\, and other rally points\, please visit\, czpolicy.fund/#ntd
URL:https://qvgop.org/event/national-trump-day-the-greater-nyc-area-unites-as-one/
LOCATION:Floyd Bennett Field\, 3159 Flatbush Ave.\, Brooklyn\, NY\, 11234
END:VEVENT
BEGIN:VEVENT
DTSTART;TZID=America/New_York:20201105T193000
DTEND;TZID=America/New_York:20201105T213000
DTSTAMP:20260421T143007
CREATED:20201017T034753Z
LAST-MODIFIED:20201105T022924Z
UID:10556-1604604600-1604611800@qvgop.org
SUMMARY:Next General Club Meeting: Post-Election Political Outlook
DESCRIPTION:Next General Club Meeting:\nThurs. Nov. 5\, 2020 at 7:30 pm\n \nRSVP to INFO@qvgop.org with your full name\, working email\, and mobile phone.  \nDeadline to RSVP is Thursday at 3:00 pm. \n______________________________________________________________________ \nPOST-ELECTION POLITICAL OUTLOOK\nWe are fighting and praying for the re-election victory of President Trump\, amid the chaos and fraud following the election. We present the following speakers who will discuss the post-election political outlook from a local and national perspective. We will start off with a special opening prayer for America and President Trump’s victory from Barbara from Harlem. Please join Zoom at 7:30 pm sharp!\nBARBARA FROM HARLEM\n \nShe calls herself a former Liberal by default and active with the NAACP and Charlie Rangel Club.\nShe walked away from the Democrat Party and is now telling the story of her awakening to the world\,\nthrough her book: “Escaping the Racism of Low Expectations.”\nMICAH MORRISON\n \nChief investigative reporter for America’s leading watchdog group\, Judicial Watch\nand a member of the Queens District 28 Community Education Council. \nANN SCHOCKETT\nPresident of the National Federation of Republican Women (NFRW)\, \npast Nassau County FRW President\, and our Lincoln Dinner Republican Woman of the Year.\n  \nRSVP for Zoom Club Meeting\nSend email request to INFO@qvgop.org with your full name\, working email\, and mobile phone.\nYou will receive the link before the Zoom Club Meeting.\n________________________________________________________________ \nBios of our Speakers:\n_________________________________________________________________ \nWho is Micah Morrison?\n  \nMicah Morrison\, Featured Speaker atQVGOP Columbus Day Dinner Meeting \nWho is Micah Morrison? I get that question a lot. \nI’ve spent more than thirty years as a working writer and editor\, mainly in investigative journalism\, usually on complicated and controversial stories. In November 2013\, I joined Judicial Watch as their chief investigative reporter. It’s a new age in journalism and a new chapter for me. I’m excited to be working with a great team of Freedom of Information Act investigators and litigators focused on government transparency and accountability. \nOver the years\, I’ve become known as someone who can handle big stories with precision and discretion. Not every story\, investigative or otherwise\, belongs in the public domain. Bob Bartley\, my great editor at the Wall Street Journal\, often said that “people complain about what we put in the paper—they should see what we keep out.” \nThe job of a good reporter is not only to find what to put in a story\, but to determine what to keep out. That goes double for investigative reporters. But with a lot of time and money riding on a big investigation\, it’s not easy to go to the boss and say what Gertrude Stein famously said of Oakland: “there is no there there.” \nIn 2011\, my investigative documentary\, “Iran’s Nuclear Secrets\,” appeared on Fox News. You can view it here. \nFrom 1994 through 2002\, I worked for the Wall Street Journal editorial page as a writer\, senior writer\, and finally chief investigative reporter with a focus on political scandal and financial crime. I led the Whitewater investigation of the Clinton Administration and reported on union fraud\, Indian casino gaming\, money laundering\, terrorism\, and the corrupt Bank of Credit & Commerce International. Along with Bob Bartley and Deputy Editorial Page Editor Melanie Kirkpatrick\, I edited the six-volume series\, Whitewater: A Wall Street Journal Briefing. I was nominated four times by the newspaper for the Pulitzer Prize: in the Editorial Writing category in 1997\, 1998\, and 1999; in the Investigative Reporting category in 2000. \nThe Whitewater investigation ruffled a few feathers. President Clinton’s allies mounted a vigorous counter-attack. You can read the Arkansas Democrat Gazette’s assault\, “Who Is Micah Morrison?\,” here. \nYou can read the Wall Street Journal’s response to that attack\, also titled “Who Is Micah Morrison?\,” here. \nPrior to joining the Journal\, I was a senior editor for Insight Magazine. I also worked for the American Spectator and the Committee for the Free World. A 1980 graduate of Bennington College\, I spent five years as a freelancer in the Middle East\, based in Jerusalem. \nIn 1993\, HarperCollins published my book\, Fire in Paradise: The Yellowstone Fires and the Politics of Environmentalism. Kirkus called it “a thrilling\, blow-by-blow account of the wildfire.” You can read the full review here. \nIn 2003\, after nearly a decade with the Journal\, I returned to freelancing\, focusing on investigative reporting\, consulting\, and book projects. I wrote a novel\, worked with some great clients\, and created the Iran documentary for Fox. Ten years later\, Judicial Watch came calling. Stay tuned for the next chapter. \nhttp://www.micahmorrison.com/  \n____________________________________________________________________________ \nAnn Schockett\n  \nAnn Schockett receives theRepublican Woman of the Year Awardat the Lincoln Dinner \nAnn Schockett was elected president of the National Federation of Republican Women (NFRW) at the 40th Biennial Convention in Indianapolis and took office in January 2020. Previously\, she served on the NFRW Executive Committee as 4th vice president and as member-at-large\, and was the advisor to the NFRW Campaign and Public Relations Committees. \nAnn’s 40 years of public service began when she was elected the youngest Republican State Committeeperson in New York State history. She has headed and advised in 43 election campaigns\, has overseen NYGOP fundraising efforts\, elections and special events and has worked with government and non-profit entities on all levels. Ann is a sought-after speaker and is widely recognized for her activism on local to national issues. She has been awarded in political areas as “Executive GOP Leader of the Year\,” “Woman of the Year” and “Republican Woman of the Year.” She leads by example in fostering Republican Party values and is dedicated to empowering women to become more active and fulfill leadership roles. A proud New Yorker\, Ann has served as Republican State Committeeperson and a GOP leader\, Nassau County FRW President\, and NYSFRW Corresponding Secretary and President. She is an NFRW Capitol Regent\, member of the NYGOP Empire Club and founder and host of the “F1rst Tuesday” national call in series. \nAnn is a businesswoman turned consultant and advises in areas such as public relations\, campaigns\, multi-media and business performance. She has been honored as “Business Advisor of the Year.” As a former producer\, director and host of corporate and commercial productions\, she has received local\, national and international media awards. \nInspired early on by her family who served our great nation in both world wars and who founded the community’s hospital center\, local Rotary International and synagogue\, Ann developed a deep commitment to country\, community and faith. She is a founding Board member of Save the Persecuted Christians\, serves on the Board of Regents for the Center for Security Policy and is a delegate to the World Zionist Congress. She was NYS’ first Congressional District Leader for HSUS and is a citizen lobbyist for humane legislation for animals. One of her favorite accomplishments was creating the Community Enrichment Mini-Center in NY dedicated to enhancing the lives and careers of people of all backgrounds\, providing for 13 non-profit and start-up organizations and serving as an independent Hurricane Relief Center during Superstorm Sandy. In the synagogue founded by her family in 1922\, Ann was involved in service and support. \nAnn’s three children and five grandchildren are her utmost joy and achievement\, propelling her to devote her time and energies to help secure their rights\, safety and freedoms in the greatest nation in the world. \nhttps://www.nfrw.org/schockett 
URL:https://qvgop.org/event/next-general-club-meeting-post-election-political-outlook/
LOCATION:Zoom
END:VEVENT
BEGIN:VEVENT
DTSTART;TZID=America/New_York:20201109T200000
DTEND;TZID=America/New_York:20201109T213000
DTSTAMP:20260421T143007
CREATED:20201030T022555Z
LAST-MODIFIED:20201030T022801Z
UID:10645-1604952000-1604957400@qvgop.org
SUMMARY:NY Metro ACT Twitter Brigade
DESCRIPTION:RSVP
URL:https://qvgop.org/event/ny-metro-act-twitter-brigade/
LOCATION:Zoom
END:VEVENT
BEGIN:VEVENT
DTSTART;TZID=America/New_York:20201111T193000
DTEND;TZID=America/New_York:20201111T213000
DTSTAMP:20260421T143007
CREATED:20201108T052910Z
LAST-MODIFIED:20201108T052910Z
UID:10661-1605123000-1605130200@qvgop.org
SUMMARY:Whitestone Republicans November Meeting - Election 2020 Review
DESCRIPTION:Whitestone Republicans November Meeting – Election 2020 Review\nWEDNESDAY\, NOVEMBER 11\, 2020 AT 7:30 PM EST\nGrace Episcopal Church of Whitestone\n14-15 Clintonville Street\, Whitestone\, N.Y. 11357\nTHE WHITESTONE REPUBLICAN CLUB IS BACK!!\nAfter many months of lockdown and not having a meeting space\, we return to Grace Episcopal Church. And the timing couldn’t be more critical.\nIn the aftermath of the most consequential and contentious presidential election in modern history\, the Whitestone Republican Club is holding it’s November meeting to review the 2020 election and to update everyone on the status of the election and the ballot count\, as well as for members to ask questions and share their feelings about the process we are currently engaged in. Our speakers\, to be announced\, will also share information and experiences from working in the election process.\nWe will also share updates on the local elections\, on the upcoming 2021 citywide and city council elections\, and on our club president Vickie Paladino’s campaign for city council in the 19th district.\nPlease RSVP to our club email at WhitesoneRepublicanClub@gmail.com to secure admittance. See you there. 
URL:https://qvgop.org/event/whitestone-republicans-november-meeting-election-2020-review/
LOCATION:Grace Episcopal Church\, 14-15 Clintonville Street\, Whitestone\, NY\, 11357\, United States
END:VEVENT
BEGIN:VEVENT
DTSTART;TZID=America/New_York:20201114T120000
DTEND;TZID=America/New_York:20201114T170000
DTSTAMP:20260421T143007
CREATED:20201112T044208Z
LAST-MODIFIED:20201112T044326Z
UID:10676-1605355200-1605373200@qvgop.org
SUMMARY:#StopTheSteal March For Trump
DESCRIPTION:Spread to social media\, Facebook\, Instagram\, Reddit… Donald J Trump took a stand for America\, now we need to take a stand for Donald J Trump!
URL:https://qvgop.org/event/stopthesteal-march-for-trump/
LOCATION:Freedom Plaza\, Washington DC
END:VEVENT
BEGIN:VEVENT
DTSTART;TZID=America/New_York:20201119T183000
DTEND;TZID=America/New_York:20201119T210000
DTSTAMP:20260421T143007
CREATED:20201011T182101Z
LAST-MODIFIED:20201011T182117Z
UID:10533-1605810600-1605819600@qvgop.org
SUMMARY:Bringing America Back to Life Fundraiser
DESCRIPTION:
URL:https://qvgop.org/event/bringing-america-back-to-life-fundraiser/
LOCATION:Seminary of the Immaculate Conception\, 440 West Neck Rd.\, Huntington\, NY\, 11743
END:VEVENT
BEGIN:VEVENT
DTSTART;TZID=America/New_York:20201123T200000
DTEND;TZID=America/New_York:20201123T213000
DTSTAMP:20260421T143007
CREATED:20201112T045943Z
LAST-MODIFIED:20201112T045943Z
UID:10682-1606161600-1606167000@qvgop.org
SUMMARY:NYMetroACT November Meeting
DESCRIPTION:
URL:https://qvgop.org/event/nymetroact-november-meeting/
LOCATION:Zoom
END:VEVENT
END:VCALENDAR