BEGIN:VCALENDAR
VERSION:2.0
PRODID:-//The Queens Village Republican Club Online - ECPv6.15.14//NONSGML v1.0//EN
CALSCALE:GREGORIAN
METHOD:PUBLISH
X-ORIGINAL-URL:https://qvgop.org
X-WR-CALDESC:Events for The Queens Village Republican Club Online
REFRESH-INTERVAL;VALUE=DURATION:PT1H
X-Robots-Tag:noindex
X-PUBLISHED-TTL:PT1H
BEGIN:VTIMEZONE
TZID:America/New_York
BEGIN:DAYLIGHT
TZOFFSETFROM:-0500
TZOFFSETTO:-0400
TZNAME:EDT
DTSTART:20190310T070000
END:DAYLIGHT
BEGIN:STANDARD
TZOFFSETFROM:-0400
TZOFFSETTO:-0500
TZNAME:EST
DTSTART:20191103T060000
END:STANDARD
BEGIN:DAYLIGHT
TZOFFSETFROM:-0500
TZOFFSETTO:-0400
TZNAME:EDT
DTSTART:20200308T070000
END:DAYLIGHT
BEGIN:STANDARD
TZOFFSETFROM:-0400
TZOFFSETTO:-0500
TZNAME:EST
DTSTART:20201101T060000
END:STANDARD
BEGIN:DAYLIGHT
TZOFFSETFROM:-0500
TZOFFSETTO:-0400
TZNAME:EDT
DTSTART:20210314T070000
END:DAYLIGHT
BEGIN:STANDARD
TZOFFSETFROM:-0400
TZOFFSETTO:-0500
TZNAME:EST
DTSTART:20211107T060000
END:STANDARD
END:VTIMEZONE
BEGIN:VEVENT
DTSTART;TZID=America/New_York:20201001T193000
DTEND;TZID=America/New_York:20201001T213000
DTSTAMP:20260421T161023
CREATED:20200924T032419Z
LAST-MODIFIED:20201001T194208Z
UID:10443-1601580600-1601587800@qvgop.org
SUMMARY:Next General Club Meeting: 2020 Elections\, President Trump and Justice Ginsburg
DESCRIPTION:Next General Club Meeting:\nThurs. Oct 1\, 2020 at 7:30 pm\n \nRSVP to INFO@qvgop.org with your full name\, working email\, and mobile phone. Thursday 3:00 PM is RSVP deadline.\n____________________________________________________________________ \nThis is the Most Important Election of our Lifetime!\nIn Support of the Victory of President Trump and our Republican candidates\, we present the following critical must-win local New York races: \nNICOLE MALLIOTAKIS\n \nRepublican Candidate for US Congress endorsed by President Trump. Former Mayoral Candidate and State Assemblywoman from Staten Island and Brooklyn District NY11. Visit Website for more information.  \nJOHN CUMMINGS\n \nRetired NYPD Officer and high school civics teacher from the Bronx. Republican candidate for US Congress in NY District 14 running against AOC. Visit Website for more information.  \n \nThe 2020 Elections\, President Trump and Justice Ginsburg\nPROFESSOR NICHOLAS GIORDANO\n \nNicholas Giordano\, Professor of Political Science at Suffolk County Community College\, will discuss the process and politics involved in the confirmation of the next Supreme Court Justice\, and the Democrat’s nefarious tactics to steal the election\, and why we must win!  Professor Giordano is the host of the P.A.S. Report Podcast and you can learn more about “Justice Ginsburg\, President Trump\, and the 2020 Elections” on his recent podcast. See bio below.  \nPlus the following Republican candidates will be speaking:\nTom Zmich\n \nRepublican candidate for US Congress in CD6 running agianst Rep. Grace Meng (D-Queens). Tom is a Union Member\, Veteran\, Congressional candidate representing America’s Silent Majority. Tom stands for protecting law enforcement\, defending America by stopping socialism and preserving our history\, and protecting our constitutional rights. See Website for more info.  \nRagini Srivastava\n \nNY State Assembly Candidate for District 16 (R-Great Neck) She stands for fighting crime\, stop defunding the police and repealing “Bail Reform.” She opposes the $1 billion commuter tax and virtual learning plan.  See Website for more info.  \nCathy Bernstein\n \nRepublican candidate running for Congress against Jerry Nadler in NY10. While Nadler plays politics in DC\, hardworking NYC taxpayers suffer. While Nadler is for defunding the police\, emptying prisons and sanctuary cities\, Cathy stands against them\, in order to protect our citizens and stand with law enforcement. The tide is turning and people are fed up with Democrat leadership and are ready to make a change. See Website for more information.  \nAdditional guest speakers and Republican candidates to be announced \nRSVP for Zoom Club Meeting:\nSend email request to INFO@qvgop.org with your full name\, working email\, and mobile phone. No sharing. Everyone needs to individually RSVP.  You will receive the link before the Zoom Club Meeting. Thursday 3:00 PM is RSVP deadline.\nPlease visit www.QVGOP.org for updates & more info \n__________________________________________________________________ \nMore about Professor Nicholas Giordano\nProfessor of Political Science at Suffolk Community College and host of The P.A.S. Report Podcast.  Recognized and well-respected for his analysis\, Professor Giordano appears on radio and television to provide analysis on current issues and trends within government\, politics\, international relations\, homeland security/emergency management\, and social/cultural related issues. In addition\, he is regularly called on to speak at events to provide expertise on critical issues facing the United States. \nIt is Professor Giordano’s passion that led him to start The P.A.S. Report. Sick of an advocacy news media that wants to dictate how to think\, Professor Giordano started The P.A.S. Report because of his unique ability to breakdown complex political issues and explaining those issues in a way to appeal to everyday Americans. By introducing facts\, the listeners can come to their own conclusions. \nFollow Professor Giordano on Twitter @PASReport or visit his website pasreport.com
URL:https://qvgop.org/event/next-general-club-meeting-2020-elections-president-trump-and-justice-ginsburg/
LOCATION:Zoom
CATEGORIES:General Club Meetings
END:VEVENT
BEGIN:VEVENT
DTSTART;TZID=America/New_York:20201001T200000
DTEND;TZID=America/New_York:20201001T220000
DTSTAMP:20260421T161023
CREATED:20200925T175721Z
LAST-MODIFIED:20200925T175721Z
UID:10453-1601582400-1601589600@qvgop.org
SUMMARY:Fundraiser in Support of Giovanni Perna for State Assembly
DESCRIPTION:
URL:https://qvgop.org/event/fundraiser-in-support-of-giovanni-perna-for-state-assembly/
LOCATION:The Cozy Corner\, 60-01 70th Ave.\, Ridgewood\, NY\, 11385
END:VEVENT
BEGIN:VEVENT
DTSTART;TZID=America/New_York:20201006T210000
DTEND;TZID=America/New_York:20201006T220000
DTSTAMP:20260421T161023
CREATED:20201005T035110Z
LAST-MODIFIED:20201005T040021Z
UID:10522-1602018000-1602021600@qvgop.org
SUMMARY:Volunteer to Reelect President Trump!
DESCRIPTION:SIGN UP AS AN MASF VOLUNTEER\nRSVP FOR THE TRAINING\nSEND YOUR NAME AND EMAIL TO DIANE ATKINS\n  \n 
URL:https://qvgop.org/event/volunteer-to-reelect-president-trump/
LOCATION:Zoom
END:VEVENT
BEGIN:VEVENT
DTSTART;TZID=America/New_York:20201011T123000
DTEND;TZID=America/New_York:20201011T140000
DTSTAMP:20260421T161023
CREATED:20201010T045049Z
LAST-MODIFIED:20201010T045631Z
UID:10528-1602419400-1602424800@qvgop.org
SUMMARY:Join the Boro Park Jewish Community Protesting for Religious Freedom!
DESCRIPTION:Join the Boro Park Jewish Community Protesting for Religious Freedom!\nSUNDAY OCTOBER 11\, 2020\n12:30 – 2:00 PM\nAt the corner of 13th Ave. and 45th Street\nBorough Park\, Brooklyn\n\nSupport Religious Freedom! Support the Jewish community in standing up to de Blasio’s and Cuomo’s religious oppression! Bring Trump signs\, flags\, signs with messages of support!\nWhile de Blasio ignores non-compliance in many NYC ethnic neighborhoods\, and excuses the BLM rioters as responding to “a historic moment of change\,” he singles out the Hassidic community with draconian lockdowns. Cuomo and de Blasio fan the flames of anti-Semitism blaming the Jews for spreading the virus\, and provoking the same age-old anti-Semitic tropes that the Jews of Germany and the Middle Ages spread disease and the plague.  \nWe are proud of and stand with our brothers and sisters of the Hassidic community for standing up for our 1st Amendment rights of Religious Freedom!\nThe best way to show our support on Election Day is to vote out every single Democrat politician who stood by in silence as Cuomo and de Blasio trampled the constitutional right of assembly and freedom of religion of Jews. Read the essay “Jewish Voters Beware:You Cannot Escape History” on the history of Anti-Semitism and why all American Jews must “make the final Exodus and kiss the new Democrat Party goodby.” 
URL:https://qvgop.org/event/join-the-boro-park-jewish-community-protesting-for-religious-freedom/
LOCATION:NY
END:VEVENT
BEGIN:VEVENT
DTSTART;TZID=America/New_York:20201012T200000
DTEND;TZID=America/New_York:20201012T213000
DTSTAMP:20260421T161023
CREATED:20201004T021829Z
LAST-MODIFIED:20201004T021829Z
UID:10517-1602532800-1602538200@qvgop.org
SUMMARY:Twitter/Parler Brigade Zoom Meeting
DESCRIPTION:
URL:https://qvgop.org/event/twitter-parler-brigade-zoom-meeting/
LOCATION:Zoom
END:VEVENT
BEGIN:VEVENT
DTSTART;TZID=America/New_York:20201013T150000
DTEND;TZID=America/New_York:20201013T160000
DTSTAMP:20260421T161023
CREATED:20201011T183033Z
LAST-MODIFIED:20201011T183033Z
UID:10539-1602601200-1602604800@qvgop.org
SUMMARY:Queens Parents Rally for our Schools
DESCRIPTION:
URL:https://qvgop.org/event/queens-parents-rally-for-our-schools/
LOCATION:PS 94Q\, 41-77 Little Neck Pkwy\, Little Neck\, NY\, 11363
END:VEVENT
BEGIN:VEVENT
DTSTART;TZID=America/New_York:20201013T190000
DTEND;TZID=America/New_York:20201013T210000
DTSTAMP:20260421T161023
CREATED:20201003T021659Z
LAST-MODIFIED:20201003T115847Z
UID:10504-1602615600-1602622800@qvgop.org
SUMMARY:WSRC Zoom Meeting: The Permanent Coup
DESCRIPTION:Lee Smith: The Permanent Coup\n \n\nThe Permanent Coup\nSpeaking on his recently released book\, “The Permanent Coup: How Enemies Foreign and Domestic Targeted the American President\,” crusading investigative journalist Lee Smith reveals who is responsible for targeting President Trump\, from the phony Russia collusion narrative to the riots ruining our cities.  Join the timely pre-election Zoom meeting of the Gertrude and Morrison Parker West Side Republican Club to hear this 30-year veteran journalist name names — including Barack Obama\, Joe Biden and senior military officials – of those who engineered a coup against a sitting president.\nTime and Location\n7 p.m.\nTuesday\, October 13\, 2020\nNo RSVP Required\nZoom Meeting Link\nClick The Below Link to Open Zoom\nwestsiderepublicanclub.org/zoom \nDial Into Meeting\n929.205.6099\nMeeting ID: 865.3652.9921 # \nWebsite and Email\ninfo@westsiderepublicanclub.org\nwestsiderepublicanclub.org/next
URL:https://qvgop.org/event/wsrc-zoom-meeting-the-permanent-coup/
LOCATION:Zoom
END:VEVENT
BEGIN:VEVENT
DTSTART;TZID=America/New_York:20201014T210000
DTEND;TZID=America/New_York:20201014T220000
DTSTAMP:20260421T161023
CREATED:20201012T024543Z
LAST-MODIFIED:20201012T024543Z
UID:10542-1602709200-1602712800@qvgop.org
SUMMARY:Volunteer to Reelect President Trump Zoom Training
DESCRIPTION:
URL:https://qvgop.org/event/volunteer-to-reelect-president-trump-zoom-training/
LOCATION:Zoom
END:VEVENT
BEGIN:VEVENT
DTSTART;TZID=America/New_York:20201018T120000
DTEND;TZID=America/New_York:20201018T160000
DTSTAMP:20260421T161023
CREATED:20201014T032955Z
LAST-MODIFIED:20201014T033434Z
UID:10546-1603022400-1603036800@qvgop.org
SUMMARY:Day of Action to help Nicole Malliotakis win!
DESCRIPTION:Join us for a Day of Action to help Nicole Malliotakis win!\nSUNDAY OCT. 18\, 2020\n1:00 PM – 4:00 PM\nKNIGHTS OF COLUMBUS OF DYKER HEIGHTS\n1305 86th Street\nBrooklyn\, NY 11228\n*** Carpool leaving from Queens Village 12 Noon ***\nMeet at 12 Noon in front of\nMartin Van Buren High School\n230-17 Hillside Avenue\, Queens Village\, NY 11427\nRSVP to INFO@QVGOP.ORG\nWe must take back the House and this is one of the nation’s most critical seats to flip to RED!!!\n\nState Assemblywoman Malliotakis is the Staten Island-Brooklyn\nRepublican Candidate for Congress endorsed by\nPresident Trump. Visit Website \nJoin us for the Day of Action for Nicole’s campaign knocking on doors\, handing out literature or making phone calls. You will get a walk list of voters or work from the Advantage Mobile voter contact app. You will be trained how to use it.  Go to your App Store or Play Store and download Advantage Mobile to be ready before Sunday. \nRSVP to INFO@QVGOP.ORG to join the Day of Action for Nicole!\n\nDyker Heights Knights of Columbus
URL:https://qvgop.org/event/day-of-action-to-help-nicole-malliotakis-win/
LOCATION:KNIGHTS OF COLUMBUS OF DYKER HEIGHTS\, 1305 86th Street\, Brooklyn\, NY\, 11228
END:VEVENT
BEGIN:VEVENT
DTSTART;TZID=America/New_York:20201025T140000
DTEND;TZID=America/New_York:20201025T160000
DTSTAMP:20260421T161023
CREATED:20201021T195216Z
LAST-MODIFIED:20201023T174644Z
UID:10583-1603634400-1603641600@qvgop.org
SUMMARY:Freedom Rally in Eisenhower Park
DESCRIPTION:
URL:https://qvgop.org/event/freedom-rally-in-eisenhower-park/
LOCATION:Eisenhower Park\, East Meadow\, NY\, 11554
END:VEVENT
BEGIN:VEVENT
DTSTART;TZID=America/New_York:20201026T200000
DTEND;TZID=America/New_York:20201026T213000
DTSTAMP:20260421T161023
CREATED:20201003T023952Z
LAST-MODIFIED:20201003T023952Z
UID:10511-1603742400-1603747800@qvgop.org
SUMMARY:NYMetroAct Zoom Meeting with Prof. Nick Giordano
DESCRIPTION:RSVP
URL:https://qvgop.org/event/nymetroact-zoom-meeting-with-prof-nick-giordano/
LOCATION:Zoom
END:VEVENT
BEGIN:VEVENT
DTSTART;TZID=America/New_York:20201027T200000
DTEND;TZID=America/New_York:20201027T210000
DTSTAMP:20260421T161023
CREATED:20201027T141321Z
LAST-MODIFIED:20201027T141321Z
UID:10622-1603828800-1603832400@qvgop.org
SUMMARY:Mighty American Strike Force NATIONAL MEETING - TONIGHT!
DESCRIPTION:MIGHTY AMERICAN STRIKE FORCE \nNATIONAL MEETING – TONIGHT!!!\n  \n\n\n\n\n\n\n\n\n\n\n\n\n\n\n\nThe Mighty American Strike Force will host a National Zoom Call Meeting for all Volunteers\, Donors\, and Friends\, TONIGHT\, Tuesday\, October 27th\, at 8:00 pm Central Time.   The meeting will then recur every other night at 8:00 pm Central Time thru Election Eve\, November 2nd. \nWe hope all volunteers can join us and that you will share this email with College Republicans\, Students for Trump\, Women for Trump\, Young Republicans\, Moms for America\, and any other contacts you may have that might want to join our campaign effort. \n \nThe call will also offer participants an opportunity to report any incidents of voter fraud you may have become aware of.  We will also provide Reports from Battleground states across the nation and have a surprise guest VIP speaker on each call.\n \nIf you\, or anyone you know\, wants to deploy with MASF but does not yet have a deployment assignment\, please email us immediately at:  info@mightyamericanstrikeforce.org   We need your name\, email\, mobile\, home city\, and where you would like to deploy.  Please also go to MASF.online to sign up to volunteer or make a financial contribution to support our grassroots campaign efforts.\n \nWe are currently seeking more volunteers to deploy immediately thru November 3rd to the following battleground states:  Michigan\, Wisconsin\, Minnesota\, Pennsylvania\, Iowa\, New Hampshire\, Nevada\, Maine\, Arizona\, Colorado\, Florida\, Georgia\, North Carolina\, and Texas.\n \nThe passcode below will be required to join each call.\n \nTopic: MIGHTY AMERICAN STRIKE FORCE NATIONAL MEETINGS for updates from the battleground states nationwide\nTime: Oct 21\, 2020 08:00 PM Central Time (US and Canada)\n        Every 2 days\, until Nov 2\, 2020\, 7 occurrence(s)\n        Oct 21\, 2020 08:00 PM\n        Oct 23\, 2020 08:00 PM\n        Oct 25\, 2020 08:00 PM\n        Oct 27\, 2020 08:00 PM\n        Oct 29\, 2020 08:00 PM\n        Oct 31\, 2020 08:00 PM\n        Nov 2\, 2020 08:00 PM\nPlease download and import the following iCalendar (.ics) files to your calendar system.\nDaily: https://us02web.zoom.us/meeting/tZYuf-qgqjMrHNGbAt-iQhFpCVt5JRE6tbZs/ics?icsToken=98tyKuGqrTMpEtCdsR-CRpwQA4qgb_zwiFxcgo16nj7xTiliaiXmFdRWZ5hNNY7E\n \nJoin Zoom Meeting\n \nhttps://us02web.zoom.us/j/82383848165?pwd=WWtPTm1XckpUVU1Ccklwd3F0WGJaUT09\n \n \nMeeting ID: 823 8384 8165\nPasscode: 032777\nOne tap mobile\n+13462487799\,\,82383848165#\,\,\,\,\,\,0#\,\,032777# US (Houston)\n+16699009128\,\,82383848165#\,\,\,\,\,\,0#\,\,032777# US (San Jose)\n \nDial by your location\n        +1 346 248 7799 US (Houston)\n        +1 669 900 9128 US (San Jose)\n        +1 253 215 8782 US (Tacoma)\n        +1 312 626 6799 US (Chicago)\n        +1 646 558 8656 US (New York)\n        +1 301 715 8592 US (Germantown)\nMeeting ID: 823 8384 8165\nPasscode: 032777\n \n\n\n\n\n\n\n\n\n\n\n\n\n\n\n\nLet’s turn America RED!\n \nWarmly\,\n \nRick Potter\, National Chairman\nRhonda Lacy\, National Co-Chairman\nMighty American Strike Force
URL:https://qvgop.org/event/mighty-american-strike-force-national-meeting-tonight/
LOCATION:Zoom
END:VEVENT
END:VCALENDAR