BEGIN:VCALENDAR
VERSION:2.0
PRODID:-//The Queens Village Republican Club Online - ECPv6.15.14//NONSGML v1.0//EN
CALSCALE:GREGORIAN
METHOD:PUBLISH
X-WR-CALNAME:The Queens Village Republican Club Online
X-ORIGINAL-URL:https://qvgop.org
X-WR-CALDESC:Events for The Queens Village Republican Club Online
REFRESH-INTERVAL;VALUE=DURATION:PT1H
X-Robots-Tag:noindex
X-PUBLISHED-TTL:PT1H
BEGIN:VTIMEZONE
TZID:America/New_York
BEGIN:DAYLIGHT
TZOFFSETFROM:-0500
TZOFFSETTO:-0400
TZNAME:EDT
DTSTART:20190310T070000
END:DAYLIGHT
BEGIN:STANDARD
TZOFFSETFROM:-0400
TZOFFSETTO:-0500
TZNAME:EST
DTSTART:20191103T060000
END:STANDARD
BEGIN:DAYLIGHT
TZOFFSETFROM:-0500
TZOFFSETTO:-0400
TZNAME:EDT
DTSTART:20200308T070000
END:DAYLIGHT
BEGIN:STANDARD
TZOFFSETFROM:-0400
TZOFFSETTO:-0500
TZNAME:EST
DTSTART:20201101T060000
END:STANDARD
BEGIN:DAYLIGHT
TZOFFSETFROM:-0500
TZOFFSETTO:-0400
TZNAME:EDT
DTSTART:20210314T070000
END:DAYLIGHT
BEGIN:STANDARD
TZOFFSETFROM:-0400
TZOFFSETTO:-0500
TZNAME:EST
DTSTART:20211107T060000
END:STANDARD
END:VTIMEZONE
BEGIN:VEVENT
DTSTART;TZID=America/New_York:20200903T193000
DTEND;TZID=America/New_York:20200903T220000
DTSTAMP:20260421T174603
CREATED:20200816T191230Z
LAST-MODIFIED:20200903T163617Z
UID:10230-1599161400-1599170400@qvgop.org
SUMMARY:NEXT GENERAL CLUB MEETING: Special Dinner Meeting under Triple Crown Diner Tent
DESCRIPTION:NEXT GENERAL CLUB MEETING: Thurs. Sept. 3\, 2020 at 7:30 pm\n \nSpecial Dinner Meeting under the Triple Crown Diner Tent\n248-27 Jericho Tpke. Bellerose\, NY 11426\n*** THIS EVENT IS FULL TO CAPACITY\nAND RESERVATIONS ARE NOW CLOSED ***\nUpdate from the War Room Pandemic featuring: \nSTEVE BANNON\n \nOur Lincoln Dinner Keynote Speaker\nFormer White House Chief Strategist \n  \nAlso featuring guest speaker:  \nBevelyn Beatty\n \nEvangelist and co-founder of At The Well Ministries\nIn a Facebook video that went viral\, Bevelyn spread paint across the BLM mural on 5th Ave. outside Trump Tower. See bio below. \nPlus additional guest speakers and local Republican candidates \nRSVP for Dinner Meeting: Send your RSVP to INFO@qvgop.org with your full name\, working email and phone. Seating is limited to the first 75 reservations due to social distancing practices.  All reserved guests will make their selections from the dinner special menu or the regular Triple Crown dinner menu. Dinner specials include complimentary glass of Wine\, Dessert & Coffee.  All dinner menu selections to be paid directly to the restaurant. See dinner special menu with prices below.  \nWe are pleased to announce that our featured speaker\, Steve Bannon is confirmed. He will be speaking to us live from the War Room Pandemic via video conferencing and will be discussing up to the minute national security policy issues and politics. \n____________________________________________ \nBevelyn Beatty\n \nBevelyn Beatty was born in Staten Island\, New York\, and soon after moved\nto North Carolina where she spent the majority of her childhood. In her\nformative years as a child\, her parents separated\, and she was raised in an\nenvironment of instability\, turmoil\, and both sexual and physical abuse. \nA product of a broken culture\, she acted out with rebellious behavior from\na young age. She developed a negative image of men which was more\ndeeply confirmed through repeated experiences. Men were after one\nthing\, and one thing only\, just like her father had told her as a teenager.\nHaving had her first abortion at 15 and later dropping out of high school\,\nshe continued on a self-destructive path centered around dating\, drugs\,\nand drinking. She would go on to have two more abortions during that\ntime. \nLiving a carefree lifestyle and needing a large sum of money to catch up on past\ndue rent payments\, she was caught and arrested for money laundering from her\nemployer. While in jail awaiting bail for 7 days\, she met a woman who had the\nGod-given ability to see her internal struggle with depression that she had kept\nsecret for quite some time. The woman told her that if she did not change her life\,\nthe next step for her would be the grave. Bevelyn knew in her heart this was true\nand upon her release moved forward with the determination to choose a new\npath. \nNot long after\, working for a non-profit women’s organization\, she was raising\nawareness and fundraising from people on the street in front of the Trump\nTowers in New York City. She met a woman named Edmee who patiently listened\nto her explanation of all the things they were doing to help young girls. After\ncompleting her pitch\, Edmee responded\, “I could give you money\, but if these girls\ndon’t know Jesus\, nothing will change.” Bevelyn knew deep down that this was\ntrue\, and with curiosity sparked by their conversation\, proceeded to get to know\nEdmee more in the coming weeks. Shortly after Edmee began discipling Bevelyn\nand they began working alongside one another to pursue the ministry God had\ncalled them to; feeding the hungry\, healing the sick\, and sharing the Gospel of\nJesus Christ. In short\, sharing the truth that until Jesus Matters\, nothing else\nmatters.\n____________________________________________ \n 
URL:https://qvgop.org/event/next-general-club-meeting-special-dinner-meeting-under-triple-crown-diner-tent/
LOCATION:Triple Crown Diner\, 248-27 Jericho Turnpike\, Bellerose\, NY\, 11426
END:VEVENT
BEGIN:VEVENT
DTSTART;TZID=America/New_York:20200908T210000
DTEND;TZID=America/New_York:20200908T220000
DTSTAMP:20260421T174603
CREATED:20200903T161751Z
LAST-MODIFIED:20200903T161751Z
UID:10302-1599598800-1599602400@qvgop.org
SUMMARY:"Trump Talk" Zoom Training with Mighty American Strike Force
DESCRIPTION:TRUMP TALK\nSIGN UP FOR  MASF TRUMP TALK ZOOM TRAINING \nZOOM TRAINING DATE: SEPT 8TH AT 9PM\n \nThe Mighty American Strike Force (MASF) was the driving force behind the ground and calling campaign which carried PA to victory and helped Trump win in 2016! You can be part of the army of volunteers making calls from home for President Trump’s re-election victory on Nov 3rd!\n“Trump Talk” is the application the Trump campaign uses to call voters nationwide. After being trained\, volunteers can make calls from home or on the go using the application on their smart phone\, laptop or pc. The training will be facilitated by the Mighty American Strike Force (MASF)\, a group that deploys volunteers to battleground states for GOP elections nationwide. They work directly with the Trump campaign and in 2016\, supplied free buses/vans for volunteers in NYC to go to PA for GOTV canvassing for Trump. Which they’ll do again 2 wks before the election this year.\n  \nIf you would like to be included in the online Zoom training do the following:\n  \n1) Sign up as a Volunteer on the MASF website at  https://masf.online/volunteer\n\n2) Email your Name\, Tel # and Email Address to INFO@QVGOP.ORG for the Zoom training session. You will be notified by email about the training.\n  \n*That info will be forwarded to MASF so that login credentials are assigned to volunteers directly from the Trump campaign. Individual username & password will then be sent directly to you via the email address you’ve provided. Then you can start making calls for President Trump!
URL:https://qvgop.org/event/trump-talk-zoom-training-with-mighty-american-strike-force/
LOCATION:Zoom
END:VEVENT
BEGIN:VEVENT
DTSTART;TZID=America/New_York:20200915T180000
DTEND;TZID=America/New_York:20200915T200000
DTSTAMP:20260421T174603
CREATED:20200903T155529Z
LAST-MODIFIED:20200903T155919Z
UID:10297-1600192800-1600200000@qvgop.org
SUMMARY:Dave Franklin "Stars & Stripes Forever" Fundraiser
DESCRIPTION:
URL:https://qvgop.org/event/dave-franklin-stars-stripes-forver-fundraiser/
LOCATION:The Davenport Press Restaurant\, 70 Main Street\, Mineola\, NY\, 11501
END:VEVENT
BEGIN:VEVENT
DTSTART;TZID=America/New_York:20200921T200000
DTEND;TZID=America/New_York:20200921T220000
DTSTAMP:20260421T174603
CREATED:20200903T154445Z
LAST-MODIFIED:20200903T161720Z
UID:10294-1600718400-1600725600@qvgop.org
SUMMARY:NYMetroACT Zoom Meeting with Chicago Police Chief Joe Lukaszek
DESCRIPTION:RSVP
URL:https://qvgop.org/event/nymetroact-zoom-meeting-with-chicago-police-chief-joe-lukaszek/
LOCATION:Zoom
END:VEVENT
BEGIN:VEVENT
DTSTART;TZID=America/New_York:20200922T180000
DTEND;TZID=America/New_York:20200922T210000
DTSTAMP:20260421T174603
CREATED:20200912T192612Z
LAST-MODIFIED:20200918T202543Z
UID:10330-1600797600-1600808400@qvgop.org
SUMMARY:Fundraiser to Support Giovanni Perna
DESCRIPTION:
URL:https://qvgop.org/event/fundraiser-to-support-giovanni-perna/
LOCATION:The Cozy Corner\, 60-01 70th Ave.\, Ridgewood\, NY\, 11385
END:VEVENT
END:VCALENDAR