BEGIN:VCALENDAR
VERSION:2.0
PRODID:-//The Queens Village Republican Club Online - ECPv6.15.14//NONSGML v1.0//EN
CALSCALE:GREGORIAN
METHOD:PUBLISH
X-ORIGINAL-URL:https://qvgop.org
X-WR-CALDESC:Events for The Queens Village Republican Club Online
REFRESH-INTERVAL;VALUE=DURATION:PT1H
X-Robots-Tag:noindex
X-PUBLISHED-TTL:PT1H
BEGIN:VTIMEZONE
TZID:America/New_York
BEGIN:DAYLIGHT
TZOFFSETFROM:-0500
TZOFFSETTO:-0400
TZNAME:EDT
DTSTART:20190310T070000
END:DAYLIGHT
BEGIN:STANDARD
TZOFFSETFROM:-0400
TZOFFSETTO:-0500
TZNAME:EST
DTSTART:20191103T060000
END:STANDARD
BEGIN:DAYLIGHT
TZOFFSETFROM:-0500
TZOFFSETTO:-0400
TZNAME:EDT
DTSTART:20200308T070000
END:DAYLIGHT
BEGIN:STANDARD
TZOFFSETFROM:-0400
TZOFFSETTO:-0500
TZNAME:EST
DTSTART:20201101T060000
END:STANDARD
BEGIN:DAYLIGHT
TZOFFSETFROM:-0500
TZOFFSETTO:-0400
TZNAME:EDT
DTSTART:20210314T070000
END:DAYLIGHT
BEGIN:STANDARD
TZOFFSETFROM:-0400
TZOFFSETTO:-0500
TZNAME:EST
DTSTART:20211107T060000
END:STANDARD
END:VTIMEZONE
BEGIN:VEVENT
DTSTART;TZID=America/New_York:20200802T120000
DTEND;TZID=America/New_York:20200802T130000
DTSTAMP:20260421T193116
CREATED:20200801T014344Z
LAST-MODIFIED:20200801T014344Z
UID:10160-1596369600-1596373200@qvgop.org
SUMMARY:Join the Freedom Rally
DESCRIPTION:
URL:https://qvgop.org/event/join-the-freedom-rally/
LOCATION:Nassau Legislative Building\, 1550 Franklin Ave.\, Mineola\, NY
END:VEVENT
BEGIN:VEVENT
DTSTART;TZID=America/New_York:20200803T190000
DTEND;TZID=America/New_York:20200803T200000
DTSTAMP:20260421T193116
CREATED:20200801T035825Z
LAST-MODIFIED:20200801T035825Z
UID:10174-1596481200-1596484800@qvgop.org
SUMMARY:Car Parade to Support NCPD
DESCRIPTION:
URL:https://qvgop.org/event/car-parade-to-support-ncpd/
LOCATION:Macy’s\, Community Drive
END:VEVENT
BEGIN:VEVENT
DTSTART;TZID=America/New_York:20200804T190000
DTEND;TZID=America/New_York:20200804T210000
DTSTAMP:20260421T193116
CREATED:20200801T033735Z
LAST-MODIFIED:20200801T033735Z
UID:10164-1596567600-1596574800@qvgop.org
SUMMARY:Immigration: What’s on the Horizon?
DESCRIPTION:Immigration: What’s on the Horizon?\n\n\n\n\n​​\n\n\n\n\nMark Krikorian\nNationally recognized expert on immigration and executive director of the Center for Immigration Studies\, Mark Krikorian\, illuminates one of the pillars of the Trump 2020 campaign\, speaking on\, “Immigration: What’s on the Horizon?” Come hear what to expect on the immigration issue in the campaign and beyond from this sought-after speaker and author at the next Zoom meeting of the Gertrude and Morrison Parker West Side Republican Club.\n\n\n\n\n  \n\n\n\n\nTime and Location\n7 p.m.\nTuesday\, August 4\, 2020\nNo RSVP Required \nZoom Meeting Link\nClick The Below Link to Open Zoom\nwestsiderepublicanclub.org/zoom \nDial Into Meeting\n929.205.6099\nMeeting ID: 865.3652.9921 # \nWebsite and Email\ninfo@westsiderepublicanclub.org\nwestsiderepublicanclub.org/next\n\n\n\n\n \n \n \n \n \n\n\n\n\n\n\n\n\n\n \n \n \n \n \n\n\n \nHave Zoom Questions?  \nEmail us info@westsiderepublicanclub.org\nor \nVisit our Zoom Frequently Asked Questions Page\nwestsiderepublicanclub.org/zoom-faq\n\n​\n\n\n \n \n \n \n \n\n\n\n\n\n\n\n\n\n \n \n \n \n \n\n\n \nBecome a Member! \nKeep events like these happening by renewing your membership or join the West Side Republican club today on our Member Planet website! \nJoin Now\nwestsiderepublicanclub.org/join\n \n​\n\n\n \n \n \n \n \n\n\n\n\n\n\n\n\n\n \n \n \n \n \n\n\n \n\nUpcoming Club Events \nSeptember 8\, 2020\nOctober 13\, 2020\nNovember 10\, 2020\nDecember 01\, 2020 \nOn the Web\nwestsiderepublicanclub.org/upcoming \nAlways Updated in Your Calendar App\nwestsiderepublicanclub.org/calendar\n \n\n\n\n \n \n \n \n \n\n\n\n\n\nPAID FOR BY THE GERTRUDE & MORRISON PARKER WEST SIDE REPUBLICAN CLUB\nNOT AUTHORIZED BY ANY CANDIDATE OR CANDIDATE COMMITTEE\n100 W. 57TH ST. STE. 14J; NEW YORK\, NY 10019-3497\n  \n  \n 
URL:https://qvgop.org/event/immigration-whats-on-the-horizon/
LOCATION:Zoom
END:VEVENT
BEGIN:VEVENT
DTSTART;TZID=America/New_York:20200806T173000
DTEND;TZID=America/New_York:20200806T183000
DTSTAMP:20260421T193116
CREATED:20200801T034853Z
LAST-MODIFIED:20200805T170146Z
UID:10168-1596735000-1596738600@qvgop.org
SUMMARY:Rescheduled for Thursday: STOP the Halfway House at Wyndham Garden
DESCRIPTION:
URL:https://qvgop.org/event/10168/
LOCATION:Wyndham Garden Hotel\, 6127 186 St.\, Fresh Meadows\, NY\, 11365
END:VEVENT
BEGIN:VEVENT
DTSTART;TZID=America/New_York:20200808T130000
DTEND;TZID=America/New_York:20200808T170000
DTSTAMP:20260421T193116
CREATED:20200706T214232Z
LAST-MODIFIED:20200713T034120Z
UID:10102-1596891600-1596906000@qvgop.org
SUMMARY:10th Annual Club BBQ Garden Party
DESCRIPTION:RSVP\nPRINT FLYER
URL:https://qvgop.org/event/10th-annual-club-bbq-garden-party/
LOCATION:Jim Trent\, 242-33 90th Ave\, Bellerose\, NY\, 11426\, United States
END:VEVENT
BEGIN:VEVENT
DTSTART;TZID=America/New_York:20200821T110000
DTEND;TZID=America/New_York:20200821T140000
DTSTAMP:20260421T193116
CREATED:20200812T020255Z
LAST-MODIFIED:20200812T020255Z
UID:10217-1598007600-1598018400@qvgop.org
SUMMARY:Join QVGOP Celebrating "The Jewels of Jamaica" at the King Manor Museum
DESCRIPTION:Join QVGOP Celebrating “The Jewels of Jamaica” at the King Manor Museum\nThe Queens Village Republican Club will have a vendor’s table at the King Manor Museum on Friday August 21st\, and we will be promoting the  great benefits of joining our club and the Republican Party\, handing out flags\, voter registration forms and patriotic giveaways. The King Manor Museum is the historic home of Rufus King\, Founding Father\, framer of the Constitution\, and early voice in the anti-slavery movement.\nThis event is sponsored by the Queens Chronicle\, serving the Queens community for over 41 years. Contact Ree Brinn for more information: 718-669-0628
URL:https://qvgop.org/event/join-qvgop-celebrating-the-jewels-of-jamaica-at-the-king-manor-museum/
LOCATION:King Manor Museum\, 150-03 Jamiaca Ave.\, Jamaica\, NY\, United States
END:VEVENT
BEGIN:VEVENT
DTSTART;TZID=America/New_York:20200823T180000
DTEND;TZID=America/New_York:20200823T200000
DTSTAMP:20260421T193116
CREATED:20200819T180502Z
LAST-MODIFIED:20200819T180502Z
UID:10244-1598205600-1598212800@qvgop.org
SUMMARY:Queens India Day Celebrations
DESCRIPTION:
URL:https://qvgop.org/event/queens-india-day-celebrations/
LOCATION:Zoom
END:VEVENT
BEGIN:VEVENT
DTSTART;TZID=America/New_York:20200824T200000
DTEND;TZID=America/New_York:20200824T220000
DTSTAMP:20260421T193116
CREATED:20200804T171731Z
LAST-MODIFIED:20200804T171731Z
UID:10193-1598299200-1598306400@qvgop.org
SUMMARY:NYMetroACT Zoom Meeting with Chicago Chief of Police Joe Lukaszek
DESCRIPTION:
URL:https://qvgop.org/event/nymetroact-zoom-meeting-with-chicago-chief-of-police-joe-lukaszek/
LOCATION:Zoom
END:VEVENT
BEGIN:VEVENT
DTSTART;TZID=America/New_York:20200828T180000
DTEND;TZID=America/New_York:20200828T190000
DTSTAMP:20260421T193116
CREATED:20200827T193503Z
LAST-MODIFIED:20200828T180951Z
UID:10275-1598637600-1598641200@qvgop.org
SUMMARY:Rally in Support for Men & Women of Law Enforcement
DESCRIPTION:
URL:https://qvgop.org/event/rally-in-sopport-for-men-women-of-law-enforcement/
LOCATION:Veterans Memorial Park\, 2 Floral Pkwy\, Floral Park\, NY
END:VEVENT
BEGIN:VEVENT
DTSTART;TZID=America/New_York:20200831T200000
DTEND;TZID=America/New_York:20200831T220000
DTSTAMP:20260421T193116
CREATED:20200827T193111Z
LAST-MODIFIED:20200827T193111Z
UID:10271-1598904000-1598911200@qvgop.org
SUMMARY:NYMetroACT Twitter Brigade Meeting with Laura Loomer
DESCRIPTION:RSVP
URL:https://qvgop.org/event/nymetroact-twitter-brigade-meeting-with-laura-loomer/
LOCATION:Zoom
END:VEVENT
END:VCALENDAR