BEGIN:VCALENDAR
VERSION:2.0
PRODID:-//The Queens Village Republican Club Online - ECPv6.15.14//NONSGML v1.0//EN
CALSCALE:GREGORIAN
METHOD:PUBLISH
X-WR-CALNAME:The Queens Village Republican Club Online
X-ORIGINAL-URL:https://qvgop.org
X-WR-CALDESC:Events for The Queens Village Republican Club Online
REFRESH-INTERVAL;VALUE=DURATION:PT1H
X-Robots-Tag:noindex
X-PUBLISHED-TTL:PT1H
BEGIN:VTIMEZONE
TZID:America/New_York
BEGIN:DAYLIGHT
TZOFFSETFROM:-0500
TZOFFSETTO:-0400
TZNAME:EDT
DTSTART:20190310T070000
END:DAYLIGHT
BEGIN:STANDARD
TZOFFSETFROM:-0400
TZOFFSETTO:-0500
TZNAME:EST
DTSTART:20191103T060000
END:STANDARD
BEGIN:DAYLIGHT
TZOFFSETFROM:-0500
TZOFFSETTO:-0400
TZNAME:EDT
DTSTART:20200308T070000
END:DAYLIGHT
BEGIN:STANDARD
TZOFFSETFROM:-0400
TZOFFSETTO:-0500
TZNAME:EST
DTSTART:20201101T060000
END:STANDARD
BEGIN:DAYLIGHT
TZOFFSETFROM:-0500
TZOFFSETTO:-0400
TZNAME:EDT
DTSTART:20210314T070000
END:DAYLIGHT
BEGIN:STANDARD
TZOFFSETFROM:-0400
TZOFFSETTO:-0500
TZNAME:EST
DTSTART:20211107T060000
END:STANDARD
END:VTIMEZONE
BEGIN:VEVENT
DTSTART;TZID=America/New_York:20200703T110000
DTEND;TZID=America/New_York:20200703T150000
DTSTAMP:20260421T211425
CREATED:20200625T040458Z
LAST-MODIFIED:20200625T160845Z
UID:10052-1593774000-1593788400@qvgop.org
SUMMARY:Join QVGOP Celebrating America and the 120th Anniversary of the King Manor Museum
DESCRIPTION:The Queens Village Republican Club will be celebrating America and the 120th Anniversary of the King Manor Museum with a vendor table on the front lawn with essential item and patriotic giveaways. The King Manor Museum is the historic home of Rufus King\, Founding Father\, framer of the Constitution\, and early voice in the anti-slavery movement.\nThis event is sponsored by the Queens Chronicle\, serving the Queens community for over 41 years. Contact Ree Brinn for more information: 718-669-0628
URL:https://qvgop.org/event/join-qvgop-celebrating-america-and-the-120th-anniversary-of-the-king-manor-museum/
LOCATION:King Manor Museum\, 150-03 Jamiaca Ave.\, Jamaica\, NY\, United States
END:VEVENT
BEGIN:VEVENT
DTSTART;TZID=America/New_York:20200712T140000
DTEND;TZID=America/New_York:20200712T160000
DTSTAMP:20260421T211425
CREATED:20200708T193019Z
LAST-MODIFIED:20200708T193019Z
UID:10105-1594562400-1594569600@qvgop.org
SUMMARY:NYC Police Solidarity and Thank You Walk
DESCRIPTION:SIGN UP ON FACEBOOK
URL:https://qvgop.org/event/nyc-police-solidarity-and-thank-you-walk/
LOCATION:Crocheron Park – Parking Lot\, 215 Pl. & 33 Ave.\, Bayside\, NY
END:VEVENT
BEGIN:VEVENT
DTSTART;TZID=America/New_York:20200727T200000
DTEND;TZID=America/New_York:20200727T213000
DTSTAMP:20260421T211425
CREATED:20200705T023137Z
LAST-MODIFIED:20200705T023426Z
UID:10098-1595880000-1595885400@qvgop.org
SUMMARY:NYMetro Act Zoom Meeting with Professor Giordano
DESCRIPTION:RSVP
URL:https://qvgop.org/event/nymetro-act-zoom-meeting-with-professor-giordano/
LOCATION:Zoom
END:VEVENT
END:VCALENDAR