BEGIN:VCALENDAR
VERSION:2.0
PRODID:-//The Queens Village Republican Club Online - ECPv6.15.14//NONSGML v1.0//EN
CALSCALE:GREGORIAN
METHOD:PUBLISH
X-ORIGINAL-URL:https://qvgop.org
X-WR-CALDESC:Events for The Queens Village Republican Club Online
REFRESH-INTERVAL;VALUE=DURATION:PT1H
X-Robots-Tag:noindex
X-PUBLISHED-TTL:PT1H
BEGIN:VTIMEZONE
TZID:America/New_York
BEGIN:DAYLIGHT
TZOFFSETFROM:-0500
TZOFFSETTO:-0400
TZNAME:EDT
DTSTART:20190310T070000
END:DAYLIGHT
BEGIN:STANDARD
TZOFFSETFROM:-0400
TZOFFSETTO:-0500
TZNAME:EST
DTSTART:20191103T060000
END:STANDARD
BEGIN:DAYLIGHT
TZOFFSETFROM:-0500
TZOFFSETTO:-0400
TZNAME:EDT
DTSTART:20200308T070000
END:DAYLIGHT
BEGIN:STANDARD
TZOFFSETFROM:-0400
TZOFFSETTO:-0500
TZNAME:EST
DTSTART:20201101T060000
END:STANDARD
BEGIN:DAYLIGHT
TZOFFSETFROM:-0500
TZOFFSETTO:-0400
TZNAME:EDT
DTSTART:20210314T070000
END:DAYLIGHT
BEGIN:STANDARD
TZOFFSETFROM:-0400
TZOFFSETTO:-0500
TZNAME:EST
DTSTART:20211107T060000
END:STANDARD
END:VTIMEZONE
BEGIN:VEVENT
DTSTART;TZID=America/New_York:20200305T193000
DTEND;TZID=America/New_York:20200305T220000
DTSTAMP:20260422T040821
CREATED:20200220T052048Z
LAST-MODIFIED:20200228T053021Z
UID:9209-1583436600-1583445600@qvgop.org
SUMMARY:March QVGOP Club Meeting: Combating the Opioid Addiction & Overdose Epidemic
DESCRIPTION:Next General Club Meeting:\nThurs. Mar. 5\, 2020 at 7:30 pm\nYoung Israel of Holliswood – Holliswood Jewish Center\n86-25 Francis Lewis Blvd.\, Holliswood\, NY 11427\nSpecial Open Public Meeting \nCOMBATING THE OPIOID ADDICTION & OVERDOSE EPIDEMIC IN AMERICA\nNearly 70\,000 people die from drug overdoses in America every year\, 70% involving opioids. Many 1000’s more go unreported. We will hear from the experts on the front lines of the battle against the growing opioid epidemic in America. \nMichael Gray\nA one-man army fighting the opioid scourge in America.  Two years ago\, Michael lost his beloved daughter\, Amanda accidentally to a lethal dose of Fentanyl\, and he founded the Actus Foundation\, to seek solutions for the opioid crisis in America\, including federal legislation to stop China’s importation of deadly Fentanyl into the U.S. \n \n \nLt. Sean Walker\nOperations Coordinator for the NYPD Behavioral Health Division which manages the Department’s protocols and response dealing with mental health issues and opioid and dangerous drug overdoses. One of the main initiatives is RxStat\, a collaboration of over 35 city\, state\, and federal agencies who meet regularly at 1 Police Plaza to confront the opioid crisis.   \n  \n  \n \nWe will be joined by several Republican candidates seeking the nomination for US Congress in NY Distirct 14 to run against AOC! \nAdditional speakers to be announced \nRefreshments will be served. QVGOP Gift Shop will be open! \n_______________________________ \n  \nBiogrpahical Information on Michael Gray \nMichael Gray is the CEO of Actus Analytical which develops spectroscopy solutions for public safety compliance with federal/state regulations. Nancy Gray has spent her adult life dedicated to the loving care of her family. \nThe Grays are the parents of Declan Gray\, 22\, and Amanda Gray\, who was killed by an overdose of straight Fentanyl on January 11\, 2018 at the age of 24. The Gray family battled with acute mental illness throughout Amanda’s life\, and substance abuse in the last 2 years before her passing. \nMichael and his wife Nancy are advocates for solutions to treating the entirety of the overdose epidemic problem in America\, including the largely forgotten constituency of intermittent users. Most notable are the acutely mentally-ill\, who abuse opioids or other drugs (prescription and non-prescription) to the point of addiction and death in their search for symptom relief from tragically under-treated diseases. The introduction of Fentanyl into the supply stream means all aspects of illicit drug use must be considered to save lives\, since any single instance of illicit opioid use may lead to death. The time to see the threat as related only to addicts is long past. Michael is a popular speaker\, offering unique analyses and suggestions for creative solutions to a new problem\, i.e.\, an old problem with a recently altered paradigm. Michael walks participants through the murky world of the drug problem clarifying the threat and dispelling myths.\nThe Grays also advocate for the mentally-ill\, striving to deliver the message that mental illness is a disease the entire family suffers\, and suffers quite alone\, as there are no well-worn paths to solutions available to those in chronic states of mental illness. For all our success in medical science – treatment\, patient care and advocacy – our nation has left behavioral medicine in the stone age. Our practice of psychiatric care – diagnostic\, treatment and patient advocacy – is the ugly step-child hidden in the attic as the country proudly displays her medical science wonders to the world. \nIn addition to advocacy\, Michael Gray is offering his 30 years of professional expertise in the world of scientific instrumentation as another element of his work on behalf of the victims of overdose. As the Interdict Law and other legislative activity considers nascent technological advances in the ability to detect illicit drugs at the street level\, Michael Gray adds his professional expertise to that debate. With experience in the areas of Infrared Spectroscopy and Mass Spectrometry\, Michael will be participating in the deployment of portable testing for narcotics at the field level as a means of confirming suspected illegal substances\, in a manner which protects the safety of First Responders. \nTHE ACTUS FOUNDATION: SEEKING SOLUTIONS TO THE OPIOID CRISIS\n_________________________\nBiogrpahical Information on Lt. Sean Walker\nLieutenant Sean Walker has over 26 years of public safety experience in Law Enforcement\, Emergency Management\, EMS\, and 911 Communications. He has been with the New York City Police Department for the past 15 years\, and is currently assigned as the Operations Coordinator for the Behavioral Health Division which manages the Department’s protocols and response in areas such as homelessness\, behavioral and mental health issues\, and opioid and dangerous drug overdoses. Lieutenant Walker has previously held assignments in the Communications Division\, the Office of the Deputy Commissioner for Collaborative Policing\, the Housing Bureau\, the Internal Affairs Bureau\, and the 28th and 42nd Precincts. He holds a Bachelor of Science in Criminal Justice from Aspen University. \nLt. Sean M. Walker\nOffice of the Chief of Department\nBehavioral Health Unit\n1 Police Plaza \nOne of the main initiatives that Lt. Walker will discuss is RxStat.  It is a collaboration of over 35 city\, state\, and federal agencies who meet regularly at 1 Police Plaza and identify gaps in response to the opioid crisis\, and then work together and share information and resources in an effort to improve policies\, programs and responses.  A few helpful links about this initiative are here: \nBureau of Justice Assistance’s Comprehensive Opioid Abuse Program (COAP) link on NYC’s RxStat Initiative:  https://www.coapresources.org/Focus/MultisystemPartnerships \nNYC.gov link which gives some history and perspective on how RxStat began: https://www1.nyc.gov/assets/home/downloads/pdf/press-releases/2013/rx_stat_september_2013_report.pdf
URL:https://qvgop.org/event/march-qvgop-club-meeting-opioid-addiction-overdose-epidemic/
LOCATION:Young Israel of Holliswood\, 86-25 Francis Lewis Blvd. \, Holliswood\, NY
CATEGORIES:General Club Meetings
END:VEVENT
BEGIN:VEVENT
DTSTART;TZID=America/New_York:20200311T073000
DTEND;TZID=America/New_York:20200311T213000
DTSTAMP:20260422T040821
CREATED:20200302T052131Z
LAST-MODIFIED:20200302T052348Z
UID:9267-1583911800-1583962200@qvgop.org
SUMMARY:Whitestone Republican Club Meeting with Blue Lives Matter Founder
DESCRIPTION:Whitestone Republican Club Meeting\nwith Blue Lives Matter Founder\n \nWednesday\, March 11\, 2020 at 7:30 PM – 9:30 PM\nGrace Episcopal Church\n1415 Clintonville St\, Whitestone\, New York 11357 \nFounder of Blue Lives Matter\, Joesph Imperatrice. \nPutnam County DA (Former Whitestone Resident)\nRobert Tendy. \nBarbara From Harlem! \nMore Information Here!
URL:https://qvgop.org/event/whitestone-republican-club-meeting-with-blue-lives-matter-founder/
LOCATION:Grace Episcopal Church\, 14-15 Clintonville Street\, Whitestone\, NY\, 11357\, United States
END:VEVENT
BEGIN:VEVENT
DTSTART;TZID=America/New_York:20200322T150000
DTEND;TZID=America/New_York:20200322T170000
DTSTAMP:20260422T040821
CREATED:20200321T035949Z
LAST-MODIFIED:20200321T040132Z
UID:9356-1584889200-1584896400@qvgop.org
SUMMARY:The Digital 145th Anniversary Lincoln Dinner
DESCRIPTION:presents\n \nIf you would like a link to join the Digital Lincoln Dinner\, send an email request to INFO@qvgop.org. The platform being used is Zoom Video Conferencing  Go to your online App Store and download Zoom. For additional information about Zoom Video Conferencing navigate to: https://zoom.us/
URL:https://qvgop.org/event/the-digital-lincoln-dinner/
LOCATION:Your home computer or mobile phone
END:VEVENT
BEGIN:VEVENT
DTSTART;TZID=America/New_York:20200323T200000
DTEND;TZID=America/New_York:20200323T210000
DTSTAMP:20260422T040821
CREATED:20200302T053335Z
LAST-MODIFIED:20200318T190732Z
UID:9272-1584993600-1584997200@qvgop.org
SUMMARY:NY Metro ACT March Meeting by TeleConference
DESCRIPTION:RSVP
URL:https://qvgop.org/event/ny-metro-act-march-meeting/
LOCATION:NY
END:VEVENT
BEGIN:VEVENT
DTSTART;TZID=America/New_York:20200325T090000
DTEND;TZID=America/New_York:20200325T120000
DTSTAMP:20260422T040821
CREATED:20200208T013357Z
LAST-MODIFIED:20200317T202340Z
UID:9176-1585126800-1585137600@qvgop.org
SUMMARY:International Gift of Life Walk - NYC 2020 - POSTPONED
DESCRIPTION:
URL:https://qvgop.org/event/international-gift-of-life-walk-nyc-2020/
LOCATION:Foley Square\, 111 Worth St.\, Manhattan\, NY\, 10013
END:VEVENT
BEGIN:VEVENT
DTSTART;TZID=America/New_York:20200325T193000
DTEND;TZID=America/New_York:20200325T213000
DTSTAMP:20260422T040821
CREATED:20200308T003009Z
LAST-MODIFIED:20200319T183235Z
UID:9283-1585164600-1585171800@qvgop.org
SUMMARY:Bail Reform Town Hall - POSTPONED
DESCRIPTION:
URL:https://qvgop.org/event/bail-reform-town-hall/
LOCATION:Torah Center of Hillcrest\, 171-05 Jewel Ave.\, Fresh Meadows\, NY
END:VEVENT
BEGIN:VEVENT
DTSTART;TZID=America/New_York:20200325T203000
DTEND;TZID=America/New_York:20200325T220000
DTSTAMP:20260422T040821
CREATED:20200324T195721Z
LAST-MODIFIED:20200324T195721Z
UID:9365-1585168200-1585173600@qvgop.org
SUMMARY:Brigitte Gabriel conference call this Wednesday!
DESCRIPTION:This is the working link to sign up for the conference call:\nRSVP
URL:https://qvgop.org/event/brigitte-gabriel-conference-call-this-wednesday/
LOCATION:NY
END:VEVENT
END:VCALENDAR