BEGIN:VCALENDAR
VERSION:2.0
PRODID:-//The Queens Village Republican Club Online - ECPv6.15.14//NONSGML v1.0//EN
CALSCALE:GREGORIAN
METHOD:PUBLISH
X-WR-CALNAME:The Queens Village Republican Club Online
X-ORIGINAL-URL:https://qvgop.org
X-WR-CALDESC:Events for The Queens Village Republican Club Online
REFRESH-INTERVAL;VALUE=DURATION:PT1H
X-Robots-Tag:noindex
X-PUBLISHED-TTL:PT1H
BEGIN:VTIMEZONE
TZID:America/New_York
BEGIN:DAYLIGHT
TZOFFSETFROM:-0500
TZOFFSETTO:-0400
TZNAME:EDT
DTSTART:20190310T070000
END:DAYLIGHT
BEGIN:STANDARD
TZOFFSETFROM:-0400
TZOFFSETTO:-0500
TZNAME:EST
DTSTART:20191103T060000
END:STANDARD
BEGIN:DAYLIGHT
TZOFFSETFROM:-0500
TZOFFSETTO:-0400
TZNAME:EDT
DTSTART:20200308T070000
END:DAYLIGHT
BEGIN:STANDARD
TZOFFSETFROM:-0400
TZOFFSETTO:-0500
TZNAME:EST
DTSTART:20201101T060000
END:STANDARD
BEGIN:DAYLIGHT
TZOFFSETFROM:-0500
TZOFFSETTO:-0400
TZNAME:EDT
DTSTART:20210314T070000
END:DAYLIGHT
BEGIN:STANDARD
TZOFFSETFROM:-0400
TZOFFSETTO:-0500
TZNAME:EST
DTSTART:20211107T060000
END:STANDARD
END:VTIMEZONE
BEGIN:VEVENT
DTSTART;TZID=America/New_York:20200108T193000
DTEND;TZID=America/New_York:20200108T220000
DTSTAMP:20260422T074220
CREATED:20200108T185019Z
LAST-MODIFIED:20200108T185019Z
UID:9037-1578511800-1578520800@qvgop.org
SUMMARY:Whitestone Republican Club 2020 Kickoff Meeting
DESCRIPTION:Whitestone Republican Club\n2020 KICKOFF MEETING:\nWEDNESDAY JANUARY 8\, 2020 at 7:30 PM\nGrace Episcopal Church\n1415 Clintonville St.\, Whitestone\, NY 11357\n(entrance in rear from driveway between 14th Ave & 14th Rd) \nJoin us for our first meeting of the New Year when our main guest speaker will be former New York City Police Commissioner Bernard Kerik who oversaw the police response to the September 11th attacks. Kerik also served as Corrections Commissioner under Rudy Giuliani\, and later as interim Interior Minister of Iraq under President George W. Bush\, and was nominated by Bush to be Secretary of Homeland Security. \nWhile Bernie Kerik’s career has had its ups and downs\, he is a patriot and was an excellent commissioner who won national recognition for reducing violence at Rikers and other city jails\, and shares the credit for the historic reduction in crime during the Giuliani Administration. \nAlso on the roster are: \n* Rising young GOP star Gavin Wax\, president of the New York Young Republican Club. Gavin is a veteran of the Ted Cruz Presidential campaign and Nicole Malliotakis’ New York City Mayoral campaign\, and is currently a Fellow at the London Center for Policy Research. He has also written for Townhall\, The Daily Caller\, The Hill\, The Washington Examiner\, The Federalist and Newsmax\, and has appeared on Fox News and OAN. \n* Newly minted Republican and former DA candidate Joe Murray\, an attorney and former police officer who\, though still a Democrat at the time\, ran as the Republican candidate against Melinda Katz for Queens District Attorney in November. Joe will talk about his experiences running against the machine\, and about the horrid new criminal “justice” “reforms” that the “moderate” Katz is completely on board with.
URL:https://qvgop.org/event/whitestone-republican-club-2020-kickoff-meeting/
LOCATION:Grace Episcopal Church\, 14-15 Clintonville Street\, Whitestone\, NY\, 11357\, United States
END:VEVENT
BEGIN:VEVENT
DTSTART;TZID=America/New_York:20200113T193000
DTEND;TZID=America/New_York:20200113T220000
DTSTAMP:20260422T074220
CREATED:20200113T005524Z
LAST-MODIFIED:20200113T005524Z
UID:9063-1578943800-1578952800@qvgop.org
SUMMARY:Rockaway Republican Club Meeting
DESCRIPTION:The Rockaway Republican Club will meet on Monday\, January 13\, 2020 at 7:30 pm \nat the Belle Harbor Yacht Club at 533 Beach 126th Street\, Belle Harbor\, NY.\nGuest Speakers:\nTorey Schnupp\, \nRockaway Solutions Not (Homeless) Shelters. (RSNS) \nMark Laytin\,  \nAct for America. \nDanny Maio\, \ncandidate for Queens Borough President.\nWilliam Kregler\, \nPast candidate Queens Boro President. \nAllan Rosen\,\nMTA Bus redesign critic and expert. The MTA wants to eliminate our Q53 bus. \nDon’t Forget! \nThe Rockaway Republican Club is hosting a baby bottle\, baby clothes and baby stroller campaign for The Bridge to Life Pregnancy Center.  At this time of year we are looking for winter outerwear for our babies & children. Sizes needed are 3-6mths\, 6-9mths\, 12mths\, 2T through 5T & sizes 6 through 12\, boys and girls. We are seeking lightweight strollers for our newborns & toddlers. And are always in need of diapers – sizes 4\, 5\, & 6. Kindly take a baby bottle at our meeting and fill it with cash\, checks or coins and return the bottles\, clothes and strollers by Monday\, January 13\, 2020.\nWe already collected a truck load of baby items.  Thank you to all our donors and future donors. This is a great opportunity to invite your family\, friends and neighbors and meet conservative Republicans and help our neighbors in need.  \nWe thank you for your continued support & we look forward to organizing Republicans in Queens. \nHappy and Healthy New Year!  \nGod bless you and your family.  \nPhilip McManus\nPresident\, \nRockaway Republican Club\nPhilAMcManus@gmail.com\n718-679-5309
URL:https://qvgop.org/event/rockaway-republican-club-meeting-2/
LOCATION:Belle Harbor Yacht Club\, 533 Beach 126th Street\, Belle Harbor
END:VEVENT
BEGIN:VEVENT
DTSTART;TZID=America/New_York:20200115T190000
DTEND;TZID=America/New_York:20200115T210000
DTSTAMP:20260422T074220
CREATED:20200114T053437Z
LAST-MODIFIED:20200114T053437Z
UID:9067-1579114800-1579122000@qvgop.org
SUMMARY:Queens Borough President Candidates Forum
DESCRIPTION:11366
URL:https://qvgop.org/event/queens-borough-president-candidates-forum/
LOCATION:Israel Center of Conservative Judaism\, 167-11 73rd Ave.\, Hillcrest\, NY\, 11366\, United States
END:VEVENT
BEGIN:VEVENT
DTSTART;TZID=America/New_York:20200127T193000
DTEND;TZID=America/New_York:20200127T213000
DTSTAMP:20260422T074220
CREATED:20200114T054808Z
LAST-MODIFIED:20200114T054841Z
UID:9071-1580153400-1580160600@qvgop.org
SUMMARY:ACT NY Metro Chapter Meeting: Indoctrination & the War on the 1st Amendment on Campus
DESCRIPTION:
URL:https://qvgop.org/event/act-ny-metro-chapter-meeting-indoctrination-the-war-on-the-1st-ammendment-on-campus/
LOCATION:Elks Lodge 2107\, 901 Lakeville Rd.\, New Hyde Park\, NY\, 11040\, United States
END:VEVENT
END:VCALENDAR