BEGIN:VCALENDAR
VERSION:2.0
PRODID:-//The Queens Village Republican Club Online - ECPv6.15.14//NONSGML v1.0//EN
CALSCALE:GREGORIAN
METHOD:PUBLISH
X-WR-CALNAME:The Queens Village Republican Club Online
X-ORIGINAL-URL:https://qvgop.org
X-WR-CALDESC:Events for The Queens Village Republican Club Online
REFRESH-INTERVAL;VALUE=DURATION:PT1H
X-Robots-Tag:noindex
X-PUBLISHED-TTL:PT1H
BEGIN:VTIMEZONE
TZID:America/New_York
BEGIN:DAYLIGHT
TZOFFSETFROM:-0500
TZOFFSETTO:-0400
TZNAME:EDT
DTSTART:20180311T070000
END:DAYLIGHT
BEGIN:STANDARD
TZOFFSETFROM:-0400
TZOFFSETTO:-0500
TZNAME:EST
DTSTART:20181104T060000
END:STANDARD
BEGIN:DAYLIGHT
TZOFFSETFROM:-0500
TZOFFSETTO:-0400
TZNAME:EDT
DTSTART:20190310T070000
END:DAYLIGHT
BEGIN:STANDARD
TZOFFSETFROM:-0400
TZOFFSETTO:-0500
TZNAME:EST
DTSTART:20191103T060000
END:STANDARD
BEGIN:DAYLIGHT
TZOFFSETFROM:-0500
TZOFFSETTO:-0400
TZNAME:EDT
DTSTART:20200308T070000
END:DAYLIGHT
BEGIN:STANDARD
TZOFFSETFROM:-0400
TZOFFSETTO:-0500
TZNAME:EST
DTSTART:20201101T060000
END:STANDARD
END:VTIMEZONE
BEGIN:VEVENT
DTSTART;TZID=America/New_York:20190103T193000
DTEND;TZID=America/New_York:20190103T220000
DTSTAMP:20260423T054955
CREATED:20181222T204345Z
LAST-MODIFIED:20181229T004933Z
UID:7953-1546543800-1546552800@qvgop.org
SUMMARY:New Year's General Club Meeting - New Meeting Venue
DESCRIPTION:Next General Club Meeting: Thurs. Jan. 3\, 2019 at 7:30 pm\nMeeting at new venue:\nBellerose Jewish Center\n254-14 Union Tpke.\, Floral Park\, NY 11004\nHAPPY NEW YEAR!!\nRing in the new year with our exciting guest speakers:\nAssemblyman Kieran Lalor \nAssemblyman from Dutchess County\, NY. Marine Corps veteran of Operation Iraqi Freedom and a frequent guest on the Fox News\, will discuss the new Amazon HQ Boondoggle. \nBarbara from Harlem \nLiberal by default and active with the NAACP and Charlie Rangel Club. She walked away from the Democrat Party and is now telling the story of her awakening to the world. She will be signing copies of her new book to purchase: “Escaping the Racism of Low Expectations.” \nCurtis Sliwa \nFounder & CEO of the Guardian Angels\, radio talk show host\, WABC Radio\, Chairman of NYS Reform Party\, and now candidate for NYC Public Advocate. \nInstallation of 2019 Club Officers and Board Members \n  \n“Barbara from Harlem” will be signing copies of her new book “Escaping the Racism of Low Expectations” which will be available for sale.  \nI am Barbara from Harlem and my God\, my Country\, and my Conscience are my guides.  \nI was a liberal by default. I asked no questions. I had no answers. I just pulled the lever to vote for Democrats as was expected of me. Most of my fellow Black Americans do not fully understand what the term “liberal” means\, or who or what they are voting for. And\, in turn they don’t realize how harmful those “liberal” policies are to our freedoms and liberties as Americans. \nI was born into a culture that believes Black equals Democrat. A broken home\, failed marriage\, and a feeling of victimization fueled my need for inclusion\, which the Democratic Party fulfilled. As an activist and member of the NAACP and Democratic Clubs in Harlem\, the men I looked up to—the Rev. Jesse Jackson (whom I also campaigned for)\, Congressman Charlie Rangel\, and Rev. Al Sharpton—reinforced the negative perceptions that shaped my world. \nBut just like false prophets\, the false narrative that has been spoon-fed to us by Black leaders\, the Black community\, the media\, and progressive politicians has enslaved Blacks in a victimhood mentality and entitlement mindset. \nBut my eyes were opened to reject victimhood and lack of accountability. My journey has proven to me that when you have clarity of conscience\, love of God\, and a deep-seated belief in America’s goodness\, your life will be enriched and your focus will change to one of accountability. \nI am Barbara from Harlem. I fought my way out. You can too.  
URL:https://qvgop.org/event/new-years-general-club-meeting/
LOCATION:Bellerose Jewish Center\, 254-14 Union Tpke. \, Glen Oaks\, NY\, 11004\, United States
END:VEVENT
END:VCALENDAR