BEGIN:VCALENDAR
VERSION:2.0
PRODID:-//The Queens Village Republican Club Online - ECPv6.15.14//NONSGML v1.0//EN
CALSCALE:GREGORIAN
METHOD:PUBLISH
X-WR-CALNAME:The Queens Village Republican Club Online
X-ORIGINAL-URL:https://qvgop.org
X-WR-CALDESC:Events for The Queens Village Republican Club Online
REFRESH-INTERVAL;VALUE=DURATION:PT1H
X-Robots-Tag:noindex
X-PUBLISHED-TTL:PT1H
BEGIN:VTIMEZONE
TZID:America/New_York
BEGIN:DAYLIGHT
TZOFFSETFROM:-0500
TZOFFSETTO:-0400
TZNAME:EDT
DTSTART:20170312T070000
END:DAYLIGHT
BEGIN:STANDARD
TZOFFSETFROM:-0400
TZOFFSETTO:-0500
TZNAME:EST
DTSTART:20171105T060000
END:STANDARD
BEGIN:DAYLIGHT
TZOFFSETFROM:-0500
TZOFFSETTO:-0400
TZNAME:EDT
DTSTART:20180311T070000
END:DAYLIGHT
BEGIN:STANDARD
TZOFFSETFROM:-0400
TZOFFSETTO:-0500
TZNAME:EST
DTSTART:20181104T060000
END:STANDARD
BEGIN:DAYLIGHT
TZOFFSETFROM:-0500
TZOFFSETTO:-0400
TZNAME:EDT
DTSTART:20190310T070000
END:DAYLIGHT
BEGIN:STANDARD
TZOFFSETFROM:-0400
TZOFFSETTO:-0500
TZNAME:EST
DTSTART:20191103T060000
END:STANDARD
END:VTIMEZONE
BEGIN:VEVENT
DTSTART;TZID=America/New_York:20181101T193000
DTEND;TZID=America/New_York:20181101T220000
DTSTAMP:20260423T092947
CREATED:20181020T055132Z
LAST-MODIFIED:20181020T055201Z
UID:7855-1541100600-1541109600@qvgop.org
SUMMARY:NEXT GENERAL CLUB MEETING: GET OUT THE VOTE RALLY!
DESCRIPTION:NEXT GENERAL CLUB MEETING: THURS\, NOV. 1\, 2018 AT 7:30 PM \nDoors open at 7:30 for free refreshments\, business meeting starts at 8:00 PM. \nThis meeting is being billed as our \nGET OUT THE VOTE RALLY! \nIN HONOR OF OUR VALIANT REPUBLICAN CANDIDATES: \nDAN DEBONO FOR CONGRESS\, DISTRICT 3  \nVICKIE PALADINO FOR STATE SENATE\, DISTRICT 11  \nDAVID BRESSLER FOR STATE ASSEMBLY\, DISTRICT 26  \nLALITA ETWAROO FOR STATE ASSEMBLY\, DISTRICT 33 \nMeeting at: Knights of Columbus\, St. Anne’s Council\n263-15 Union Turnpike\, North Floral Park (Queens)\, NY
URL:https://qvgop.org/event/7855/
LOCATION:Knights of Columbus\, St. Anne’s Council\, 263-15 Union Tpke.\, Glen Oaks\, NY\, 11004\, United States
END:VEVENT
BEGIN:VEVENT
DTSTART;TZID=America/New_York:20181102T193000
DTEND;TZID=America/New_York:20181102T210000
DTSTAMP:20260423T092948
CREATED:20181102T053712Z
LAST-MODIFIED:20181102T053712Z
UID:7901-1541187000-1541192400@qvgop.org
SUMMARY:Final Week Get Out The Vote Volunteers Meeting
DESCRIPTION:Final Week Get Out The Vote Volunteers Meeting  \nFor Vickie Paladino\, David Bressler and Dan DeBono \nFriday\, Nov 2\, 2018 at 7:30pm – 9:00pm \nTwo locations: \nCampaign Office\n14-12A Clintonville St.\, Whitestone\, NY \nDunkin Donuts\n21295 26th Ave.\, upper level of the Bay Terrace Shopping Center\, Bayside
URL:https://qvgop.org/event/final-week-get-out-the-vote-volunteers-meeting/
LOCATION:NY
END:VEVENT
BEGIN:VEVENT
DTSTART;TZID=America/New_York:20181103T120000
DTEND;TZID=America/New_York:20181103T160000
DTSTAMP:20260423T092948
CREATED:20181024T203009Z
LAST-MODIFIED:20181024T203009Z
UID:7872-1541246400-1541260800@qvgop.org
SUMMARY:AMERICA FIRST UNITY RALLY / Nov. 3rd
DESCRIPTION:AMERICA FIRST UNITY RALLY \nSaturday\, November 3\, 2018 at 12 PM \nWar Memorial in Bayside: 207Th St. and Northern Blvd\, Bayside\, NY \nAmerica First Patriots MagaQueens presents a “UNITY RALLY 2018” to Support Our Local Candidates This Election November 6th. 2018 Support our President\, Local law Enforcement\, Military\, and Your Constitutional Rights. LIFE\,LIBERTY\,and the Pursuit of HAPPINESS! Make Queens Great Again!!!! \nBring your Flags and MAGA gear\, and your American Spirit!!\nPlease come and Share this event with your Family and Friends.\n#MAGA#KAG#DUMP CUOMO#WALK AWAY#VOTE RED\n#VOTE DEM OUT#NO SOCIALISM/COMMUNIST/FACIST
URL:https://qvgop.org/event/america-first-unity-rally-nov-3rd/
LOCATION:War Memorial in Bayside\, 207Th St. and Northern Blvd\, Bayside\, NY
END:VEVENT
BEGIN:VEVENT
DTSTART;TZID=America/New_York:20181104T190000
DTEND;TZID=America/New_York:20181104T200000
DTSTAMP:20260423T092948
CREATED:20181102T051059Z
LAST-MODIFIED:20181102T051708Z
UID:7893-1541358000-1541361600@qvgop.org
SUMMARY:1st Poll Watcher Training Meeting
DESCRIPTION:Poll Watcher Training Meeting  for David Bressler and Vickie Paladino campaigns\nSunday\, Nov 4\, 2018\, at 7:00pm \nCampaign Office\, 14-12A Clintonville St.\, Whitestone\, NY \nThis will be an training review session on the November 6th Election Day Poll Site Operations \nFor all Poll Watchers and anyone who wishes to volunteer to be involved in the November 6th Poll Site Operations for David Bressler and Vickie Paladino campaigns \n 
URL:https://qvgop.org/event/1st-poll-watcher-training-meeting/
LOCATION:Campaign Office\, 14-12 Clintonville St. Suite A\, Whitestone\, NY\, 11357
END:VEVENT
BEGIN:VEVENT
DTSTART;TZID=America/New_York:20181105T193000
DTEND;TZID=America/New_York:20181105T203000
DTSTAMP:20260423T092948
CREATED:20181102T051354Z
LAST-MODIFIED:20181102T051657Z
UID:7896-1541446200-1541449800@qvgop.org
SUMMARY:2nd Poll Watcher Training Meeting
DESCRIPTION:Poll Watcher Training Meeting for David Bressler and Vickie Paladino campaigns\nMonday\, Nov 5\, 2018\, at 7:30pm \nCampaign Office\, 14-12A Clintonville St.\, Whitestone\, NY \nThis will be an training review session on the November 6th Election Day Poll Site Operations \nFor all Poll Watchers and anyone who wishes to volunteer to be involved in the November 6th Poll Site Operations for David Bressler and Vickie Paladino campaigns \n 
URL:https://qvgop.org/event/2nd-poll-watcher-training-meeting/
LOCATION:Campaign Office\, 14-12 Clintonville St. Suite A\, Whitestone\, NY\, 11357
END:VEVENT
BEGIN:VEVENT
DTSTART;TZID=America/New_York:20181106T060000
DTEND;TZID=America/New_York:20181106T210000
DTSTAMP:20260423T092948
CREATED:20181101T015903Z
LAST-MODIFIED:20181101T020113Z
UID:7887-1541484000-1541538000@qvgop.org
SUMMARY:General Election
DESCRIPTION:GENERAL ELECTION: TUESDAY NOVEMBER 6TH \nPOLLS OPEN FROM 6:00 AM TO 9:00 PM \nVOTE FOR REPUBLICAN CANDIDATES. OUR LOCAL CANDIDATES ARE:  \nDAN DEBONO FOR CONGRESS\, DISTRICT 3 \nVICKIE PALADINO FOR STATE SENATE\, DISTRICT 11\nDAVID BRESSLER FOR STATE ASSEMBLY\, DISTRICT 26\nLALITA ETWAROO FOR STATE ASSEMBLY\, DISTRICT 33
URL:https://qvgop.org/event/general-election/
LOCATION:NY
END:VEVENT
END:VCALENDAR