BEGIN:VCALENDAR
VERSION:2.0
PRODID:-//The Queens Village Republican Club Online - ECPv6.15.14//NONSGML v1.0//EN
CALSCALE:GREGORIAN
METHOD:PUBLISH
X-WR-CALNAME:The Queens Village Republican Club Online
X-ORIGINAL-URL:https://qvgop.org
X-WR-CALDESC:Events for The Queens Village Republican Club Online
REFRESH-INTERVAL;VALUE=DURATION:PT1H
X-Robots-Tag:noindex
X-PUBLISHED-TTL:PT1H
BEGIN:VTIMEZONE
TZID:America/New_York
BEGIN:DAYLIGHT
TZOFFSETFROM:-0500
TZOFFSETTO:-0400
TZNAME:EDT
DTSTART:20170312T070000
END:DAYLIGHT
BEGIN:STANDARD
TZOFFSETFROM:-0400
TZOFFSETTO:-0500
TZNAME:EST
DTSTART:20171105T060000
END:STANDARD
BEGIN:DAYLIGHT
TZOFFSETFROM:-0500
TZOFFSETTO:-0400
TZNAME:EDT
DTSTART:20180311T070000
END:DAYLIGHT
BEGIN:STANDARD
TZOFFSETFROM:-0400
TZOFFSETTO:-0500
TZNAME:EST
DTSTART:20181104T060000
END:STANDARD
BEGIN:DAYLIGHT
TZOFFSETFROM:-0500
TZOFFSETTO:-0400
TZNAME:EDT
DTSTART:20190310T070000
END:DAYLIGHT
BEGIN:STANDARD
TZOFFSETFROM:-0400
TZOFFSETTO:-0500
TZNAME:EST
DTSTART:20191103T060000
END:STANDARD
END:VTIMEZONE
BEGIN:VEVENT
DTSTART;TZID=America/New_York:20181003T190000
DTEND;TZID=America/New_York:20181003T210000
DTSTAMP:20260423T110918
CREATED:20181002T203020Z
LAST-MODIFIED:20181002T203020Z
UID:7782-1538593200-1538600400@qvgop.org
SUMMARY:Rally to Save SHSAT at CEC25 Meeting
DESCRIPTION:
URL:https://qvgop.org/event/rally-to-save-shsat-at-cec25-meeting/
LOCATION:PS 21\, 147-36 26 Ave.\, Flushing\, NY\, 11354
END:VEVENT
BEGIN:VEVENT
DTSTART;TZID=America/New_York:20181004T193000
DTEND;TZID=America/New_York:20181004T220000
DTSTAMP:20260423T110918
CREATED:20180924T050241Z
LAST-MODIFIED:20180924T050444Z
UID:7752-1538681400-1538690400@qvgop.org
SUMMARY:Columbus Day Dinner Meeting at Nancy's
DESCRIPTION:NEXT GENERAL CLUB MEETING: THURSDAY OCT. 4\, 2018 at 7:30 PM\nCOLUMBUS DAY DINER\nAt Nancy’s Restaurant\n255-41 Jericho Tpke\, Floral Park\, NY \n  \nSpecial Guest Speaker: Micah Morrison\n“Judicial Watch and Corruption in New York”\nThe award-winning investigative reporter for the watchdog group Judicial Watch. He writes Judicial Watch’s “Investigative Bulletin” column and conducts in-depth investigations. Read more below.  \n \nAlso featuring our Republican candidates!\nPlease Note: This meeting is NOT at our normal venue at the Knights of Columbus. Dinner $40 (optional). Please RSVP. See notice below. \nCOLUMBUS DAY DINNER: TAKE YOUR PICK – EAT OR JUST MEET\nOur usual meeting hall\, the Knights of Columbus on Union Turnpike\, is not available for our October meeting. We are relocating for this October meeting only\, to Nancy’s Restaurant in Floral Park\, NY.\nWe’ve established a tradition of offering an optional dinner at our October meeting in honor of Columbus Day. This is a dinner meeting\, but the purchase of dinner is not required (but definitely recommended).  For $40\, we serve a four-course dinner with a choice of nine entrees.  Soda\, coffee/tea and dessert are all included along with tax and tip.  Cash bar is available.  This restaurant receives the highest praise. There’s metered municipal parking across the street. \nYou do not need to pay in advance\, but we must have your reservations: call Jim Trent at 718-343-8830 and leave a message or e-mail: jtrent8830@aol.com.
URL:https://qvgop.org/event/columbus-day-dinner-meeting-at-nancys/
LOCATION:Nancy’s Restaurant\, 25541 Jericho Tpke\, Floral Park\, 11001
END:VEVENT
BEGIN:VEVENT
DTSTART;TZID=America/New_York:20181006T140000
DTEND;TZID=America/New_York:20181006T170000
DTSTAMP:20260423T110918
CREATED:20181001T041425Z
LAST-MODIFIED:20181003T210434Z
UID:7777-1538834400-1538845200@qvgop.org
SUMMARY:America First Rally for God\, Family\, Country\, our President\, and our Republican candidates
DESCRIPTION:The America First Patriots\,  MAGA Queens\, Support Your Local Police\, and the Rockaway Republican Club will have a America First Rally for God\, Family\, Country\, our President\, our Flag and our Republican candidates on Saturday\, October 6th at the Doughboy Statue on Rockaway Beach Boulevard at Beach 94 Street\, from 2:00 pm. to 5:00 pm. \nPlease share this event with your family and friends.  Let’s take back our country. \nPlease bring your American Flag and Trump flag. \nContact: \nPhilip McManus \n718-679-5309 \nPresident\, \nRockaway Republican Club
URL:https://qvgop.org/event/america-first-rally-for-god-family-country-our-president-and-our-republican-candidates/
LOCATION:Doughboy Statue\, Rockaway Beach Boulevard at Beach 94 Street\, Rockaway\, NY
END:VEVENT
BEGIN:VEVENT
DTSTART;TZID=America/New_York:20181007T120000
DTEND;TZID=America/New_York:20181007T133000
DTSTAMP:20260423T110918
CREATED:20181006T163830Z
LAST-MODIFIED:20181006T163830Z
UID:7801-1538913600-1538919000@qvgop.org
SUMMARY:Campaign Open House!
DESCRIPTION:Campaign Office Open House for Vickie Paladino\, David Bressler and Dan DeBono\n \nCome and visit our new campaign office in Whitestone this Sunday at 12pm! \nLawn signs and campaign materials will be available\, as well as volunteer sign-ups and contribution forms. This will be a great opportunity to meet Vickie\, David and Dan and talk about your concerns for our district. Refreshments will be served. Open to all!
URL:https://qvgop.org/event/campaign-open-house/
LOCATION:Campaign Office\, 14-12 Clintonville St. Suite A\, Whitestone\, NY\, 11357
END:VEVENT
BEGIN:VEVENT
DTSTART;TZID=America/New_York:20181013T140000
DTEND;TZID=America/New_York:20181014T170000
DTSTAMP:20260423T110918
CREATED:20181011T054900Z
LAST-MODIFIED:20181011T054900Z
UID:7812-1539439200-1539536400@qvgop.org
SUMMARY:Senator Frank Padavan Service & Visiting Times
DESCRIPTION:The Passing of Senator Frank Padavan\n \nWe are deeply saddened to learn the news that our friend\, Senator Frank Padavan passed away Monday October 8th. He served our community as the State Senator of District 11 from 1973 to 2010\, and as a Board of Directors member of the Queens Village Republican Club until his passing. “Nobody cares like Frank” and “Fighting for the forgotten middle class” were his mottos and he was the quintessential man of the people that all candidates for public office will emulate. Our deepest condolences go out to the Senator’s children\, Alison and Scott Padavan\, M.D. and extended family.  Rest in peace our honorable Senator.  \nVisiting for family and friends at Gleason”s Funeral Home\, Whitestone location:  \nGleason’s Funeral Home\n10-25 150th Street\,\nWhitestone\, NY 11357\n(718) 359-1122  \n \nVisiting:  \nSaturday 2:00 – 5:00 pm & 7:00 – 10:00 pm\nSunday 2:00 – 5:00 pm \nReligious Service: Sunday 4:00 pm
URL:https://qvgop.org/event/senator-frank-padavan-service-visiting-times/
LOCATION:Gleasons Funeral Home\, 10-25 150th Street\, Whitestone\, NY\, 11357
END:VEVENT
BEGIN:VEVENT
DTSTART;TZID=America/New_York:20181013T193000
DTEND;TZID=America/New_York:20181013T220000
DTSTAMP:20260423T110918
CREATED:20181003T205027Z
LAST-MODIFIED:20181004T051216Z
UID:7794-1539459000-1539468000@qvgop.org
SUMMARY:Come for Dessert and Coffee in Support of David Bressler
DESCRIPTION:
URL:https://qvgop.org/event/come-for-dessert-and-coffee-in-support-of-david-bressler/
LOCATION:Joe Concannon\, 216-12 Union Tpke.\, Oakland Gardens\, NY\, 11364\, United States
ORGANIZER;CN="David for Assembly 26":MAILTO:davidforassembly26@gmail.com
END:VEVENT
BEGIN:VEVENT
DTSTART;TZID=America/New_York:20181019T190000
DTEND;TZID=America/New_York:20181019T210000
DTSTAMP:20260423T110918
CREATED:20181016T023952Z
LAST-MODIFIED:20181016T023952Z
UID:7827-1539975600-1539982800@qvgop.org
SUMMARY:Special Reception for David Bressler hosted by Rev. Tariq Rehmat
DESCRIPTION:
URL:https://qvgop.org/event/special-reception-for-david-bressler-hosted-by-rev-tariq-rehmat/
LOCATION:33rd Assembly District Office\, 205-07 Hillside Ave.\, Hollis\, NY
END:VEVENT
BEGIN:VEVENT
DTSTART;TZID=America/New_York:20181022T190000
DTEND;TZID=America/New_York:20181022T210000
DTSTAMP:20260423T110918
CREATED:20181012T051316Z
LAST-MODIFIED:20181012T051316Z
UID:7815-1540234800-1540242000@qvgop.org
SUMMARY:An Evening with Vickie Paladino
DESCRIPTION:
URL:https://qvgop.org/event/an-evening-with-vickie-paladino/
LOCATION:Jim Trent\, 242-33 90th Ave\, Bellerose\, NY\, 11426\, United States
END:VEVENT
BEGIN:VEVENT
DTSTART;TZID=America/New_York:20181025T153000
DTEND;TZID=America/New_York:20181025T163000
DTSTAMP:20260423T110918
CREATED:20181021T004531Z
LAST-MODIFIED:20181024T042302Z
UID:7859-1540481400-1540485000@qvgop.org
SUMMARY:SAVE SHSAT RALLY
DESCRIPTION:
URL:https://qvgop.org/event/save-shsat-rally/
LOCATION:ACROSS STREET FROM JHS 067\, 51-60 Marathon Pkwy\, Little Neck\, NY
END:VEVENT
BEGIN:VEVENT
DTSTART;TZID=America/New_York:20181030T200000
DTEND;TZID=America/New_York:20181030T220000
DTSTAMP:20260423T110918
CREATED:20181016T023507Z
LAST-MODIFIED:20181016T044231Z
UID:7818-1540929600-1540936800@qvgop.org
SUMMARY:Bayside Hills Civic Association’s “Meet the Candidates" Night
DESCRIPTION:Bayside Hills Civic Association’s “Meet the Candidates” Night\n \nAt this time we are announcing our annual Bayside Hills Civic Association’s “Meet the Candidates’ Night\, October 30th\, 8:00 PM at the Colonial Church of Bayside\, Bell Blvd. where Luke Place and 216th Street converge. This promises to be a most informative and interesting event and a good turnout would be most appreciated. With that being said\, the following is the lineup of our invited guests: \nNew York State Senate District 11: Tony Avella\, John Liu\, and Vickie Paladino\nAssembly District 26 Candidates: Ed Braunstein and David Bressler\, and\nAssembly District 25 candidate Nily Rozic.\nJoin us. It should be an interesting\, informative\, and entertaining evening. Refreshments will be served.\n——Michael Feiner\, President\, Bayside Hills Civic Association \nbaysidehillscivic@gmail.com \nfacebook.com/baysidehills \nwww.baysidehills.info
URL:https://qvgop.org/event/bayside-hills-civic-associations-meet-the-candidates-night/
LOCATION:Colonial Church of Bayside\, 54-02 217th St.\, Bayside\, NY\, 11364
END:VEVENT
BEGIN:VEVENT
DTSTART;TZID=America/New_York:20181031T180000
DTEND;TZID=America/New_York:20181031T193000
DTSTAMP:20260423T110918
CREATED:20181017T055329Z
LAST-MODIFIED:20181024T024211Z
UID:7842-1541008800-1541014200@qvgop.org
SUMMARY:North Shore Towers Candidates Night Debate Forum
DESCRIPTION:North Shore Towers Candidates Night Debate Forum\nSUPPORT OUR REPUBLICAN CANDIDATES: MARC MOLINARO FOR GOVERNOR\, JONATHAN TRICHTER FOR STATE COMPTROLLER\, JOSEPH KASPER\, JUDICIAL CANDIDATE\, DAVID BRESSLER FOR STATE ASSEMBLY\, VICKIE PALADINO FOR STATE SENATE\, AND OTHER REPUBLICAN CANDIDATES. \nOCTOBER 31\, 2018 at 6:00 PM\nNorth Shore Towers Movie Theater
URL:https://qvgop.org/event/north-shore-towers-candidates-night-debate-forum/
LOCATION:North Shore Towers Movie Theater\, 27240 Grand Central Parkway\, Floral Park\, NY\, 11005
END:VEVENT
END:VCALENDAR