BEGIN:VCALENDAR
VERSION:2.0
PRODID:-//The Queens Village Republican Club Online - ECPv6.15.14//NONSGML v1.0//EN
CALSCALE:GREGORIAN
METHOD:PUBLISH
X-WR-CALNAME:The Queens Village Republican Club Online
X-ORIGINAL-URL:https://qvgop.org
X-WR-CALDESC:Events for The Queens Village Republican Club Online
REFRESH-INTERVAL;VALUE=DURATION:PT1H
X-Robots-Tag:noindex
X-PUBLISHED-TTL:PT1H
BEGIN:VTIMEZONE
TZID:America/New_York
BEGIN:DAYLIGHT
TZOFFSETFROM:-0500
TZOFFSETTO:-0400
TZNAME:EDT
DTSTART:20170312T070000
END:DAYLIGHT
BEGIN:STANDARD
TZOFFSETFROM:-0400
TZOFFSETTO:-0500
TZNAME:EST
DTSTART:20171105T060000
END:STANDARD
BEGIN:DAYLIGHT
TZOFFSETFROM:-0500
TZOFFSETTO:-0400
TZNAME:EDT
DTSTART:20180311T070000
END:DAYLIGHT
BEGIN:STANDARD
TZOFFSETFROM:-0400
TZOFFSETTO:-0500
TZNAME:EST
DTSTART:20181104T060000
END:STANDARD
BEGIN:DAYLIGHT
TZOFFSETFROM:-0500
TZOFFSETTO:-0400
TZNAME:EDT
DTSTART:20190310T070000
END:DAYLIGHT
BEGIN:STANDARD
TZOFFSETFROM:-0400
TZOFFSETTO:-0500
TZNAME:EST
DTSTART:20191103T060000
END:STANDARD
END:VTIMEZONE
BEGIN:VEVENT
DTSTART;TZID=America/New_York:20180717T190000
DTEND;TZID=America/New_York:20180717T220000
DTSTAMP:20260423T160126
CREATED:20180618T010144Z
LAST-MODIFIED:20180618T010144Z
UID:7540-1531854000-1531864800@qvgop.org
SUMMARY:Fundraising Reception in Support of David Bressler
DESCRIPTION:
URL:https://qvgop.org/event/fundraising-reception-in-support-of-david-bressler/
LOCATION:Local Pour House\, 213-11 41 Ave.\, Bayside\, NY\, 11361
END:VEVENT
BEGIN:VEVENT
DTSTART;TZID=America/New_York:20180720T183000
DTEND;TZID=America/New_York:20180720T200000
DTSTAMP:20260423T160126
CREATED:20180713T223123Z
LAST-MODIFIED:20180713T223123Z
UID:7614-1532111400-1532116800@qvgop.org
SUMMARY:Dan DeBono Campaign Kick-Off BBQ and Rally
DESCRIPTION:Headquarters Opening Party\nCampaign Kick-Off BBQ and Rally!\nPlease join me and our special guests as we officially open up our Huntington Campaign Headquarters with our \n  \nDeBono for Congress Campaign Kick-Off BBQ and Rally! \n  \n\nWhere: DeBono for Congress\, Campaign Headquarters\n            1842 E. Jericho Turnpike\n            Huntington\, NY 11743\nWhen:  Friday\, July 20\, 2018\n             6:30 PM – BBQ\n             7:00 PM – Rally\n             8:00 PM – End\n \n\nPlease RSVP by July 18 to:\nwww.debonoforcongress.com/rsvp \nContact: Lawrence Bialek / 516.659.4217
URL:https://qvgop.org/event/dan-debono-campaign-kick-off-bbq-and-rally/
LOCATION:DeBono for Congress Campaign HQ\, 1842 E. Jericho Turnpike\, Huntington\, NY\, 11743
END:VEVENT
BEGIN:VEVENT
DTSTART;TZID=America/New_York:20180723T183000
DTEND;TZID=America/New_York:20180723T210000
DTSTAMP:20260423T160126
CREATED:20180716T045513Z
LAST-MODIFIED:20180716T045513Z
UID:7620-1532370600-1532379600@qvgop.org
SUMMARY:July Fundraiser for Eric Butkiewicz
DESCRIPTION:
URL:https://qvgop.org/event/july-fundraiser-for-eric-butkiewicz/
LOCATION:Connolly’s Corner\, 71-15 Grand Ave.\, Maspeth\, NY\, 11378
END:VEVENT
END:VCALENDAR