BEGIN:VCALENDAR
VERSION:2.0
PRODID:-//The Queens Village Republican Club Online - ECPv6.15.14//NONSGML v1.0//EN
CALSCALE:GREGORIAN
METHOD:PUBLISH
X-WR-CALNAME:The Queens Village Republican Club Online
X-ORIGINAL-URL:https://qvgop.org
X-WR-CALDESC:Events for The Queens Village Republican Club Online
REFRESH-INTERVAL;VALUE=DURATION:PT1H
X-Robots-Tag:noindex
X-PUBLISHED-TTL:PT1H
BEGIN:VTIMEZONE
TZID:America/New_York
BEGIN:DAYLIGHT
TZOFFSETFROM:-0500
TZOFFSETTO:-0400
TZNAME:EDT
DTSTART:20170312T070000
END:DAYLIGHT
BEGIN:STANDARD
TZOFFSETFROM:-0400
TZOFFSETTO:-0500
TZNAME:EST
DTSTART:20171105T060000
END:STANDARD
BEGIN:DAYLIGHT
TZOFFSETFROM:-0500
TZOFFSETTO:-0400
TZNAME:EDT
DTSTART:20180311T070000
END:DAYLIGHT
BEGIN:STANDARD
TZOFFSETFROM:-0400
TZOFFSETTO:-0500
TZNAME:EST
DTSTART:20181104T060000
END:STANDARD
BEGIN:DAYLIGHT
TZOFFSETFROM:-0500
TZOFFSETTO:-0400
TZNAME:EDT
DTSTART:20190310T070000
END:DAYLIGHT
BEGIN:STANDARD
TZOFFSETFROM:-0400
TZOFFSETTO:-0500
TZNAME:EST
DTSTART:20191103T060000
END:STANDARD
END:VTIMEZONE
BEGIN:VEVENT
DTSTART;TZID=America/New_York:20180405T193000
DTEND;TZID=America/New_York:20180405T220000
DTSTAMP:20260423T210921
CREATED:20180326T195024Z
LAST-MODIFIED:20180405T043247Z
UID:6971-1522956600-1522965600@qvgop.org
SUMMARY:QVGOP April 5th Club Meeting: Meet the 2018 Republican Candidates!
DESCRIPTION:NEXT GENERAL CLUB MEETING: THURSDAY APRIL 5\, 2018 at 7:30 PM\nMEET THE 2018 REPUBLICAN CANDIDATES!!\nPlease join us as we welcome our Republican 2018 candidates for State and Federal races. Candidates will discuss their candidacies and qualifications with questions and answers. Remember\, your opinion matters and YOUR VOTE COUNTS!!\n  \n \nChele Farley\nRunning for U.S. Senator against Senator Kirsten Gillibrand\, endorsed by the Republican\, Conservative and Reform parties. She is running as an outsider with more than 25 years of business experience\, and currently Partner and Managing Director of Mistral Capital International.  www.chelefarleyforsenate.com\n   \nManny Alicandro\nSeeking the Conservative\, Reform and Republican nominations for New York State Attorney General\, against Democrat A.G. Eric Schneiderman. Financial law expert from Brooklyn\, who is running to be the People’s Lawyer\, because he is fed up with the overt corruption in Albany\, and will make sure New York does not become a sanctuary state. Daily News Article. \n \n\n\nSimon Minching\nSeeking to run for State Senate in the 11th District against Senator Avella. A fifteen year resident of Little Neck and Douglaston\, Simon has a deep background in technology\, government finance\, and education\, and is running on a platform of market-driven growth and affordability; providing cost-effective\, college and career ready public education for all; and robust ethics reform.  www.simonforny.com\n \nPat Hahn\nSeeking Republican nomination running for U.S. Senate against Senator Gillibrand.  Lifelong New Yorker living on Long Island. Create more living wage jobs\, improve our schools\, make public safety a top priority. Deal with the gang violence and epidemic of drugs\, strong vetting and Immigration reform. Build the Wall for stronger border protection\, protect our 2nd Amendment Rights.  \nwww.hahn-ussenate2018.com\nMichael O’Reilly\nSeeking the Republican and Conservative Party nomination to run for United States Congress CD 5 against Congressman Gregory Meeks.  Michael is a US Marine Corps Veteran\, an airline pilot and successful attorney. Michael is running to represent CD 5 in Congress because he believes We Can Do Better.\n\n\n \n \nVickie Paladino\nSeeking the Republican nomination to run for State Senate in the 11th District\, Vickie Paladino is a lifelong resident of Northeast Queens\, a small business owner\, and a mother of two. A longtime activist in local politics\, Vickie rose to prominence last summer by confronting Mayor DeBlasio in a video that went viral nationwide. She is running on a platform leveraging her deep ties to the community to address quality of life issues. www.vickiepaladino.com\n \n\n\n  \n\nMeeting at:\n\n Knights of Columbus/St. Anne’s Council\n263-15 Union Tpke.\, Glen Oaks NY 11004
URL:https://qvgop.org/event/qvgop-april-5th-club-meeting-upcoming-elections-2018/
LOCATION:Knights of Columbus\, St. Anne’s Council\, 263-15 Union Tpke.\, Glen Oaks\, NY\, 11004\, United States
END:VEVENT
BEGIN:VEVENT
DTSTART;TZID=America/New_York:20180415T123000
DTEND;TZID=America/New_York:20180415T173000
DTSTAMP:20260423T210921
CREATED:20171230T224654Z
LAST-MODIFIED:20180329T230652Z
UID:6581-1523795400-1523813400@qvgop.org
SUMMARY:Bridge to Life 26th Annual Dinner/Dance
DESCRIPTION:TICKET AND EVENT INFORMATION
URL:https://qvgop.org/event/bridge-life-26th-anual-dinner-dance/
LOCATION:Leonard’s of Great Neck\, 555 Northern Blvd. \, Great Neck\, NY\, United States
END:VEVENT
BEGIN:VEVENT
DTSTART;TZID=America/New_York:20180419T183000
DTEND;TZID=America/New_York:20180419T223000
DTSTAMP:20260423T210921
CREATED:20180325T232359Z
LAST-MODIFIED:20180402T220922Z
UID:6969-1524162600-1524177000@qvgop.org
SUMMARY:Queens Conservative Party Annual Spring Fundraiser
DESCRIPTION:
URL:https://qvgop.org/event/queens-conservative-party-annual-spring-fundraiser/
LOCATION:Roma View\, 160-05 Crossbay Blvd\, Howard Beach\, NY\, United States
END:VEVENT
BEGIN:VEVENT
DTSTART;TZID=America/New_York:20180430T190000
DTEND;TZID=America/New_York:20180430T210000
DTSTAMP:20260423T210921
CREATED:20180419T200318Z
LAST-MODIFIED:20180419T200409Z
UID:7247-1525114800-1525122000@qvgop.org
SUMMARY:NYPD 105th Pct. Neighborhood Policing Roll Out
DESCRIPTION:RSVP\nPlease RSVP to Detective Cooper or Officer Fitzgerald at 718-776-9173 or 9176. 
URL:https://qvgop.org/event/nypd-105th-pct-neighborhood-policing-roll-out/
LOCATION:Queens High School of Teaching\, 74-20 Commonwealth Blvd.\, Bellerose\, NY\, 11426
END:VEVENT
END:VCALENDAR