BEGIN:VCALENDAR
VERSION:2.0
PRODID:-//The Queens Village Republican Club Online - ECPv6.15.14//NONSGML v1.0//EN
CALSCALE:GREGORIAN
METHOD:PUBLISH
X-ORIGINAL-URL:https://qvgop.org
X-WR-CALDESC:Events for The Queens Village Republican Club Online
REFRESH-INTERVAL;VALUE=DURATION:PT1H
X-Robots-Tag:noindex
X-PUBLISHED-TTL:PT1H
BEGIN:VTIMEZONE
TZID:America/New_York
BEGIN:DAYLIGHT
TZOFFSETFROM:-0500
TZOFFSETTO:-0400
TZNAME:EDT
DTSTART:20170312T070000
END:DAYLIGHT
BEGIN:STANDARD
TZOFFSETFROM:-0400
TZOFFSETTO:-0500
TZNAME:EST
DTSTART:20171105T060000
END:STANDARD
BEGIN:DAYLIGHT
TZOFFSETFROM:-0500
TZOFFSETTO:-0400
TZNAME:EDT
DTSTART:20180311T070000
END:DAYLIGHT
BEGIN:STANDARD
TZOFFSETFROM:-0400
TZOFFSETTO:-0500
TZNAME:EST
DTSTART:20181104T060000
END:STANDARD
BEGIN:DAYLIGHT
TZOFFSETFROM:-0500
TZOFFSETTO:-0400
TZNAME:EDT
DTSTART:20190310T070000
END:DAYLIGHT
BEGIN:STANDARD
TZOFFSETFROM:-0400
TZOFFSETTO:-0500
TZNAME:EST
DTSTART:20191103T060000
END:STANDARD
END:VTIMEZONE
BEGIN:VEVENT
DTSTART;TZID=America/New_York:20180201T193000
DTEND;TZID=America/New_York:20180201T220000
DTSTAMP:20260424T003206
CREATED:20180114T012302Z
LAST-MODIFIED:20180114T013738Z
UID:6615-1517513400-1517522400@qvgop.org
SUMMARY:QVGOP CLUB MEETING: PAMELA GELLER BOOK EVENT
DESCRIPTION:DOWNLOAD AND PRINT FLYER
URL:https://qvgop.org/event/qvgop-club-meeting-pamela-geller-book-event/
LOCATION:NY
END:VEVENT
BEGIN:VEVENT
DTSTART;TZID=America/New_York:20180204T120000
DTEND;TZID=America/New_York:20180204T140000
DTSTAMP:20260424T003206
CREATED:20180204T031015Z
LAST-MODIFIED:20180204T031015Z
UID:6657-1517745600-1517752800@qvgop.org
SUMMARY:#PleaseStand Rally for Veterans and America!
DESCRIPTION:
URL:https://qvgop.org/event/pleasestand-rally-veterans-america/
LOCATION:H Lee Dennison Bldg\, 100 Veterans Highway\, Hauppauge\, NY
END:VEVENT
BEGIN:VEVENT
DTSTART;TZID=America/New_York:20180205T190000
DTEND;TZID=America/New_York:20180205T210000
DTSTAMP:20260424T003206
CREATED:20180204T031630Z
LAST-MODIFIED:20180204T031630Z
UID:6663-1517857200-1517864400@qvgop.org
SUMMARY:Valerie Price: Canada Silences Criticism of Islamists
DESCRIPTION:
URL:https://qvgop.org/event/valerie-price-canada-silences-criticism-islamists/
LOCATION:Matrix Media Central\, 1393 Veterans Memorial Hiway\,\,  Hauppauge\, 11788
END:VEVENT
BEGIN:VEVENT
DTSTART;TZID=America/New_York:20180213T190000
DTEND;TZID=America/New_York:20180213T210000
DTSTAMP:20260424T003206
CREATED:20171230T233103Z
LAST-MODIFIED:20180122T215804Z
UID:6590-1518548400-1518555600@qvgop.org
SUMMARY:Queens Young Republican Club February Social - New Venue
DESCRIPTION:February Social\n       Tuesday\, February 13th \nOne Station Plaza \n213-10 41st Ave. Bayside\, New York 11361\n 7pm – 9pm \nMore Information   RSVP \n  \nORGANIZER\nQueens County Young Republicans\nEmail: contact@queenscountyyr.com\nWebsite: www.queenscountyyr.com
URL:https://qvgop.org/event/queens-young-republican-club-february-social/
LOCATION:One Station Plaza\, 213-10 41st Ave.\, Bayside\, NY\, 11361
ORGANIZER;CN="Queens Young Republican Club":MAILTO:contact@queenscountyyr.com
END:VEVENT
END:VCALENDAR