BEGIN:VCALENDAR
VERSION:2.0
PRODID:-//The Queens Village Republican Club Online - ECPv6.15.14//NONSGML v1.0//EN
CALSCALE:GREGORIAN
METHOD:PUBLISH
X-WR-CALNAME:The Queens Village Republican Club Online
X-ORIGINAL-URL:https://qvgop.org
X-WR-CALDESC:Events for The Queens Village Republican Club Online
REFRESH-INTERVAL;VALUE=DURATION:PT1H
X-Robots-Tag:noindex
X-PUBLISHED-TTL:PT1H
BEGIN:VTIMEZONE
TZID:America/New_York
BEGIN:DAYLIGHT
TZOFFSETFROM:-0500
TZOFFSETTO:-0400
TZNAME:EDT
DTSTART:20160313T070000
END:DAYLIGHT
BEGIN:STANDARD
TZOFFSETFROM:-0400
TZOFFSETTO:-0500
TZNAME:EST
DTSTART:20161106T060000
END:STANDARD
BEGIN:DAYLIGHT
TZOFFSETFROM:-0500
TZOFFSETTO:-0400
TZNAME:EDT
DTSTART:20170312T070000
END:DAYLIGHT
BEGIN:STANDARD
TZOFFSETFROM:-0400
TZOFFSETTO:-0500
TZNAME:EST
DTSTART:20171105T060000
END:STANDARD
BEGIN:DAYLIGHT
TZOFFSETFROM:-0500
TZOFFSETTO:-0400
TZNAME:EDT
DTSTART:20180311T070000
END:DAYLIGHT
BEGIN:STANDARD
TZOFFSETFROM:-0400
TZOFFSETTO:-0500
TZNAME:EST
DTSTART:20181104T060000
END:STANDARD
END:VTIMEZONE
BEGIN:VEVENT
DTSTART;TZID=America/New_York:20171101T193000
DTEND;TZID=America/New_York:20171101T203000
DTSTAMP:20260424T054040
CREATED:20171030T151311Z
LAST-MODIFIED:20171030T151311Z
UID:6438-1509564600-1509568200@qvgop.org
SUMMARY:POLL WATCHERS TRAINING REVIEW MEETING
DESCRIPTION:When: Wednesday November 1\, 2017 at 7:30 pm\nWhere: Joe Concannon’s Campaign Headquarters\, 216-12 Union Tpke. Oakland Gardens\, NY 11364\nWhat: This will be a training review session with former Board of Elections Deputy Chief\, Katherine James\, for the Election Day Poll Site Operations\nFor whom?  Poll watchers\, drivers\, canvassers\, and anyone who wishes to volunteer to be involved in the November 7 Joe for NY GOTV Election Day Operations.\n \nPlease RSVP to maduroman@att.net if you plan to attend.
URL:https://qvgop.org/event/poll-watchers-training-review-meeting/
LOCATION:Joe For NY Campaign HQ\, 216-12 Union Tpke\, Oakland Gardens\, NY\, 11364\, United States
END:VEVENT
BEGIN:VEVENT
DTSTART;TZID=America/New_York:20171102T173000
DTEND;TZID=America/New_York:20171102T190000
DTSTAMP:20260424T054040
CREATED:20171030T145135Z
LAST-MODIFIED:20171030T145135Z
UID:6432-1509643800-1509649200@qvgop.org
SUMMARY:PRESS CONFERENCE & RALLY RIGHT BEFORE THE MAYOR'S TOWN HALL
DESCRIPTION:
URL:https://qvgop.org/event/press-conference-rally-right-mayors-town-hall/
LOCATION:Martin Van Burnen High School\, 230-17 Hillside Ave.\, Queens Village\, NY\, 11427
END:VEVENT
BEGIN:VEVENT
DTSTART;TZID=America/New_York:20171102T193000
DTEND;TZID=America/New_York:20171102T220000
DTSTAMP:20260424T054040
CREATED:20171015T042421Z
LAST-MODIFIED:20171015T042421Z
UID:6410-1509651000-1509660000@qvgop.org
SUMMARY:NEXT GENERAL CLUB MEETING: GET OUT THE VOTE RALLY!!
DESCRIPTION:NEXT GENERAL CLUB MEETING: THURS. NOV. 2\, 2017 AT 7:30 PM \nGOTV GET OUT THE VOTE RALLY!! \nVOTE NOVEMBER 7TH! \nFEATURED SPEAKERS: \nJUAN CARLOS POLANCO\nRepublican candidate for NYC Public Advocate \nANN SCHOCKETT\nPast President of the Nassau County and NYS Federation of Republican Women\, and 4th Vice President of NFRW for 2018 \nJOANN ARIOLA\nNew Queens County Republican Party Chair \nAND OTHER REPUBLICAN CANDIDATES! \nVisit our website www.QVGOP.org for more information on our citywide and city council candidates and upcoming events! \nMeeting at: Knights of Columbus/St. Anne’s Council\n263-15 Union Tpke.\, Glen Oaks NY 11004
URL:https://qvgop.org/event/next-general-club-meeting-get-vote-rally/
LOCATION:Knights of Columbus\, St. Anne’s Council\, 263-15 Union Tpke.\, Glen Oaks\, NY\, 11004\, United States
END:VEVENT
BEGIN:VEVENT
DTSTART;TZID=America/New_York:20171104T110000
DTEND;TZID=America/New_York:20171104T130000
DTSTAMP:20260424T054040
CREATED:20171102T060745Z
LAST-MODIFIED:20171102T060745Z
UID:6443-1509793200-1509800400@qvgop.org
SUMMARY:SAT & SUN VOLUNTEER BAGEL BREAKFAST
DESCRIPTION:
URL:https://qvgop.org/event/sat-sun-volunteer-bagel-breakfast/
LOCATION:Joe For NY Campaign HQ\, 216-12 Union Tpke\, Oakland Gardens\, NY\, 11364\, United States
END:VEVENT
BEGIN:VEVENT
DTSTART;VALUE=DATE:20171107
DTEND;VALUE=DATE:20171108
DTSTAMP:20260424T054040
CREATED:20171018T154912Z
LAST-MODIFIED:20171018T154912Z
UID:6423-1510012800-1510099199@qvgop.org
SUMMARY:VOTE NOVEMBER 7TH!!
DESCRIPTION:Tuesday Novemebr 7th\, 2017 is Election Day!! Let’s get out to vote for our Republican candidates and bring your friends to the polls! America is counting on you! \nVote for: Nicole Malliotakis for New York City Mayor\, Juan Carlos Polanco for New York City Public Advocate\, Michel Faulkner New York City Comptroller\, William Kregler for Queens Borough President \, Joe Concannon New York City Council District #23\, and Dr. Rupert Green New York City Council District #27.  \nRead more on our candidates here
URL:https://qvgop.org/event/vote-november-7th/
LOCATION:Your local Poll Site\, NYC
END:VEVENT
BEGIN:VEVENT
DTSTART;TZID=America/New_York:20171117T100000
DTEND;TZID=America/New_York:20171117T140000
DTSTAMP:20260424T054040
CREATED:20171116T015543Z
LAST-MODIFIED:20171116T015758Z
UID:6466-1510912800-1510927200@qvgop.org
SUMMARY:MAYOR’S STATUE COMMISSION TO HOLD PUBLIC HEARINGS
DESCRIPTION:Mayor de Blasio’s misguided statue commission\, also known in official parlance as the Mayoral Advisory Commission on City Art\, Monuments\, and Markers\, will hold public hearings addressing the city’s statues and monuments “seen as oppressive\,” including the iconic Christopher Columbus statue at Columbus Circle.\nThe first hearing is at Queens Borough Hall\, 120-55 Queens Blvd. Atrium\, on November 17th from 10am-2pm. The public has been invited to testify. You may sign up to testify online here:  https://cityofny.cp.bsd.net/page/signup/publichearing \nThis politically correct commission includes the mayor’s leftwing friend\, Harry Belafonte\, an anti-America hate-monger who stated that Bush is the world’s greatest terrorist\, worse than bin Laden\, and advised Obama to start a dictatorship and jail Republicans. He and other allied critics and partisans will judge whether or not to eliminate NYC’s five statues dedicated to the memory of Columbus\, and other historic NYC statues and monuments seen as “symbols of hate.” A group of us will be going to the public hearing to testify and we urge you to sign up and speak out to preserve our American history and civilization.  
URL:https://qvgop.org/event/mayors-statue-commission-hold-public-hearings/
LOCATION:Queens Borough Hall\, 120-55 Queens Blvd\, Kew Gardens\, 11424
END:VEVENT
BEGIN:VEVENT
DTSTART;TZID=America/New_York:20171120T193000
DTEND;TZID=America/New_York:20171120T213000
DTSTAMP:20260424T054040
CREATED:20171116T015031Z
LAST-MODIFIED:20171116T015031Z
UID:6461-1511206200-1511213400@qvgop.org
SUMMARY:INTERFAITH THANKSGIVING GATHERING
DESCRIPTION:
URL:https://qvgop.org/event/interfaith-thanksgiving-gathering/
LOCATION:Bellerose Jewish Center\, 254-14 Union Tpke. \, Glen Oaks\, NY\, 11004\, United States
END:VEVENT
END:VCALENDAR