BEGIN:VCALENDAR
VERSION:2.0
PRODID:-//The Queens Village Republican Club Online - ECPv6.15.14//NONSGML v1.0//EN
CALSCALE:GREGORIAN
METHOD:PUBLISH
X-WR-CALNAME:The Queens Village Republican Club Online
X-ORIGINAL-URL:https://qvgop.org
X-WR-CALDESC:Events for The Queens Village Republican Club Online
REFRESH-INTERVAL;VALUE=DURATION:PT1H
X-Robots-Tag:noindex
X-PUBLISHED-TTL:PT1H
BEGIN:VTIMEZONE
TZID:America/New_York
BEGIN:DAYLIGHT
TZOFFSETFROM:-0500
TZOFFSETTO:-0400
TZNAME:EDT
DTSTART:20160313T070000
END:DAYLIGHT
BEGIN:STANDARD
TZOFFSETFROM:-0400
TZOFFSETTO:-0500
TZNAME:EST
DTSTART:20161106T060000
END:STANDARD
BEGIN:DAYLIGHT
TZOFFSETFROM:-0500
TZOFFSETTO:-0400
TZNAME:EDT
DTSTART:20170312T070000
END:DAYLIGHT
BEGIN:STANDARD
TZOFFSETFROM:-0400
TZOFFSETTO:-0500
TZNAME:EST
DTSTART:20171105T060000
END:STANDARD
BEGIN:DAYLIGHT
TZOFFSETFROM:-0500
TZOFFSETTO:-0400
TZNAME:EDT
DTSTART:20180311T070000
END:DAYLIGHT
BEGIN:STANDARD
TZOFFSETFROM:-0400
TZOFFSETTO:-0500
TZNAME:EST
DTSTART:20181104T060000
END:STANDARD
END:VTIMEZONE
BEGIN:VEVENT
DTSTART;TZID=America/New_York:20170907T193000
DTEND;TZID=America/New_York:20170907T220000
DTSTAMP:20260424T091713
CREATED:20170806T042134Z
LAST-MODIFIED:20170824T032522Z
UID:6186-1504812600-1504821600@qvgop.org
SUMMARY:General Club Meeting: Citywide GOP Candidates Rally
DESCRIPTION:NEXT GENERAL CLUB MEETING: Thurs. Sept 7\, 2017 at 7:30 pm \nCitywide Candidates Rally!!\nFEATURED SPEAKERS:  \nMICHEL FAULKNER\nRepublican candidate for NYC Comptroller \nJUAN CARLOS POLANCO\nRepublican candidate for NYC Public Advocate \nWILLIAM KREGLER\nRepublican candidate for Queens Borough President \nJOE CONCANNON\nRepublican candidate for NYC Council District #23 \n RUPERT GREEN\nRepublican candidate for NYC Council District #27 \nMeeting at: Knights of Columbus/St. Anne’s Council \n263-15 Union Tpke.\nGlen Oaks\, NY 11004\n 
URL:https://qvgop.org/event/general-club-meeting-citywide-gop-candidates-rally/
LOCATION:Knights of Columbus\, St. Anne’s Council\, 263-15 Union Tpke.\, Glen Oaks\, NY\, 11004\, United States
END:VEVENT
BEGIN:VEVENT
DTSTART;TZID=America/New_York:20170911T190000
DTEND;TZID=America/New_York:20170911T200000
DTSTAMP:20260424T091713
CREATED:20170905T160920Z
LAST-MODIFIED:20170905T160920Z
UID:6263-1505156400-1505160000@qvgop.org
SUMMARY:BHCA 9/11 Ceremony
DESCRIPTION:
URL:https://qvgop.org/event/bhca-911-ceremony/
LOCATION:Memorial Gardens\, Horace Harding Expy & Bell Blvd.\, Bayside\, NY
END:VEVENT
BEGIN:VEVENT
DTSTART;TZID=America/New_York:20170913T070000
DTEND;TZID=America/New_York:20170913T210000
DTSTAMP:20260424T091713
CREATED:20170905T162241Z
LAST-MODIFIED:20170913T013749Z
UID:6270-1505286000-1505336400@qvgop.org
SUMMARY:Postponed to Oct 18th: Queens Conservative and Republican Party Fundraiser for Nicole Malliotakis
DESCRIPTION:THIS EVENT HAS BEEN POSTPONED UNTIL OCTOBER 18TH \n\nNICOLE MALLIOTAKIS FOR NYC MAYOR
URL:https://qvgop.org/event/queens-conservative-republican-party-fundraiser-nicole-malliotakis/
LOCATION:American Legion Post 1424\, 10715 Metropolitan Ave\, Forest Hills\, 11375
END:VEVENT
BEGIN:VEVENT
DTSTART;TZID=America/New_York:20170916T090000
DTEND;TZID=America/New_York:20170916T150000
DTSTAMP:20260424T091713
CREATED:20170825T033017Z
LAST-MODIFIED:20170910T014915Z
UID:6231-1505552400-1505574000@qvgop.org
SUMMARY:HISTORY AND SIGNIFICANCE OF THE U.S. CONSTITUTION
DESCRIPTION:
URL:https://qvgop.org/event/history-significance-u-s-constitution/
LOCATION:Mateus Restaurant\, 222-05 Jamaica Av.\, Queens Village\, NY
END:VEVENT
BEGIN:VEVENT
DTSTART;TZID=America/New_York:20170926T193000
DTEND;TZID=America/New_York:20170926T213000
DTSTAMP:20260424T091713
CREATED:20170912T151707Z
LAST-MODIFIED:20170919T045319Z
UID:6296-1506454200-1506461400@qvgop.org
SUMMARY:Coffee & Cake Parlor Meeting in support of Joe Concannon
DESCRIPTION:
URL:https://qvgop.org/event/coffee-cake-parlor-meeting-support-joe-concannon/
LOCATION:RSVP for location
END:VEVENT
BEGIN:VEVENT
DTSTART;TZID=America/New_York:20170928T190000
DTEND;TZID=America/New_York:20170928T210000
DTSTAMP:20260424T091713
CREATED:20170920T044700Z
LAST-MODIFIED:20170920T044700Z
UID:6325-1506625200-1506632400@qvgop.org
SUMMARY:Queens Village Reception in Support of Joe Concannon for City Council
DESCRIPTION:
URL:https://qvgop.org/event/queens-village-reception-support-joe-concannon-city-council/
LOCATION:Etwaroo Family Residence -RSVP for address
END:VEVENT
END:VCALENDAR