BEGIN:VCALENDAR
VERSION:2.0
PRODID:-//The Queens Village Republican Club Online - ECPv6.15.14//NONSGML v1.0//EN
CALSCALE:GREGORIAN
METHOD:PUBLISH
X-ORIGINAL-URL:https://qvgop.org
X-WR-CALDESC:Events for The Queens Village Republican Club Online
REFRESH-INTERVAL;VALUE=DURATION:PT1H
X-Robots-Tag:noindex
X-PUBLISHED-TTL:PT1H
BEGIN:VTIMEZONE
TZID:America/New_York
BEGIN:DAYLIGHT
TZOFFSETFROM:-0500
TZOFFSETTO:-0400
TZNAME:EDT
DTSTART:20160313T070000
END:DAYLIGHT
BEGIN:STANDARD
TZOFFSETFROM:-0400
TZOFFSETTO:-0500
TZNAME:EST
DTSTART:20161106T060000
END:STANDARD
BEGIN:DAYLIGHT
TZOFFSETFROM:-0500
TZOFFSETTO:-0400
TZNAME:EDT
DTSTART:20170312T070000
END:DAYLIGHT
BEGIN:STANDARD
TZOFFSETFROM:-0400
TZOFFSETTO:-0500
TZNAME:EST
DTSTART:20171105T060000
END:STANDARD
BEGIN:DAYLIGHT
TZOFFSETFROM:-0500
TZOFFSETTO:-0400
TZNAME:EDT
DTSTART:20180311T070000
END:DAYLIGHT
BEGIN:STANDARD
TZOFFSETFROM:-0400
TZOFFSETTO:-0500
TZNAME:EST
DTSTART:20181104T060000
END:STANDARD
END:VTIMEZONE
BEGIN:VEVENT
DTSTART;TZID=America/New_York:20170713T183000
DTEND;TZID=America/New_York:20170713T210000
DTSTAMP:20260424T123951
CREATED:20170709T034710Z
LAST-MODIFIED:20170709T034710Z
UID:6147-1499970600-1499979600@qvgop.org
SUMMARY:Reception in Support of Nicole Malliotakis
DESCRIPTION:
URL:https://qvgop.org/event/reception-support-nicole-malliotakis/
LOCATION:Il Bacco Ristorane Italiano\, 253-24 Northern Blvd. \, Little Neck\, NY\, 11362\, United States
END:VEVENT
BEGIN:VEVENT
DTSTART;TZID=America/New_York:20170727T190000
DTEND;TZID=America/New_York:20170727T230000
DTSTAMP:20260424T123951
CREATED:20170723T153944Z
LAST-MODIFIED:20170723T153944Z
UID:6157-1501182000-1501196400@qvgop.org
SUMMARY:Campaign Summer Party to Support Marvin Jeffcoat for City Council
DESCRIPTION:
URL:https://qvgop.org/event/campaign-summer-party-support-marvin-jeffcoat-city-council/
LOCATION:Tito Rad’s\, 49-10 Queens Blvd.\, Sunnyside\, NY\, 11104
END:VEVENT
END:VCALENDAR