BEGIN:VCALENDAR
VERSION:2.0
PRODID:-//The Queens Village Republican Club Online - ECPv6.15.14//NONSGML v1.0//EN
CALSCALE:GREGORIAN
METHOD:PUBLISH
X-ORIGINAL-URL:https://qvgop.org
X-WR-CALDESC:Events for The Queens Village Republican Club Online
REFRESH-INTERVAL;VALUE=DURATION:PT1H
X-Robots-Tag:noindex
X-PUBLISHED-TTL:PT1H
BEGIN:VTIMEZONE
TZID:America/New_York
BEGIN:DAYLIGHT
TZOFFSETFROM:-0500
TZOFFSETTO:-0400
TZNAME:EDT
DTSTART:20160313T070000
END:DAYLIGHT
BEGIN:STANDARD
TZOFFSETFROM:-0400
TZOFFSETTO:-0500
TZNAME:EST
DTSTART:20161106T060000
END:STANDARD
BEGIN:DAYLIGHT
TZOFFSETFROM:-0500
TZOFFSETTO:-0400
TZNAME:EDT
DTSTART:20170312T070000
END:DAYLIGHT
BEGIN:STANDARD
TZOFFSETFROM:-0400
TZOFFSETTO:-0500
TZNAME:EST
DTSTART:20171105T060000
END:STANDARD
BEGIN:DAYLIGHT
TZOFFSETFROM:-0500
TZOFFSETTO:-0400
TZNAME:EDT
DTSTART:20180311T070000
END:DAYLIGHT
BEGIN:STANDARD
TZOFFSETFROM:-0400
TZOFFSETTO:-0500
TZNAME:EST
DTSTART:20181104T060000
END:STANDARD
END:VTIMEZONE
BEGIN:VEVENT
DTSTART;TZID=America/New_York:20170406T193000
DTEND;TZID=America/New_York:20170406T213000
DTSTAMP:20260424T175300
CREATED:20170322T224804Z
LAST-MODIFIED:20170327T123455Z
UID:5730-1491507000-1491514200@qvgop.org
SUMMARY:NEXT GENERAL CLUB MEETING: REPEALING AND REPLACING OBAMACARE
DESCRIPTION:Next General Club Meeting: Thurs. April 6\, 2017 at 7:30 pm \nREPEALING AND REPLACING OBAMACARE \nA Presentation on the State of Healthcare in America \nFEATURED SPEAKER: \nDr. William Kokotos\, MD\, FACS\, Chief of Cardiac Surgery\, Winthrop University Hospital\, Board Certified Cardiovascular Surgeon specializing in valve repair. \nThe Repeal and Replacement of Obamacare has faced a rocky start in Congress\, yet no issue is more important for Republicans than repealing and replacing the disaster known as Obamacare or the Affordable Care Act. But the public has been sorely misled and misinformed on the pitfalls of the ACA for eight long years. Dr. Kokotos will give us a Surgeon’s-eye view from within the healthcare system\, exploding the myths and lies about the ACA and bringing us up to date on the issues involving repealing and replacing Obamacare. Our duty as citizens is to be informed with the up-to-the-minute issues and facts on the state of healthcare in America today. \nSPECIAL GUEST SPEAKER: \nRev. Michel Faulkner\, Republican NYC Mayoral Candidate\, Former NY Jets Football Player\, Founder and Pastor of the New Horizon Church of New York in Harlem. \nSPECIAL GUEST SPEAKER: \nRyan James Girdusky\, Fox News\, TV and Media Commentator\, President Middle Village Republican Club\, Director of NYS GOP Phone Banking Center in Queens. He will discuss the new Go Red NY project to grow the GOP in Queens and recruit new Republicans using the hi-tech i-360 system. \nMeeting at: Knights of Columbus/St. Anne’s Council\n263-15 Union Tpke.\, Glen Oaks NY 11004
URL:https://qvgop.org/event/next-general-club-meeting-repealing-replacing-obamacare/
LOCATION:Knights of Columbus\, St. Anne’s Council\, 263-15 Union Tpke.\, Glen Oaks\, NY\, 11004\, United States
END:VEVENT
BEGIN:VEVENT
DTSTART;TZID=America/New_York:20170424T170000
DTEND;TZID=America/New_York:20170424T210000
DTSTAMP:20260424T175300
CREATED:20170417T040805Z
LAST-MODIFIED:20170417T040805Z
UID:5947-1493053200-1493067600@qvgop.org
SUMMARY:Queens Village Eagle Newsletter Distribution
DESCRIPTION:QVE NEWSLETTER DISTRIBUTION\nSpread the message of freedom and prosperity in  our community!\n  \n\nPick up your Queens Village Eagle newsletters for distribution to our local Election Districts (ED) on Monday\, April 24\, any time between 5pm – 9pm at Joe Concannon’s home\, 89-11 237 St.\, Bellerose\, NY.\n \nLets’ spread the message of hope\, freedom\, prosperity and limited government with the May newsletter. Let’s inform our neighbors about our upcoming Queens Village Republican Club meeting in honor of National Police Week\, where we will be honoring the 105th Precinct’s Cops of the Month. Use our newsletter as the vehicle to wake up our fellow Republicans and rally them to our cause\, in order to win the upcoming city council and mayoral elections this year!\n \nPlease confirm your availability via email to maduroman@att.net or 917-620-2663. We need confirmations in order to plan in advance the EDs we’re going to blitz.
URL:https://qvgop.org/event/queens-village-eagle-newsletter-distribution/
LOCATION:Joe Concannon\, 216-12 Union Tpke.\, Oakland Gardens\, NY\, 11364\, United States
END:VEVENT
BEGIN:VEVENT
DTSTART;TZID=America/New_York:20170427T193000
DTEND;TZID=America/New_York:20170427T220000
DTSTAMP:20260424T175300
CREATED:20170406T155100Z
LAST-MODIFIED:20170406T155100Z
UID:5842-1493321400-1493330400@qvgop.org
SUMMARY:Queens County Conservative Party Spring Cocktail Party
DESCRIPTION:
URL:https://qvgop.org/event/queens-county-conservative-party-spring-cocktail-party-2/
LOCATION:Roma View\, 160-05 Crossbay Blvd\, Howard Beach\, NY\, United States
END:VEVENT
BEGIN:VEVENT
DTSTART;TZID=America/New_York:20170430T123000
DTEND;TZID=America/New_York:20170430T173000
DTSTAMP:20260424T175300
CREATED:20170214T230711Z
LAST-MODIFIED:20170214T230711Z
UID:5616-1493555400-1493573400@qvgop.org
SUMMARY:The Bridge to Life's 25th Jubilee Gala
DESCRIPTION:
URL:https://qvgop.org/event/bridge-lifes-25th-jubilee-gala/
LOCATION:Leonard’s of Great Neck\, 555 Northern Blvd. \, Great Neck\, NY\, United States
ATTACH;FMTTYPE=image/jpeg:https://qvgop.org/wp-content/uploads/2017/02/2017GalaInvite-Silver-1.jpg
END:VEVENT
END:VCALENDAR