BEGIN:VCALENDAR
VERSION:2.0
PRODID:-//The Queens Village Republican Club Online - ECPv6.15.14//NONSGML v1.0//EN
CALSCALE:GREGORIAN
METHOD:PUBLISH
X-ORIGINAL-URL:https://qvgop.org
X-WR-CALDESC:Events for The Queens Village Republican Club Online
REFRESH-INTERVAL;VALUE=DURATION:PT1H
X-Robots-Tag:noindex
X-PUBLISHED-TTL:PT1H
BEGIN:VTIMEZONE
TZID:America/New_York
BEGIN:DAYLIGHT
TZOFFSETFROM:-0500
TZOFFSETTO:-0400
TZNAME:EDT
DTSTART:20160313T070000
END:DAYLIGHT
BEGIN:STANDARD
TZOFFSETFROM:-0400
TZOFFSETTO:-0500
TZNAME:EST
DTSTART:20161106T060000
END:STANDARD
BEGIN:DAYLIGHT
TZOFFSETFROM:-0500
TZOFFSETTO:-0400
TZNAME:EDT
DTSTART:20170312T070000
END:DAYLIGHT
BEGIN:STANDARD
TZOFFSETFROM:-0400
TZOFFSETTO:-0500
TZNAME:EST
DTSTART:20171105T060000
END:STANDARD
BEGIN:DAYLIGHT
TZOFFSETFROM:-0500
TZOFFSETTO:-0400
TZNAME:EDT
DTSTART:20180311T070000
END:DAYLIGHT
BEGIN:STANDARD
TZOFFSETFROM:-0400
TZOFFSETTO:-0500
TZNAME:EST
DTSTART:20181104T060000
END:STANDARD
END:VTIMEZONE
BEGIN:VEVENT
DTSTART;TZID=America/New_York:20170302T193000
DTEND;TZID=America/New_York:20170302T220000
DTSTAMP:20260424T193935
CREATED:20170216T164933Z
LAST-MODIFIED:20170216T164933Z
UID:5623-1488483000-1488492000@qvgop.org
SUMMARY:Next General Club Meeting: Reclaim New York & more
DESCRIPTION:Next General Club meeting: Thurs. Mar 2\, 2017 at 7:30 pm \n \nFEATURED SPEAKER:  BRANDON MUIR \nBrandon Muir is the Executive Director of the Reclaim New York Center for Government Reform and Accountability. \nTopic: NYC Mayor Bill De Blasio’s latest budget proposal – at $84.6 billion dollars – is nearly 25% higher than Mayor Bloomberg’s last effort. The bottom line for New Yorkers\, our taxes will make up the difference. To fully understand how these budgets impact you and your family\, we’ll explore the financial obligations these spending promises carry\, along with an outlook for governance across New York over the next two years. \nReclaim New York is a non-partisan\, 501c3 non-profit organization that educates New Yorkers on issues like affordability\, transparency\, and education; empowering citizens to engage their state and local government. \nAND SPECIAL GUEST SPEAKER:  PAUL MASSEY\nRepublican candidate for Mayor of New York City \nMeeting at: Knights of Columbus/St. Anne’s Council\n263-15 Union Tpke.\, Glen Oaks NY 11004
URL:https://qvgop.org/event/next-general-club-meeting-reclaim-new-york/
LOCATION:Knights of Columbus\, St. Anne’s Council\, 263-15 Union Tpke.\, Glen Oaks\, NY\, 11004\, United States
END:VEVENT
BEGIN:VEVENT
DTSTART;TZID=America/New_York:20170304T120000
DTEND;TZID=America/New_York:20170304T150000
DTSTAMP:20260424T193936
CREATED:20170212T211402Z
LAST-MODIFIED:20170212T211402Z
UID:5613-1488628800-1488639600@qvgop.org
SUMMARY:Spirit of America Rally
DESCRIPTION:Spirit of America Rally\nWe the People of America Stand United. \nPlease join fellow neighbors\, patriots and Americans who want to stand up for the Spirit of America. Spirit of America is a national rally being organized by Main Street Patriots. https://www.facebook.com/events/202470300231409/?active_tab=about  \nDate: March 4th\, 2017\nTime: 12:00 PM to 3:00 PM\nLocation: H.Lee Dennison Building\, 100 Veterans Highway\, Hauppauge\, NY \nAmerica has a lot of problems that must be addressed. Most of all we need to stand united with our president who wants to do something to fix America. America is a nation of values and laws. Once again we must make sure our values are heard. \nMany people became involved in politics for the first time in November and voted for Donald Trump. Let’s let them know we are here and we too agree with their values and beliefs. \n• Bring your signs.\n• Bring your chairs.\n• Bring your flags.\n• Bring your friends.\n• Most of all bring your VOICES for America! \nPlease share this event with your friends not on the computer. Thank you and God bless America. \nPS: Here’s a tribute to all those CSA members that never gave up and continued the fight for freedom:\nhttps://www.youtube.com/watch?v=susdEbgMllc
URL:https://qvgop.org/event/spirit-america-rally/
LOCATION:H Lee Dennison Bldg\, 100 Veterans Highway\, Hauppauge\, NY
END:VEVENT
BEGIN:VEVENT
DTSTART;TZID=America/New_York:20170308T180000
DTEND;TZID=America/New_York:20170308T220000
DTSTAMP:20260424T193936
CREATED:20170216T172932Z
LAST-MODIFIED:20170216T173225Z
UID:5627-1488996000-1489010400@qvgop.org
SUMMARY:Bronx Republican Party Chairman’s Dinner
DESCRIPTION:Bronx Republican Party Chairman’s Dinner\n~Honoring~ \nJOHN GREANEY\, Chairman Emeritus \nKeynote Speaker: Assemblyman Ron Castorina \n~Honoring~ \nP.O. FREDERICK WINTER\, PBA Financial Secretary \nWAYNE GURMAN\, Republican Humanitarian Award  \nFRANK SPOTORNO\, Business and Community Leader \nDERYL MCKISSACK\, Woman of the Year Award \nWednesday\, March 8th\, 2017 \n6 PM at The Villa Barone Manor \n737 Throgs Neck Expy\, Bronx\, NY 10465 \n$150 Per Person – Make Checks Payable to: Bronx GOP \nMail to: 199 Throgs Neck Blvd. Bronx\, NY 10465 \nPurchase tickets online: http://thebronxgop.org
URL:https://qvgop.org/event/bronx-republican-party-chairmans-dinner/
LOCATION:Villa Barone Manor\, 737 Throgs Neck Expy\, Bronx\, NY\, 10465
END:VEVENT
BEGIN:VEVENT
DTSTART;TZID=America/New_York:20170319T150000
DTEND;TZID=America/New_York:20170319T200000
DTSTAMP:20260424T193936
CREATED:20161214T020748Z
LAST-MODIFIED:20170316T233538Z
UID:5484-1489935600-1489953600@qvgop.org
SUMMARY:142nd ANNIVERSARY LINCOLN DINNER
DESCRIPTION:142nd ANNIVERSARY LINCOLN DINNER\nSunday\, March 19\, 2017\n3-8pm at Antun’s\, Queens Village\, NY\n$100 per person ($125 at the door)\n \nOur annual dinner party over the decades has notably earned the reputation as the highlight of New York City’s Republican political calendar.  On Sunday March 19\, 2017 join us for our biggest and best Lincoln Dinner celebration to date. Join us for the most lavish GOP political event of the year as we honor Abraham Lincoln\, our greatest American president\, and celebrate the victories of President Donald Trump and Republicans throughout our nation. We are holding the price still at $100 per person – a bargain by today’s dinner-dance standards. Purchase your tickets in advance\, either securely online below\, or print out the mail-in reservation form. The price will be $125 at the door\, so make sure to reserve your seats in advance.  \nPURCHASE TICKETS ONLINE \n Print FLYER and RESERVATION FORM
URL:https://qvgop.org/event/special-announcement-142nd-anniversary-lincoln-dinner/
LOCATION:Antun’s\, 96-43 Springfield Blvd. \, Queens Village\, 11429
END:VEVENT
BEGIN:VEVENT
DTSTART;TZID=America/New_York:20170325T080000
DTEND;TZID=America/New_York:20170325T120000
DTSTAMP:20260424T193936
CREATED:20170208T021700Z
LAST-MODIFIED:20170208T021700Z
UID:5600-1490428800-1490443200@qvgop.org
SUMMARY:2017 International Gift of Life Walk
DESCRIPTION:
URL:https://qvgop.org/event/2017-international-gift-life-walk/
LOCATION:Foley Square\, 111 Worth St.\, Manhattan\, NY\, 10013
END:VEVENT
END:VCALENDAR