BEGIN:VCALENDAR
VERSION:2.0
PRODID:-//The Queens Village Republican Club Online - ECPv6.15.14//NONSGML v1.0//EN
CALSCALE:GREGORIAN
METHOD:PUBLISH
X-WR-CALNAME:The Queens Village Republican Club Online
X-ORIGINAL-URL:https://qvgop.org
X-WR-CALDESC:Events for The Queens Village Republican Club Online
REFRESH-INTERVAL;VALUE=DURATION:PT1H
X-Robots-Tag:noindex
X-PUBLISHED-TTL:PT1H
BEGIN:VTIMEZONE
TZID:America/New_York
BEGIN:DAYLIGHT
TZOFFSETFROM:-0500
TZOFFSETTO:-0400
TZNAME:EDT
DTSTART:20160313T070000
END:DAYLIGHT
BEGIN:STANDARD
TZOFFSETFROM:-0400
TZOFFSETTO:-0500
TZNAME:EST
DTSTART:20161106T060000
END:STANDARD
BEGIN:DAYLIGHT
TZOFFSETFROM:-0500
TZOFFSETTO:-0400
TZNAME:EDT
DTSTART:20170312T070000
END:DAYLIGHT
BEGIN:STANDARD
TZOFFSETFROM:-0400
TZOFFSETTO:-0500
TZNAME:EST
DTSTART:20171105T060000
END:STANDARD
BEGIN:DAYLIGHT
TZOFFSETFROM:-0500
TZOFFSETTO:-0400
TZNAME:EDT
DTSTART:20180311T070000
END:DAYLIGHT
BEGIN:STANDARD
TZOFFSETFROM:-0400
TZOFFSETTO:-0500
TZNAME:EST
DTSTART:20181104T060000
END:STANDARD
END:VTIMEZONE
BEGIN:VEVENT
DTSTART;TZID=America/New_York:20170201T150000
DTEND;TZID=America/New_York:20170201T160000
DTSTAMP:20260424T212330
CREATED:20170129T184821Z
LAST-MODIFIED:20170129T185350Z
UID:5564-1485961200-1485964800@qvgop.org
SUMMARY:Veterans Rally Against Mayor's Budget Cuts to Veterans Services
DESCRIPTION:Veterans Rally Against Mayor’s Budget Cuts to Veteran Services \nWednesday\, February 1st\, 2017 \n3pm \nSteps of City Hall \nSenator Marty Golden\, Reverend Michel Faulkner\, Elected Officials and Veterans will join together to voice their opposition to Mayor de Blasio’s budget cuts to vital veteran services. \nEveryone is invited to attend to show their support to NYC veterans
URL:https://qvgop.org/event/veterans-rally-mayors-budget-cuts-veterans-services/
LOCATION:New York City Hall\, B'way\, Park Row & Chambers St. \, New York\, NY\, 10007\, United States
END:VEVENT
BEGIN:VEVENT
DTSTART;TZID=America/New_York:20170202T193000
DTEND;TZID=America/New_York:20170202T213000
DTSTAMP:20260424T212330
CREATED:20170119T034422Z
LAST-MODIFIED:20170119T034422Z
UID:5527-1486063800-1486071000@qvgop.org
SUMMARY:NEXT GENERAL CLUB MEETING:  BOOK SIGNING EVENT WITH HEATHER MAC DONALD
DESCRIPTION:
URL:https://qvgop.org/event/next-general-club-meeting-book-signing-event-heather-mac-donald/
LOCATION:Knights of Columbus\, St. Anne’s Council\, 263-15 Union Tpke.\, Glen Oaks\, NY\, 11004\, United States
END:VEVENT
BEGIN:VEVENT
DTSTART;TZID=America/New_York:20170205T120000
DTEND;TZID=America/New_York:20170205T140000
DTSTAMP:20260424T212330
CREATED:20170201T005747Z
LAST-MODIFIED:20170204T234851Z
UID:5578-1486296000-1486303200@qvgop.org
SUMMARY:We The People Support President Trump Rally
DESCRIPTION:We The People Support President Trump\n \nSunday at 12 PM – 2 PM\n5th Ave & 55th St. \nNear Trump Tower New York\n725 5th Ave\, New York\, New York 10022 \nMessage from organizers: \nHello everyone\, just some quick updates. First off\, both myself (Diane Atkins) and Cindy Grosz look forward to seeing you all at the rally we’re organizing to support our President Trump! We’ll be located on 5th Avenue btwn 55th & 56th Street. A list of speakers will be posted towards the end of the week. Also\, please bring American flags to show our patriotism and support. And please dress warm! We’ll be posting updates soon. Thank you all and God Bless!
URL:https://qvgop.org/event/people-support-president-trump-rally/
LOCATION:Near Trump Tower\, 55th St. & 5th Ave\, New York\, NY
END:VEVENT
BEGIN:VEVENT
DTSTART;TZID=America/New_York:20170209T180000
DTEND;TZID=America/New_York:20170209T220000
DTSTAMP:20260424T212330
CREATED:20170125T161827Z
LAST-MODIFIED:20170125T161827Z
UID:5555-1486663200-1486677600@qvgop.org
SUMMARY:The Cathedral Club 117th Anniversary Dinner
DESCRIPTION: 
URL:https://qvgop.org/event/cathedral-club-117th-anniversary-dinner/
LOCATION:New York Marriot Marquis\, 1535 Broadway\, New York\, NY\, 10036
END:VEVENT
BEGIN:VEVENT
DTSTART;TZID=America/New_York:20170226T190000
DTEND;TZID=America/New_York:20170226T210000
DTSTAMP:20260424T212330
CREATED:20170218T015759Z
LAST-MODIFIED:20170218T015943Z
UID:5636-1488135600-1488142800@qvgop.org
SUMMARY:An Evening of Interfaith Music and Friendship
DESCRIPTION:
URL:https://qvgop.org/event/evening-interfaith-music-friendship/
LOCATION:Bellerose Jewish Center\, 254-14 Union Tpke. \, Glen Oaks\, NY\, 11004\, United States
ORGANIZER;CN="Eastern Queens Interfiath Council":MAILTO:belleroserabbi@yahoo.com
END:VEVENT
END:VCALENDAR