BEGIN:VCALENDAR
VERSION:2.0
PRODID:-//The Queens Village Republican Club Online - ECPv6.15.14//NONSGML v1.0//EN
CALSCALE:GREGORIAN
METHOD:PUBLISH
X-WR-CALNAME:The Queens Village Republican Club Online
X-ORIGINAL-URL:https://qvgop.org
X-WR-CALDESC:Events for The Queens Village Republican Club Online
REFRESH-INTERVAL;VALUE=DURATION:PT1H
X-Robots-Tag:noindex
X-PUBLISHED-TTL:PT1H
BEGIN:VTIMEZONE
TZID:America/New_York
BEGIN:DAYLIGHT
TZOFFSETFROM:-0500
TZOFFSETTO:-0400
TZNAME:EDT
DTSTART:20150308T070000
END:DAYLIGHT
BEGIN:STANDARD
TZOFFSETFROM:-0400
TZOFFSETTO:-0500
TZNAME:EST
DTSTART:20151101T060000
END:STANDARD
BEGIN:DAYLIGHT
TZOFFSETFROM:-0500
TZOFFSETTO:-0400
TZNAME:EDT
DTSTART:20160313T070000
END:DAYLIGHT
BEGIN:STANDARD
TZOFFSETFROM:-0400
TZOFFSETTO:-0500
TZNAME:EST
DTSTART:20161106T060000
END:STANDARD
BEGIN:DAYLIGHT
TZOFFSETFROM:-0500
TZOFFSETTO:-0400
TZNAME:EDT
DTSTART:20170312T070000
END:DAYLIGHT
BEGIN:STANDARD
TZOFFSETFROM:-0400
TZOFFSETTO:-0500
TZNAME:EST
DTSTART:20171105T060000
END:STANDARD
END:VTIMEZONE
BEGIN:VEVENT
DTSTART;TZID=America/New_York:20160701T130000
DTEND;TZID=America/New_York:20160701T180000
DTSTAMP:20260425T094115
CREATED:20160607T171117Z
LAST-MODIFIED:20160607T171117Z
UID:5001-1467378000-1467396000@qvgop.org
SUMMARY:Veterans Summer Fun Program
DESCRIPTION:
URL:https://qvgop.org/event/veterans-summer-fun-program/
LOCATION:VFW Post 5298\, 143-17 Springfield Blvd. \, Jamaica\, NY\, 11413\, United States
END:VEVENT
BEGIN:VEVENT
DTSTART;TZID=America/New_York:20160711T133000
DTEND;TZID=America/New_York:20160711T143000
DTSTAMP:20260425T094115
CREATED:20160711T031121Z
LAST-MODIFIED:20160711T031121Z
UID:5057-1468243800-1468247400@qvgop.org
SUMMARY:PRESS CONFERENCE: WE DEMAND ANSWERS - INVESTIGATE OUR SCHOOLS
DESCRIPTION:WE DEMAND ANSWERS\, APOLOGIES AND INVESTIGATIONS\nProtecting our Teachers and Children for a Better Education\nCONTACT: Cindy\nPHONE: 347-946-1931 \n \n  \n  \n  \n  \n  \n  \n  \nWHEN: Monday\, July 11\, 2016 – 1:30PM Sharp\nWHERE: MS226\, 121-10 Rockaway Blvd.\, South Ozone Park\, Queens\nWHAT: \n\nUPDATES ON MS 226 FROM STAFF AND EVIDENCE QUESTIONING THE NYCDOE’S OVERSIGHT OF PRINCIPAL RUSHELL WHITE\nREPRESENTATIVES FROM THE JEWISH\, HINDU AND LOCAL COMMUNITIES ADDRESSING BIAS AND SCANDALS IN THE SCHOOLS\nNATIONAL SECURITY SPECIALIST ON SAFETY AND AVOIDING ANOTHER DALLAS\nNEW INFORMATION ON NYCDOE POSSIBLE VIOLATIONS AND A CALL FOR FEDERAL PROBE\n\nThe media and all concerned citizens are invited to attend the press conference\, hosted by former NYPD Captain Joseph Concannon. \n###
URL:https://qvgop.org/event/press-conference-demand-answers-investigate-schools/
LOCATION:MS226\, 121-10 Rockaway Blvd.\, South Ozone Park\, NY
END:VEVENT
BEGIN:VEVENT
DTSTART;TZID=America/New_York:20160721T193000
DTEND;TZID=America/New_York:20160721T220000
DTSTAMP:20260425T094115
CREATED:20160714T160732Z
LAST-MODIFIED:20160714T160732Z
UID:5073-1469129400-1469138400@qvgop.org
SUMMARY:RNC VIEWING PARTY
DESCRIPTION:Welcome to the RNC VIEWING PARTY! Come join us as we watch Donald J Trump accept Republican nomination for President of the United States. Are you excited? We are!!!! \n \nThursday\, July 21 at 7:30 PM\n Knights of Columbus\, St. Anne’s Council\n 263-15 Union Tpke\,\n Glen Oaks\, NY 11004 \nThis event sets the stage for the 2017 New York City Council race in District #23. Joseph R. Concannon will be formally announcing his intention to run and asks that each of you send in or bring with you a suggested contribution of $35.00 personal check made out to “Joe For NY” with a contribution card which will be provided. Refreshments will be served. Take the Facebook Event Poll: Who will Trump pick as his VP? For more information\, details and to RSVP please sign up on the Facebook Event.
URL:https://qvgop.org/event/rnc-viewing-party/
LOCATION:Knights of Columbus\, St. Anne’s Council\, 263-15 Union Tpke.\, Glen Oaks\, NY\, 11004\, United States
END:VEVENT
BEGIN:VEVENT
DTSTART;VALUE=DATE:20160722
DTEND;VALUE=DATE:20160729
DTSTAMP:20260425T094115
CREATED:20160723T031359Z
LAST-MODIFIED:20160723T031619Z
UID:5091-1469145600-1469750399@qvgop.org
SUMMARY:Hillary's America: The Movie
DESCRIPTION:http://hillarysamericathemovie.com/ \n  \n  \n  \n  \n  \n  \n  \n  \n  \n  \n  \nHillary’s America\, the latest film from the creators of America: Imagine The World Without Her and 2016: Obama’s America takes audiences on a gripping journey into the secret history of the Democratic Party and the contentious rise of presidential candidate Hillary Clinton. \nIn Hillary’s America\, New York Times #1 best-selling author and celebrated filmmaker Dinesh D’Souza reveals the sordid truth about Hillary and the secret history of the Democratic Party. This eye-opening film sheds light on the Democrats’ transition from pro-slavery to pro-enslavement; how Hillary Clinton’s political mentor was\, literally\, a cold-blooded gangster; and how the Clintons and other Democrats see foreign policy not in terms of national interest\, but in terms of personal profit. \nHillary’s America uncovers how their plan is to simply steal America. \nWatch the shocking trailer now!
URL:https://qvgop.org/event/hillarys-america-movie/
LOCATION:See Listing
END:VEVENT
BEGIN:VEVENT
DTSTART;TZID=America/New_York:20160726T211500
DTEND;TZID=America/New_York:20160726T230000
DTSTAMP:20260425T094115
CREATED:20160725T041001Z
LAST-MODIFIED:20160725T041001Z
UID:5094-1469567700-1469574000@qvgop.org
SUMMARY:QVGOP MOVIE NIGHT - WATCH HILLARY'S AMERICA!!
DESCRIPTION:QVGOP MOVIE NIGHT!!\nWelcome to another exciting Queens Village Republican Club professional development adventure on Tuesday\, July 26th. Come and join us as we watch Dinesh D’Souza’s documentary movie “Hillary’s America: The Secret History of the Democratic Party” at AMC Loews Raceway 10 Theater in Westbury\, Long Island and arm yourselves with the facts about Hillary and the history of the Democrat Party!! Get out the popcorn\, wear your red club shirts\, Trump hats and buttons!! \nTuesday\, July 26\, 2016\n9:15 pm showtime (arrive 30 minutes before showtime) \nAMC LOEWS RACEWAY 10 \n1025 Corporate Drive\, Westbury\, NY 11590 \nTo make sure you have a seat\, purchase your tickets in advance online with FANDANGO here. Select the 9:15 pm showtime. Adult tickets are $12.49\, Seniors (60+) are $10.99 and children are $9.49. For best seating please arrvie 30 minutes before showtime. If tickets are sold out\, by all means feel free to go at another time or date. Let’s pack the theaters. Act fast\, seating is limited. \nClick here for more information and to view the trailer. \n“In Hillary’s America\, New York Times #1 best-selling author and celebrated filmmaker Dinesh D’Souza reveals the sordid truth about Hillary and the secret history of the Democratic Party. This eye-opening film sheds light on the Democrats’ transition from pro-slavery to pro-enslavement; how Hillary Clinton’s political mentor was\, literally\, a cold-blooded gangster; and how the Clintons and other Democrats see foreign policy not in terms of national interest\, but in terms of personal profit.” \nThe truth will set you free!!
URL:https://qvgop.org/event/qvgop-movie-night-watch-hillarys-america/
LOCATION:AMC LOEWS RACEWAY 10\, 1025 Corporate Drive\, Westbury\, NY
END:VEVENT
END:VCALENDAR