BEGIN:VCALENDAR
VERSION:2.0
PRODID:-//The Queens Village Republican Club Online - ECPv6.15.14//NONSGML v1.0//EN
CALSCALE:GREGORIAN
METHOD:PUBLISH
X-ORIGINAL-URL:https://qvgop.org
X-WR-CALDESC:Events for The Queens Village Republican Club Online
REFRESH-INTERVAL;VALUE=DURATION:PT1H
X-Robots-Tag:noindex
X-PUBLISHED-TTL:PT1H
BEGIN:VTIMEZONE
TZID:America/New_York
BEGIN:DAYLIGHT
TZOFFSETFROM:-0500
TZOFFSETTO:-0400
TZNAME:EDT
DTSTART:20150308T070000
END:DAYLIGHT
BEGIN:STANDARD
TZOFFSETFROM:-0400
TZOFFSETTO:-0500
TZNAME:EST
DTSTART:20151101T060000
END:STANDARD
BEGIN:DAYLIGHT
TZOFFSETFROM:-0500
TZOFFSETTO:-0400
TZNAME:EDT
DTSTART:20160313T070000
END:DAYLIGHT
BEGIN:STANDARD
TZOFFSETFROM:-0400
TZOFFSETTO:-0500
TZNAME:EST
DTSTART:20161106T060000
END:STANDARD
BEGIN:DAYLIGHT
TZOFFSETFROM:-0500
TZOFFSETTO:-0400
TZNAME:EDT
DTSTART:20170312T070000
END:DAYLIGHT
BEGIN:STANDARD
TZOFFSETFROM:-0400
TZOFFSETTO:-0500
TZNAME:EST
DTSTART:20171105T060000
END:STANDARD
END:VTIMEZONE
BEGIN:VEVENT
DTSTART;TZID=America/New_York:20160504T070000
DTEND;TZID=America/New_York:20160504T210000
DTSTAMP:20260425T131645
CREATED:20160503T182806Z
LAST-MODIFIED:20160503T182806Z
UID:4883-1462345200-1462395600@qvgop.org
SUMMARY:NCFRW Event with US Senate Candidate Wendy Long
DESCRIPTION:
URL:https://qvgop.org/event/ncfrw-event-us-senate-candidate-wendy-long/
LOCATION:VFW Post 5253 Albertson\, 155 Searingtown Road\, Albertson
END:VEVENT
BEGIN:VEVENT
DTSTART;TZID=America/New_York:20160504T190000
DTEND;TZID=America/New_York:20160504T220000
DTSTAMP:20260425T131645
CREATED:20160426T204733Z
LAST-MODIFIED:20160501T162508Z
UID:4867-1462388400-1462399200@qvgop.org
SUMMARY:Queens Young Republican Club Inaugural Event: A Triborough Social
DESCRIPTION:The Queens Young Republican Club will be holding its inaugural event next Wednesday\, co-hosting the event with the New York Young Republican Club.\n\nNYYRC Presents: A Triborough Social\nWednesday\, May 4 at 7 PM \nBohemian Hall & Beer Garden\n29-19 24th Ave\, Astoria\, New York 11102\napp-groups\nThe New York Young Republican Club \nVisit Facebook Event for more information \n\nDon’t forgot to “like” us on Facebook for updates\, and feel free to forward this information to any and all who might be interested.  We hope that you can make the event and help get the Club off to a great start!
URL:https://qvgop.org/event/nyyrc-presents-triborough-social/
LOCATION:Bohemian Hall & Beer Garden\, 29-19 24th Ave\, Astoria\, NY\, 11102\, United States
END:VEVENT
BEGIN:VEVENT
DTSTART;TZID=America/New_York:20160505T180000
DTEND;TZID=America/New_York:20160505T200000
DTSTAMP:20260425T131645
CREATED:20160419T023618Z
LAST-MODIFIED:20160419T023618Z
UID:4864-1462471200-1462478400@qvgop.org
SUMMARY:BOOK SIGNING EVENT STARRING FOX NEWS CHANNEL CELEBRITY BRIAN KILMEADE
DESCRIPTION:
URL:https://qvgop.org/event/book-signing-event-starring-fox-news-channel-celebrity-brian-kilmeade/
LOCATION:Knights of Columbus\, St. Anne’s Council\, 263-15 Union Tpke.\, Glen Oaks\, NY\, 11004\, United States
END:VEVENT
BEGIN:VEVENT
DTSTART;TZID=America/New_York:20160509T120000
DTEND;TZID=America/New_York:20160509T130000
DTSTAMP:20260425T131645
CREATED:20160509T043558Z
LAST-MODIFIED:20160509T045316Z
UID:4906-1462795200-1462798800@qvgop.org
SUMMARY:PRESS CONFERENCE FOR NATIONAL POLICE WEEK
DESCRIPTION:CAPT JOSEPH CONCANNON CALLS FOR US ATTORNEY OF THE SOUTHERN DISTRICT OF NY TO INVESTIGATE QUEENS SCHOOL DISTRICT #29\nPRESS CONFERENCE FOR NATIONAL POLICE WEEK\nMONDAY MAY 9\, 2016 – 12:00 NOON (ASSEMBLE TIME: 11:45 AM)\nJean Nuzzi Intermediate School\, IS 109 \n213-10 92nd Ave. \nQueens Village\, NY 11428 \nCONTACT: Joseph Concannon 347-946-1931 \nFor more information: http://qvgop.org/capt-joseph-concannon-calls-us-attorney-southern-district-ny-investigate-queens-school-district-29/\nThe media and all concerned citizens are invited to attend the press conference\, hosted by former NYPD Captain Joseph Concannon.
URL:https://qvgop.org/event/press-conference-national-police-week/
LOCATION:Jean Nuzzi Intermediate School\, IS 109\, 213-10 92nd Ave. \, Queens Village\, 11428
END:VEVENT
BEGIN:VEVENT
DTSTART;TZID=America/New_York:20160528T180000
DTEND;TZID=America/New_York:20160528T210000
DTSTAMP:20260425T131645
CREATED:20160515T190713Z
LAST-MODIFIED:20160515T190713Z
UID:4936-1464458400-1464469200@qvgop.org
SUMMARY:Tea\, Coffee and Samosas with the Candidates
DESCRIPTION:
URL:https://qvgop.org/event/tea-coffee-samosas-candidates/
LOCATION:Bellerose Jewish Center\, 254-14 Union Tpke. \, Glen Oaks\, NY\, 11004\, United States
END:VEVENT
BEGIN:VEVENT
DTSTART;TZID=America/New_York:20160530T130000
DTEND;TZID=America/New_York:20160530T160000
DTSTAMP:20260425T131645
CREATED:20160503T183537Z
LAST-MODIFIED:20160520T015431Z
UID:4885-1464613200-1464624000@qvgop.org
SUMMARY:89th Annual Little Neck Douglaston Memorial Day Parade
DESCRIPTION:March with our Club in the nation’s largest hometown MEMORIAL DAY PARADE!\nDate: Monday\, May 30\, 2016\nTime: Assemble 1:00 pm. Parade starts at 2:00 p.m.\nPlace: Assemble at Starbucks\, 55 Northern Blvd. \nQueens Village Republican Club will proudly march behind our Club banner in the 89th annual Little Neck Douglaston Memorial Day Parade\, America’s largest Memorial Day Parade. Join us and march to remember our fallen heroes who paid the ultimate price for our freedom. \nWe will assemble at Starbucks\, at 55 Northern Blvd. and Great Neck Rd\, just over the Queens-Nassau border. The parade proceeds west along Northern Blvd. to St. Anastasia’s schoolyard at 245th Street. Special Memorial Day closing ceremonies and free food and refreshments for all participants at the end of the parade. Wear your QVGOP Red Shirts! \n“Since 1927\, rain or shine\, in war or in peace\, our parade has commemorated those who have made the ultimate sacrifice. We march to remember the fallen\, honor those who now actively serve\, and those who have already served.” \nLearn more: www.lndmemorialday.org\nPhil Orenstein: maduroman@att.net to sign up to march. \nComplete Schedule of Events for Memorial Day – May 30\, 2016 \n9:30 AM\nArrive at Father Smith Hall\, 245th Street and Alameda Avenue. Cross street is Northern\nBoulevard\, Douglaston\, NY. Father Smith Hall is located in the parking lot of Divine\nWisdom Catholic Academy\, 45-11 245th Street\, Douglaston\, NY. \n10:00 AM\nInterfaith Service\, Zion Episcopal Church\, 243-01 Northern Blvd\, Douglaston\, NY 11362 \n11:15AM\nWreath Laying Ceremony at the Monument in Divine Wisdom Schoolyard \n11:45 AM\nVeteran’s Breakfast to be held at Father Smith Hall. \n1:00 PM\nLine up begins and we transport the Grand Marshals to their place of assembly at Jayson Avenue and Northern Boulevard. \n1:45 PM\nLine up for Mayor and Elected Officials is at Buttonwood Road and Northern Boulevard. Photo opportunities will exist. Press and photographers present. \n2:00 PM\nParade steps off at Jayson Avenue and Northern Boulevard. Distance: 1.5 Miles. Division 1 will lead. Marching Units in this Division include: Active military Grand Marshals\, Veterans. Presentation of colors and honors at the Review Stage along parade route. \n2:30 PM\nDivision 1 will reach the end of the parade\, which is at Divine Wisdom Catholic Academy parking lot (Alameda Avenue and Northern Boulevard). \n2:31 PM – 3:59 PM\nThere will be a hospitality staging area to watch remaining parade\, photo opportunities\nand press will be present. Complimentary food and beverages will be served in Divine\nWisdom Catholic Academy parking lot. \n4:00 PM\nClosing Ceremony begins. \n4:30 PM\nClosing Ceremony ends.
URL:https://qvgop.org/event/89th-annual-little-neck-douglaston-memorial-day-parade/
LOCATION:Starbucks\, 55 Northern Blvd. \, Great Neck\, NY\, United States
END:VEVENT
END:VCALENDAR