BEGIN:VCALENDAR
VERSION:2.0
PRODID:-//The Queens Village Republican Club Online - ECPv6.15.14//NONSGML v1.0//EN
CALSCALE:GREGORIAN
METHOD:PUBLISH
X-WR-CALNAME:The Queens Village Republican Club Online
X-ORIGINAL-URL:https://qvgop.org
X-WR-CALDESC:Events for The Queens Village Republican Club Online
REFRESH-INTERVAL;VALUE=DURATION:PT1H
X-Robots-Tag:noindex
X-PUBLISHED-TTL:PT1H
BEGIN:VTIMEZONE
TZID:America/New_York
BEGIN:DAYLIGHT
TZOFFSETFROM:-0500
TZOFFSETTO:-0400
TZNAME:EDT
DTSTART:20150308T070000
END:DAYLIGHT
BEGIN:STANDARD
TZOFFSETFROM:-0400
TZOFFSETTO:-0500
TZNAME:EST
DTSTART:20151101T060000
END:STANDARD
BEGIN:DAYLIGHT
TZOFFSETFROM:-0500
TZOFFSETTO:-0400
TZNAME:EDT
DTSTART:20160313T070000
END:DAYLIGHT
BEGIN:STANDARD
TZOFFSETFROM:-0400
TZOFFSETTO:-0500
TZNAME:EST
DTSTART:20161106T060000
END:STANDARD
BEGIN:DAYLIGHT
TZOFFSETFROM:-0500
TZOFFSETTO:-0400
TZNAME:EDT
DTSTART:20170312T070000
END:DAYLIGHT
BEGIN:STANDARD
TZOFFSETFROM:-0400
TZOFFSETTO:-0500
TZNAME:EST
DTSTART:20171105T060000
END:STANDARD
END:VTIMEZONE
BEGIN:VEVENT
DTSTART;VALUE=DATE:20160326
DTEND;VALUE=DATE:20160404
DTSTAMP:20260425T150613
CREATED:20160324T002936Z
LAST-MODIFIED:20160324T002936Z
UID:4706-1458950400-1459727999@qvgop.org
SUMMARY:Participatory Budget Voting
DESCRIPTION:Participatory Budget Voting starts this Saturday\, March 26. There are 5 projects to be voted on. All residents of Council District 23 over the age of 14 are eligible to vote. Each voter can vote for up to three projects. Council Member Barry Grodenchik has allocated $1.5 million in capital budget funds to the projects that get the most votes. \n\nHere are the 5 proposed projects\, grouped in 3 categories: \n\nArts\, Culture and Community Facilities\n1. Upgrades at Hollis and Queens Village libraries\, including upgrades for facilities\, technology and library materials. Cost: $550\,000.\n\nParks and Recreation\n2. Resurfacing of the Vanderbilt Motor Parkway in Alley Pond Park near Winchester Blvd. (Note: This is a path for pedestrians and bicyclists that leads to Cunningham Park. It was originally built for motor vehicles many years ago before the roadway system was built.) Cost: $500\,000.\n\nEducation\n3. New Audio Visual Systems for PS 18\, PS 26\, PS 33\, PS 186Q and IS 109. Total Cost: $375\,000.\n\n4. Technology Upgrades for Local Schools. Laptop carts and smart boards at PS 33\, 178\, 205\, PS 224\, PS/IS 266\, IS 109\, Queens High School of Teaching\, and the Business Technology Early College High School. Total cost: $548\,000.\n\n(Note on items 3 and 4: PS 33 and PS 18 are the local elementary schools that serve the Creedmoor Civic area).\n\n5. Replacement of gym floor for Martin Van Buren High School. (Note: The gym is also used by students from the  Business Technology Early College High School).\n\nVoting Times and Locations\nThere are too many voting locations to list here. See the attachment for a full list. Below are the voting locations that are most convenient to our area:\n\nBellerose Library. 250-06 Hillside Ave. Monday\, 3/28 from 1:30 pm to 7:30 pm.\n\nSNAP Senior Center. 80-45 Winchester Blvd (on the Creedmoor campus). Tuesday 3/29 from 11:30 am- 3 pm\,\n                                Friday 4/1 from 10 am- 2 pm.\n\nCross Island Y. 238-10 Hillside Ave. Saturday 4/2 and Sunday 4/3 from 10 am to 4 pm.
URL:https://qvgop.org/event/participatory-budget-voting/
LOCATION:Multiple Venues
ATTACH;FMTTYPE=image/jpeg:https://qvgop.org/wp-content/uploads/2016/03/PBNYC_logo_large.jpg
END:VEVENT
BEGIN:VEVENT
DTSTART;TZID=America/New_York:20160406T190000
DTEND;TZID=America/New_York:20160406T210000
DTSTAMP:20260425T150613
CREATED:20160405T194535Z
LAST-MODIFIED:20160405T194649Z
UID:4850-1459969200-1459976400@qvgop.org
SUMMARY:Nassau County Federation of Republican Women Meeting with Joe Connor
DESCRIPTION:
URL:https://qvgop.org/event/nassua-county-federation-republican-women-meeting-joe-connor/
LOCATION:VFW Post 5253 Albertson\, 155 Searingtown Road\, Albertson
END:VEVENT
BEGIN:VEVENT
DTSTART;TZID=America/New_York:20160407T193000
DTEND;TZID=America/New_York:20160407T220000
DTSTAMP:20260425T150613
CREATED:20160316T012008Z
LAST-MODIFIED:20160330T023612Z
UID:4632-1460057400-1460066400@qvgop.org
SUMMARY:Next General Club Meeting: GOP PRESIDENTIAL & NEW YORK ELECTIONS
DESCRIPTION:Next General Club Meeting: Thurs. April 7\, 2016 at 7:30 pm \nGOP PRESIDENTIAL & NEW YORK ELECTIONS \nFeatured Speakers: \nRyan James Girdusky\nFox News\, Fox Business\, Radio & TV Pundit\, Writer\, Public Speaker will talk about the Presidential races \nWendy Long\nRepublican\, Conservative\, and Reform Party Candidate for U.S. Senate in New York running against Sen. Chuck Schumer \nMike O’Reilly\nRepublican Candidate for Congress in New York’s 5th District in Eastern Queens running against Rep. Greg Meeks \nMarvin Jeffcoat\nSFC U.S. Army (Ret.). considering a run for New York State Senate in the 12th District against Sen. Gianaris \nChris Chadzutko\nAnnouncing the newly chartered Queens Young Republicans\, that Chris will chair. Chris is an attorney\, served as Federalist Society President in Law School and has been an active Republican since high school \nAND MORE!! \nAll Are Welcome!! \nMeeting at:  Knights of Columbus/St. Anne’s Council\n263-15 Union Tpke.\, Glen Oaks\, NY 11004
URL:https://qvgop.org/event/next-general-club-meeting-3/
LOCATION:Knights of Columbus\, St. Anne’s Council\, 263-15 Union Tpke.\, Glen Oaks\, NY\, 11004\, United States
END:VEVENT
BEGIN:VEVENT
DTSTART;VALUE=DATE:20160410
DTEND;VALUE=DATE:20160413
DTSTAMP:20260425T150613
CREATED:20160302T195751Z
LAST-MODIFIED:20160302T195751Z
UID:4560-1460246400-1460505599@qvgop.org
SUMMARY:2016 NYS Federation of Republican Women Conference
DESCRIPTION:
URL:https://qvgop.org/event/2016-nys-federation-republican-women-conference-2/
LOCATION:The Desmond Hotel and Conference Center\, Albany\, NY\, United States
END:VEVENT
BEGIN:VEVENT
DTSTART;TZID=America/New_York:20160411T183000
DTEND;TZID=America/New_York:20160411T220000
DTSTAMP:20260425T150613
CREATED:20160310T163413Z
LAST-MODIFIED:20160314T034418Z
UID:4625-1460399400-1460412000@qvgop.org
SUMMARY:Queens County Republican Party Spring Gala
DESCRIPTION:Queens GOP Gala is April 11th at 6:30 pm at Terrace on the Park. Cocktail hour starts at 6:30pm. GOP Presidential candidates have been invited. If you would like to attend\, and you are a QVGOP member in good standing\, you may buy a discounted ticket for $100 and sit at one of the QVGOP tables. Send in your check before April 1\, made out to Queens Village Republican Club and mail to James Trent\, 242-33 90th Avenue\, Bellerose\, NY 11426 or bring it to the next meeting. Questions? You may contact us at  jtrent8830@aol.com.\n \nTHE DISCOUNTED TICKET PRICE IS $100 FOR MEMBERS OF THE QUEENS VILLAGE REPUBLICAN CLUB. SEE ABOVE INFORMATION.
URL:https://qvgop.org/event/queens-county-republican-party-spring-gala/
LOCATION:Terrace on the Park\, 52-11 111th St. \, Flushing Meadows Park\, NY\, 11358\, United States
END:VEVENT
BEGIN:VEVENT
DTSTART;TZID=America/New_York:20160416T140000
DTEND;TZID=America/New_York:20160416T160000
DTSTAMP:20260425T150613
CREATED:20160407T145042Z
LAST-MODIFIED:20160407T145042Z
UID:4852-1460815200-1460822400@qvgop.org
SUMMARY:3rd Annual Plight of the Veterans Welcome Home Concert
DESCRIPTION:
URL:https://qvgop.org/event/3rd-annual-plight-veterans-welcome-home-concert/
LOCATION:American Legion NY Post 483\, 240-08 135th Ave\, Rosedale\, 11422\, United States
END:VEVENT
BEGIN:VEVENT
DTSTART;TZID=America/New_York:20160417T140000
DTEND;TZID=America/New_York:20160417T190000
DTSTAMP:20260425T150613
CREATED:20160305T195142Z
LAST-MODIFIED:20160305T195412Z
UID:4563-1460901600-1460919600@qvgop.org
SUMMARY:The Bridge to Life 24th Anniversary Gala Dinner-Dance
DESCRIPTION:
URL:https://qvgop.org/event/bridge-life-24th-anniversary-gala-dinner-dance/
LOCATION:Leonard’s of Great Neck\, 555 Northern Blvd. \, Great Neck\, NY\, United States
END:VEVENT
BEGIN:VEVENT
DTSTART;VALUE=DATE:20160419
DTEND;VALUE=DATE:20160420
DTSTAMP:20260425T150613
CREATED:20160308T221034Z
LAST-MODIFIED:20160324T190023Z
UID:4611-1461024000-1461110399@qvgop.org
SUMMARY:REPUBLICAN PRESIDENTIAL PRIMARY ELECTION: APRIL 19TH
DESCRIPTION:REPUBLICAN PRESIDENTIAL PRIMARY ELECTION: APRIL 19TH \nCalling all Republicans! Get out to vote on April 19th\, the first Republican Primary Election of the year. Last date to mail in voter registrations is March 25th. If you are a new Republican registered voter\, you may vote in the Presidential Primary Election. However\, if you are changing your registration to Republican now from another political party\, you will not be allowed to vote in the Republican Primaries until the next election cycle. You will of course be able to vote in the General Election. \nLast day to postmark voter registration form to Board of Elections: 3/25/16
URL:https://qvgop.org/event/republican-presidential-primary-election-april-19th/
LOCATION:Your Poll Site
END:VEVENT
BEGIN:VEVENT
DTSTART;TZID=America/New_York:20160428T193000
DTEND;TZID=America/New_York:20160428T220000
DTSTAMP:20260425T150613
CREATED:20160407T145450Z
LAST-MODIFIED:20160407T145450Z
UID:4854-1461871800-1461880800@qvgop.org
SUMMARY:Queens County Conservative Party Spring Cocktail Party
DESCRIPTION:
URL:https://qvgop.org/event/queens-county-conservative-party-spring-cocktail-party/
LOCATION:Roma View\, 160-05 Crossbay Blvd\, Howard Beach\, NY\, United States
END:VEVENT
END:VCALENDAR