BEGIN:VCALENDAR
VERSION:2.0
PRODID:-//The Queens Village Republican Club Online - ECPv6.15.14//NONSGML v1.0//EN
CALSCALE:GREGORIAN
METHOD:PUBLISH
X-WR-CALNAME:The Queens Village Republican Club Online
X-ORIGINAL-URL:https://qvgop.org
X-WR-CALDESC:Events for The Queens Village Republican Club Online
REFRESH-INTERVAL;VALUE=DURATION:PT1H
X-Robots-Tag:noindex
X-PUBLISHED-TTL:PT1H
BEGIN:VTIMEZONE
TZID:America/New_York
BEGIN:DAYLIGHT
TZOFFSETFROM:-0500
TZOFFSETTO:-0400
TZNAME:EDT
DTSTART:20150308T070000
END:DAYLIGHT
BEGIN:STANDARD
TZOFFSETFROM:-0400
TZOFFSETTO:-0500
TZNAME:EST
DTSTART:20151101T060000
END:STANDARD
BEGIN:DAYLIGHT
TZOFFSETFROM:-0500
TZOFFSETTO:-0400
TZNAME:EDT
DTSTART:20160313T070000
END:DAYLIGHT
BEGIN:STANDARD
TZOFFSETFROM:-0400
TZOFFSETTO:-0500
TZNAME:EST
DTSTART:20161106T060000
END:STANDARD
BEGIN:DAYLIGHT
TZOFFSETFROM:-0500
TZOFFSETTO:-0400
TZNAME:EDT
DTSTART:20170312T070000
END:DAYLIGHT
BEGIN:STANDARD
TZOFFSETFROM:-0400
TZOFFSETTO:-0500
TZNAME:EST
DTSTART:20171105T060000
END:STANDARD
END:VTIMEZONE
BEGIN:VEVENT
DTSTART;TZID=America/New_York:20160302T190000
DTEND;TZID=America/New_York:20160302T210000
DTSTAMP:20260425T164418
CREATED:20160215T042049Z
LAST-MODIFIED:20160215T042049Z
UID:4478-1456945200-1456952400@qvgop.org
SUMMARY:NCFRW PUBLIC MEETING: BRAINWASHING OF OUR CHILDREN
DESCRIPTION:
URL:https://qvgop.org/event/ncfrw-public-meeting-brainwashing-of-our-children/
LOCATION:VFW Post 5253 Albertson\, 155 Searingtown Road\, Albertson
END:VEVENT
BEGIN:VEVENT
DTSTART;TZID=America/New_York:20160303T193000
DTEND;TZID=America/New_York:20160303T220000
DTSTAMP:20260425T164418
CREATED:20160215T040635Z
LAST-MODIFIED:20160215T040635Z
UID:4476-1457033400-1457042400@qvgop.org
SUMMARY:QVGOP GENERAL CLUB MEETING: PUBLIC FORUM ON LOCAL AND NATIONAL SECURITY
DESCRIPTION:NEXT GENERAL CLUB MEETING:\nTHURS\, MARCH 3\, 2016 AT 7:30 PM \nPUBLIC FORUM ON LOCAL AND NATIONAL SECURITY \nFEATURED SPEAKERS: \nPolice Officer Steven Vranick\nNYPD Counter Terrorism Unit (CTU) Queens North. Counter-terrorism briefing. \nLaurie Cardoza-Moore\, ThD\nFounder and President of Proclaiming Justice to The Nations (PJTN). Special Envoy at the United Nations for the World Council of Independent Christian Churches (WCICC). She has devoted her life to educate Christians about their Biblical responsibility to stand with their Jewish brethren and the State of Israel. \nAll are Welcome!! \nMeeting at: Knights of Columbus /St. Anne’s Council\n263-15 Union Tpke.\, Glen Oaks\, NY 11004
URL:https://qvgop.org/event/qvgop-meeting-public-forum-on-local-and-national-security/
LOCATION:Knights of Columbus\, St. Anne’s Council\, 263-15 Union Tpke.\, Glen Oaks\, NY\, 11004\, United States
END:VEVENT
BEGIN:VEVENT
DTSTART;TZID=America/New_York:20160308T190000
DTEND;TZID=America/New_York:20160308T210000
DTSTAMP:20260425T164418
CREATED:20160307T231111Z
LAST-MODIFIED:20160307T231111Z
UID:4583-1457463600-1457470800@qvgop.org
SUMMARY:Activist Paul Weston Speaks on Islamic Threat
DESCRIPTION:
URL:https://qvgop.org/event/activist-paul-weston-speaks-islamic-threat/
LOCATION:Matrix Media Central\, 1393 Veterans Memorial Hiway\,\,  Hauppauge\, 11788
END:VEVENT
BEGIN:VEVENT
DTSTART;TZID=America/New_York:20160312T200000
DTEND;TZID=America/New_York:20160312T200000
DTSTAMP:20260425T164418
CREATED:20160216T144058Z
LAST-MODIFIED:20160216T144058Z
UID:4483-1457812800-1457812800@qvgop.org
SUMMARY:ST. PATRICK'S DAY DANCE
DESCRIPTION:
URL:https://qvgop.org/event/st-patricks-day-dance-2/
LOCATION:St. Gregory’s Gregorian Hall\, 244-44 87th Ave\, Bellerose\, NY\, 11426\, United States
END:VEVENT
BEGIN:VEVENT
DTSTART;TZID=America/New_York:20160316T120000
DTEND;TZID=America/New_York:20160316T230000
DTSTAMP:20260425T164418
CREATED:20160215T042809Z
LAST-MODIFIED:20160305T195638Z
UID:4480-1458129600-1458169200@qvgop.org
SUMMARY:Bridge to Life Fundraiser at Uno Pizzeria
DESCRIPTION:Wednesday\, March 16at 12 PM – 11 PM \nUno Pizzeria & Grill (Bayside\, NY)\n39-02 Bell Blvd\, Bayside\, New York 11361
URL:https://qvgop.org/event/bridge-to-life-fundraiser/
LOCATION:Uno Pizzeria & Grill\, 39-02 Bell Blvd\, Bayside NY\, 11361
END:VEVENT
BEGIN:VEVENT
DTSTART;VALUE=DATE:20160326
DTEND;VALUE=DATE:20160404
DTSTAMP:20260425T164418
CREATED:20160324T002936Z
LAST-MODIFIED:20160324T002936Z
UID:4706-1458950400-1459727999@qvgop.org
SUMMARY:Participatory Budget Voting
DESCRIPTION:Participatory Budget Voting starts this Saturday\, March 26. There are 5 projects to be voted on. All residents of Council District 23 over the age of 14 are eligible to vote. Each voter can vote for up to three projects. Council Member Barry Grodenchik has allocated $1.5 million in capital budget funds to the projects that get the most votes. \n\nHere are the 5 proposed projects\, grouped in 3 categories: \n\nArts\, Culture and Community Facilities\n1. Upgrades at Hollis and Queens Village libraries\, including upgrades for facilities\, technology and library materials. Cost: $550\,000.\n\nParks and Recreation\n2. Resurfacing of the Vanderbilt Motor Parkway in Alley Pond Park near Winchester Blvd. (Note: This is a path for pedestrians and bicyclists that leads to Cunningham Park. It was originally built for motor vehicles many years ago before the roadway system was built.) Cost: $500\,000.\n\nEducation\n3. New Audio Visual Systems for PS 18\, PS 26\, PS 33\, PS 186Q and IS 109. Total Cost: $375\,000.\n\n4. Technology Upgrades for Local Schools. Laptop carts and smart boards at PS 33\, 178\, 205\, PS 224\, PS/IS 266\, IS 109\, Queens High School of Teaching\, and the Business Technology Early College High School. Total cost: $548\,000.\n\n(Note on items 3 and 4: PS 33 and PS 18 are the local elementary schools that serve the Creedmoor Civic area).\n\n5. Replacement of gym floor for Martin Van Buren High School. (Note: The gym is also used by students from the  Business Technology Early College High School).\n\nVoting Times and Locations\nThere are too many voting locations to list here. See the attachment for a full list. Below are the voting locations that are most convenient to our area:\n\nBellerose Library. 250-06 Hillside Ave. Monday\, 3/28 from 1:30 pm to 7:30 pm.\n\nSNAP Senior Center. 80-45 Winchester Blvd (on the Creedmoor campus). Tuesday 3/29 from 11:30 am- 3 pm\,\n                                Friday 4/1 from 10 am- 2 pm.\n\nCross Island Y. 238-10 Hillside Ave. Saturday 4/2 and Sunday 4/3 from 10 am to 4 pm.
URL:https://qvgop.org/event/participatory-budget-voting/
LOCATION:Multiple Venues
ATTACH;FMTTYPE=image/jpeg:https://qvgop.org/wp-content/uploads/2016/03/PBNYC_logo_large.jpg
END:VEVENT
END:VCALENDAR