BEGIN:VCALENDAR
VERSION:2.0
PRODID:-//The Queens Village Republican Club Online - ECPv6.15.14//NONSGML v1.0//EN
CALSCALE:GREGORIAN
METHOD:PUBLISH
X-WR-CALNAME:The Queens Village Republican Club Online
X-ORIGINAL-URL:https://qvgop.org
X-WR-CALDESC:Events for The Queens Village Republican Club Online
REFRESH-INTERVAL;VALUE=DURATION:PT1H
X-Robots-Tag:noindex
X-PUBLISHED-TTL:PT1H
BEGIN:VTIMEZONE
TZID:America/New_York
BEGIN:DAYLIGHT
TZOFFSETFROM:-0500
TZOFFSETTO:-0400
TZNAME:EDT
DTSTART:20150308T070000
END:DAYLIGHT
BEGIN:STANDARD
TZOFFSETFROM:-0400
TZOFFSETTO:-0500
TZNAME:EST
DTSTART:20151101T060000
END:STANDARD
BEGIN:DAYLIGHT
TZOFFSETFROM:-0500
TZOFFSETTO:-0400
TZNAME:EDT
DTSTART:20160313T070000
END:DAYLIGHT
BEGIN:STANDARD
TZOFFSETFROM:-0400
TZOFFSETTO:-0500
TZNAME:EST
DTSTART:20161106T060000
END:STANDARD
BEGIN:DAYLIGHT
TZOFFSETFROM:-0500
TZOFFSETTO:-0400
TZNAME:EDT
DTSTART:20170312T070000
END:DAYLIGHT
BEGIN:STANDARD
TZOFFSETFROM:-0400
TZOFFSETTO:-0500
TZNAME:EST
DTSTART:20171105T060000
END:STANDARD
END:VTIMEZONE
BEGIN:VEVENT
DTSTART;TZID=America/New_York:20160106T190000
DTEND;TZID=America/New_York:20160106T210000
DTSTAMP:20260425T200555
CREATED:20151231T163419Z
LAST-MODIFIED:20151231T163419Z
UID:4328-1452106800-1452114000@qvgop.org
SUMMARY:Phil Haney\, Whistleblower!
DESCRIPTION:
URL:https://qvgop.org/event/phil-haney-whistleblower/
LOCATION:VFW Post 5253 Albertson\, 155 Searingtown Road\, Albertson
END:VEVENT
BEGIN:VEVENT
DTSTART;TZID=America/New_York:20160107T193000
DTEND;TZID=America/New_York:20160107T220000
DTSTAMP:20260425T200555
CREATED:20151221T031043Z
LAST-MODIFIED:20151221T053114Z
UID:4262-1452195000-1452204000@qvgop.org
SUMMARY:NEXT GENERAL CLUB MEETING: NATIONAL SECURITY FORUM
DESCRIPTION:NEXT General Club meeting: Thurs.\, Jan. 7\, 2016 at 7:30 pm \nPUBLIC FORUM ON NATIONAL SECURITY \nPublic safety and security is the #1 job of our government in dealing with the ever-present threat of radical Islamic terrorism. But our country is in peril due to the weak and feckless leadership of the Obama administration. Our speakers will address these critically important issues and answer your questions. \nFeatured Speakers: \nJohn LeBoutillier\nAmerican political columnist\, pundit\, and former Republican U.S. Congressman from Long Island \nKenneth Abramowitz\nRenowned biotech venture fund executive\,\npublic speaker\, freedom activist and founder of SaveTheWest.com \n   Other speakers to be confirmed \nInstallation of New Club Officers \nAll Are Welcome!! \nMeeting at:  Knights of Columbus/St. Anne’s Council\n263-15 Union Tpke.\, Glen Oaks\, NY 11004 \n\nBIO OF JOHN LEBOUTILLER \n \nA life-long resident of Westbury\, Long Island\, John LeBoutillier was born in Glen Cove\, New York on May 26\, 1953. \nA 1976 Magna Cum Laude graduate of Harvard College with a Masters Degree in Business Administration from Harvard Business School\, LeBoutillier used his college experience as the basis of his book\, Harvard Hates America. Lecturer and author\, LeBoutillier has since written numerous articles which have appeared on the New York Times Op-Ed Page\, The Wall Street Journal\, The New York Times Sunday Magazine and in major publications throughout the nation. Read more. \n  \n\n\n\n\nBIO OF KENNETH ABRAMOWITZ\n\n\nKenneth S. Abramowitz is the founder of SaveTheWest.com. Read a Q&A about his founding of this site\, here.\n\nMr. Abramowitz is a General Partner and co-founder of NGN Capital\, a $450 million worldwide healthcare venture capital fund. He joined NGN from The Carlyle Group\, where he was Managing Director from 2001-2003\, focused on U.S. healthcare buyouts. Prior to joining Carlyle\, Mr. Abramowitz was an Analyst at Sanford C. Bernstein where he covered the medical-supply\, hospital-management. and HMO industries for 23 years. He was voted the Number 1 analyst in Medical Devices and/or Services for 15 years by the Institutional Investor magazine\, which also added him to the Wall Street Analyst Hall of Fame in 2009\, with a rank of 15 out of 20\,000 analysts. He has published several notable studies on healthcare services\, major medical mergers and cardiovascular devices. He earned a B.A. in Chemistry from Columbia University in 1972 and an MBA from Harvard Business School in 1976. Read more. 
URL:https://qvgop.org/event/next-general-club-meeting-national-security-forum/
LOCATION:Knights of Columbus\, St. Anne’s Council\, 263-15 Union Tpke.\, Glen Oaks\, NY\, 11004\, United States
END:VEVENT
BEGIN:VEVENT
DTSTART;TZID=America/New_York:20160112T193000
DTEND;TZID=America/New_York:20160112T203000
DTSTAMP:20260425T200555
CREATED:20160112T024653Z
LAST-MODIFIED:20160112T024653Z
UID:4350-1452627000-1452630600@qvgop.org
SUMMARY:Community Rally to Stop Belmont Casino
DESCRIPTION:I am requesting your presence at a protest regarding the Belmont Race Track property. NYS wants to turn a large tract of land into a gambling casino. This is against the wishes of the surrounding communities. Will you stand up with me and bring your friends? We have to tell NYS NO WAY! This impacts both Nassau and Queens adjoining communities. Thank You\, I know this is sudden. Government must understand that they MUST confer with local residents and businesses before they try and dictate their wishes upon US. Bring your flags\, signs and fellow patriots. Dress warm. But stand up for your nation. We the American citizen are not to be bullied by big government\, we know our rights! Put this out to your lists and invite kingdom come. We want a clear show of support.\nThank you\,\nJoe Concannon\nFloral Park Memorial High School\n210 Locust St\, Floral Park\, NY 11001\n\nThis event was organized by the Belmont Park Task Force Committee
URL:https://qvgop.org/event/community-rally-to-stop-belmont-casino/
LOCATION:Floral Park Memorial High School\, 210 Locust St.\, Floral Park
END:VEVENT
BEGIN:VEVENT
DTSTART;VALUE=DATE:20160116
DTEND;VALUE=DATE:20160118
DTSTAMP:20260425T200555
CREATED:20160115T005538Z
LAST-MODIFIED:20160115T005538Z
UID:4357-1452902400-1453075199@qvgop.org
SUMMARY:Marco Rubio Volunteer Opportunity
DESCRIPTION:There is a Marco Rubio volunteer opportunity going on this weekend. NY and NJ are sending volunteers to Manchester\, NH to help Rubio this weekend. Christine Sisto is coordinating efforts with NJ Mayor Carlos Rendo. \nIf you or anyone else is interested let Christine know and she will send you more details. But basically\, there are still a few (free) spots in a bus leaving NJ this Saturday. The mayor has also sectioned off $99 rooms at La Quinta Suites. Mention New Jersey for Marco Rubio when you make your reservation. \nIf you have any questions or want more information\, call Christine at 347-439-6085. \nItinerary: \nSaturday January 16th: \n7:30-8:00: The bus (which you will not need to pay for) will leave the Old Mill Pool Complex\, 155 Werimus Road\, Woodcliff Lake\, NJ.  There will be secure on-site parking for your vehicle.  We will board the bus\, which is outfitted with DVD screens\, for the four hour ride to Manchester\, NH. \nAround noon\, we will arrive at Rubio headquarters\, which is only two blocks from the hotel.  We are working with the campaign as to exactly what the next few hours will entail.  It’s a safe bet that they will be touting pictures of our arrival on social media\, and we will know know soon what else it will entail.  As for the work\, if you want to make some phone calls\, great.  If you want to hit some doors\, great.  Do whatever (and how much) you feel comfortable doing. \nAfter the day is over\, we will retire back to the hotel\, the La Quinta Inn and Suites.  We have reserved a block for a discounted rate of $99 for two queen beds (603-669-5400). When you call to reserve your room on the block\, please reference “Rubio for President” or “New Jersey Marco Rubio.” \nSunday January 17th: \nIn the morning\, the hotel has a complimentary breakfast\, so we will likely hang out together there\, before we head back to HQ for a few hours of campaigning that will be along the same lines as Saturday. \nThe bus will depart at around 3pm to come back to Woodcliff Lake. \n**Just a note. People don’t have to take this bus if they can’t get to NJ on Saturday. This is just an option. They also don’t have to stay at this hotel\, but it is pretty cheap. If anyone is interested in the bus or the hotel please have then contact Christine. 347-439-6085 \n 
URL:https://qvgop.org/event/marco-rubio-volunteer-opportunity/
LOCATION:Old Mill Pool Complex\, 155 Werimus Road\, Woodcliff Lake\, NJ
END:VEVENT
BEGIN:VEVENT
DTSTART;TZID=America/New_York:20160117T150000
DTEND;TZID=America/New_York:20160117T170000
DTSTAMP:20260425T200555
CREATED:20160108T213531Z
LAST-MODIFIED:20160108T213637Z
UID:4338-1453042800-1453050000@qvgop.org
SUMMARY:Knights of Columbus "Paint Knight"
DESCRIPTION:
URL:https://qvgop.org/event/knights-of-columbus-paint-knight/
LOCATION:Knights of Columbus\, St. Anne’s Council\, 263-15 Union Tpke.\, Glen Oaks\, NY\, 11004\, United States
END:VEVENT
BEGIN:VEVENT
DTSTART;VALUE=DATE:20160122
DTEND;VALUE=DATE:20160123
DTSTAMP:20260425T200555
CREATED:20160112T045959Z
LAST-MODIFIED:20160112T045959Z
UID:4354-1453420800-1453507199@qvgop.org
SUMMARY:March for Life\, Washington DC
DESCRIPTION:
URL:https://qvgop.org/event/march-for-life-washington-dc/
LOCATION:Washington DC  – Captol Hill Northeast
END:VEVENT
BEGIN:VEVENT
DTSTART;TZID=America/New_York:20160130T110000
DTEND;TZID=America/New_York:20160130T120000
DTSTAMP:20260425T200555
CREATED:20160129T044133Z
LAST-MODIFIED:20160129T044133Z
UID:4413-1454151600-1454155200@qvgop.org
SUMMARY:Protest March Against Belmont Casino
DESCRIPTION:This Saturday\, January 30 at 11 AM\, there will be a protest march against the proposed casino at Belmont Park. The march will start at Floral Park Memorial High School\, located on Plainfield Ave and Miller Ave. It will proceed down Plainfield Ave to Hempstead Turnpike\, and will end at the main gate of Belmont Park \nhttps://www.facebook.com/events/925678347513800/ \n 
URL:https://qvgop.org/event/protest-march-against-belmont-casino/
LOCATION:Floral Park Memorial High School\, 210 Locust St.\, Floral Park
END:VEVENT
END:VCALENDAR