BEGIN:VCALENDAR
VERSION:2.0
PRODID:-//The Queens Village Republican Club Online - ECPv6.15.14//NONSGML v1.0//EN
CALSCALE:GREGORIAN
METHOD:PUBLISH
X-WR-CALNAME:The Queens Village Republican Club Online
X-ORIGINAL-URL:https://qvgop.org
X-WR-CALDESC:Events for The Queens Village Republican Club Online
REFRESH-INTERVAL;VALUE=DURATION:PT1H
X-Robots-Tag:noindex
X-PUBLISHED-TTL:PT1H
BEGIN:VTIMEZONE
TZID:America/New_York
BEGIN:DAYLIGHT
TZOFFSETFROM:-0500
TZOFFSETTO:-0400
TZNAME:EDT
DTSTART:20140309T070000
END:DAYLIGHT
BEGIN:STANDARD
TZOFFSETFROM:-0400
TZOFFSETTO:-0500
TZNAME:EST
DTSTART:20141102T060000
END:STANDARD
BEGIN:DAYLIGHT
TZOFFSETFROM:-0500
TZOFFSETTO:-0400
TZNAME:EDT
DTSTART:20150308T070000
END:DAYLIGHT
BEGIN:STANDARD
TZOFFSETFROM:-0400
TZOFFSETTO:-0500
TZNAME:EST
DTSTART:20151101T060000
END:STANDARD
BEGIN:DAYLIGHT
TZOFFSETFROM:-0500
TZOFFSETTO:-0400
TZNAME:EDT
DTSTART:20160313T070000
END:DAYLIGHT
BEGIN:STANDARD
TZOFFSETFROM:-0400
TZOFFSETTO:-0500
TZNAME:EST
DTSTART:20161106T060000
END:STANDARD
END:VTIMEZONE
BEGIN:VEVENT
DTSTART;TZID=America/New_York:20151202T190000
DTEND;TZID=America/New_York:20151202T210000
DTSTAMP:20260425T212657
CREATED:20151111T200118Z
LAST-MODIFIED:20151111T200118Z
UID:4198-1449082800-1449090000@qvgop.org
SUMMARY:NCFRW Charity Christmas and Hanukkah Party
DESCRIPTION:The Nassau County Federation of Republican Women Charity Christmas and Hanukkah Party\, December 2nd\, Delicious Food\, Great Company\, Homemade Desserts\, DJ\, Entertainment\, Raffles and Prizes all for only $20 per person. In addition all are asked to bring a gift card minimum of $10 for children of our military. If you can not attend and still would like to donate a gift card\, please send card to\, NCFRW\, P.O. Box\, 542\, Levittown\, New York 11756.\nThank you.\nFor more information contact Rosemary at 516-880-5071
URL:https://qvgop.org/event/ncfrw-charity-christmas-and-hanukkah-party/
LOCATION:VFW Post 5253 Albertson\, 155 Searingtown Road\, Albertson
END:VEVENT
BEGIN:VEVENT
DTSTART;TZID=America/New_York:20151203T193000
DTEND;TZID=America/New_York:20151203T220000
DTSTAMP:20260425T212657
CREATED:20151116T184020Z
LAST-MODIFIED:20151116T184020Z
UID:4205-1449171000-1449180000@qvgop.org
SUMMARY:QVGOP Christmas/Chanukah Dinner Party
DESCRIPTION:
URL:https://qvgop.org/event/qvgop-christmaschanukah-dinner-party/
LOCATION:Knights of Columbus\, St. Anne’s Council\, 263-15 Union Tpke.\, Glen Oaks\, NY\, 11004\, United States
END:VEVENT
BEGIN:VEVENT
DTSTART;TZID=America/New_York:20151208T183000
DTEND;TZID=America/New_York:20151208T220000
DTSTAMP:20260425T212657
CREATED:20151113T220618Z
LAST-MODIFIED:20151113T220618Z
UID:4201-1449599400-1449612000@qvgop.org
SUMMARY:Queens County GOP Holiday Party
DESCRIPTION:
URL:https://qvgop.org/event/queens-county-gop-holiday-party-2/
LOCATION:Verdi’s of Whitestone\, 149-58 Cross Island Pkwy\, Whitestone\, 11357
END:VEVENT
BEGIN:VEVENT
DTSTART;TZID=America/New_York:20151211T100000
DTEND;TZID=America/New_York:20151211T110000
DTSTAMP:20260425T212657
CREATED:20151205T033315Z
LAST-MODIFIED:20151205T033315Z
UID:4223-1449828000-1449831600@qvgop.org
SUMMARY:Street Naming in Honor of Det. Brian Moore
DESCRIPTION:
URL:https://qvgop.org/event/street-naming-in-honor-of-det-brian-moore/
LOCATION:IFO 105th Precinct Station House\, 92-08 222nd Street\, Queens Village\, NY\, United States
END:VEVENT
END:VCALENDAR