BEGIN:VCALENDAR
VERSION:2.0
PRODID:-//The Queens Village Republican Club Online - ECPv6.15.14//NONSGML v1.0//EN
CALSCALE:GREGORIAN
METHOD:PUBLISH
X-WR-CALNAME:The Queens Village Republican Club Online
X-ORIGINAL-URL:https://qvgop.org
X-WR-CALDESC:Events for The Queens Village Republican Club Online
REFRESH-INTERVAL;VALUE=DURATION:PT1H
X-Robots-Tag:noindex
X-PUBLISHED-TTL:PT1H
BEGIN:VTIMEZONE
TZID:America/New_York
BEGIN:DAYLIGHT
TZOFFSETFROM:-0500
TZOFFSETTO:-0400
TZNAME:EDT
DTSTART:20140309T070000
END:DAYLIGHT
BEGIN:STANDARD
TZOFFSETFROM:-0400
TZOFFSETTO:-0500
TZNAME:EST
DTSTART:20141102T060000
END:STANDARD
BEGIN:DAYLIGHT
TZOFFSETFROM:-0500
TZOFFSETTO:-0400
TZNAME:EDT
DTSTART:20150308T070000
END:DAYLIGHT
BEGIN:STANDARD
TZOFFSETFROM:-0400
TZOFFSETTO:-0500
TZNAME:EST
DTSTART:20151101T060000
END:STANDARD
BEGIN:DAYLIGHT
TZOFFSETFROM:-0500
TZOFFSETTO:-0400
TZNAME:EDT
DTSTART:20160313T070000
END:DAYLIGHT
BEGIN:STANDARD
TZOFFSETFROM:-0400
TZOFFSETTO:-0500
TZNAME:EST
DTSTART:20161106T060000
END:STANDARD
END:VTIMEZONE
BEGIN:VEVENT
DTSTART;TZID=America/New_York:20151001T193000
DTEND;TZID=America/New_York:20151001T220000
DTSTAMP:20260426T003908
CREATED:20150922T061417Z
LAST-MODIFIED:20150922T061417Z
UID:4145-1443727800-1443736800@qvgop.org
SUMMARY:ANNUAL COLUMBUS DAY DINNER
DESCRIPTION:NEXT GENERAL CLUB MEETING:\nTHURSDAY OCT. 1\, 2015 at 7:30 PM\nANNUAL COLUMBUS DAY DINNER\n\nFeatured Speakers: \nRobert Turner\, Chairman\, Queens County Republican Party\nRev. Michel Faulkner\, Republican candidate for Mayor of NYC. Founder of the New Horizon Church of New York in Harlem. Former New York Jets player in the NFL.\nJoseph Concannon\, Republican\, Conservative and Reform Party candidate for NYC Council in CD#23\nScherie Murray\, 29th Assembly District Republican State Committeewoman and candidate for NY State Assembly\nOther invited speakers include Queens Republican Judicial candidates and new District Leaders. \n\nMeeting at:  Nancy’s Restaurant\n25541 Jericho Tpke\, Floral Park\, NY 11001\n$40/per person\nYou do not need to pay in advance\, but we must have your reservations: call Jim Trent at 718-343-8830 (leave message) or e-mail at jtrent8830@aol.com.\nPlease Note: Meeting is NOT at our normal venue at the Knights of Columbus.\n\n\nOur usual meeting hall\, the Knights of Columbus on Union Turnpike\, is not available for our October meeting date of the first Thursday of the month. We are relocating for this meeting only\, to Nancy’s Restaurant at 255-41 Jericho Turnpike in Floral Park\, NY. This block is actually in Queens. There is parking available across the street in a lot operated by Floral Park Village. \nWe’ve established a tradition of offering an optional dinner at our October meeting in honor of Columbus Day. Since we can’t offer the dinner at the Knights of Columbus\, we’ve transferred our meeting to Nancy’s Restaurant. We are serving a four-course dinner including soda\, coffee/tea\, tax\, and tip for just $40 per person. You do not have to purchase the dinner to attend the meeting\, but those attending for the meeting only\, please be advised there will be no coffee/cake/soda served. There is a cash bar. \nThere are nine options to choose from for your choice of entree: \n*Hand crafted gnocchi with braised pork shoulder and sautéed mushrooms.\n*Penne pasta with sweet Italian sausage\, light tomato cream sauce.\n*Penne ala vodka.\n*Thyme marinated grilled pork loin.\n*Sautéed tilapia with charred onion vinaigrette\n*Garlic and thyme marinated grilled chicken breasts\, natural chicken jus.\n*Penne pasta with grilled chicken\, apple wood smoked bacon\, and\nroasted garlic cream sauce.\n*Risotto with braised pork shoulder\, natural jus.\n*Nancy’s signature grilled hanger steak with natural jus. \nEntrees served with seasonal fresh vegetables and mashed potatoes.\nSoup course: slow cooked potato and bacon soup.\nSalad course: mixed greens house salad or caesar salad.\nDessert: Chocolate brownie with whipped cream\, caramel sauce and vanilla ice cream.
URL:https://qvgop.org/event/annual-columbus-day-dinner/
LOCATION:Nancy’s Restaurant\, 25541 Jericho Tpke\, Floral Park\, 11001
END:VEVENT
BEGIN:VEVENT
DTSTART;TZID=America/New_York:20151003T100000
DTEND;TZID=America/New_York:20151003T120000
DTSTAMP:20260426T003908
CREATED:20150928T045119Z
LAST-MODIFIED:20150928T045321Z
UID:4162-1443866400-1443873600@qvgop.org
SUMMARY:Volunteers Bagel Breakfast - Saturday
DESCRIPTION:YOU’RE INVITED\nto Joe Concannon’s Campaign HQ\n for a Volunteers Bagel Breakfast!\n \nJoin us for food\, fun\, and hitting the campaign trail! \nWhere: 247-39 Jericho Turnpike\, Bellerose\, NY 11426 \nWhen: Sat. and Sunday mornings 10am to 12noon.  \nWhy: To send Mayor de Blasio a Midterm Message! \nPlenty of parking available.
URL:https://qvgop.org/event/volunteers-bagel-breakfast/
LOCATION:JOE4NY CAMPAIGN HQ\, 247-39 Jericho Tpke\, Bellerose\, 11426
END:VEVENT
BEGIN:VEVENT
DTSTART;TZID=America/New_York:20151004T100000
DTEND;TZID=America/New_York:20151004T120000
DTSTAMP:20260426T003908
CREATED:20150928T045459Z
LAST-MODIFIED:20150928T045459Z
UID:4164-1443952800-1443960000@qvgop.org
SUMMARY:Volunteers Bagel Breakfast - Sunday
DESCRIPTION:YOU’RE INVITED\nto Joe Concannon’s Campaign HQ\nfor a Volunteers Bagel Breakfast!\n \nJoin us for food\, fun\, and hitting the campaign trail! \nWhere: 247-39 Jericho Turnpike\, Bellerose\, NY 11426 \nWhen: Sat. and Sunday mornings 10am to 12noon.  \nWhy: To send Mayor de Blasio a Midterm Message! \nPlenty of parking available.
URL:https://qvgop.org/event/volunteers-bagel-breakfast-sunday/
LOCATION:JOE4NY CAMPAIGN HQ\, 247-39 Jericho Tpke\, Bellerose\, 11426
END:VEVENT
BEGIN:VEVENT
DTSTART;TZID=America/New_York:20151014T083000
DTEND;TZID=America/New_York:20151014T220000
DTSTAMP:20260426T003908
CREATED:20151014T001507Z
LAST-MODIFIED:20151014T001507Z
UID:4176-1444811400-1444860000@qvgop.org
SUMMARY:Come Meet Rob Astorino at Joe Concannon Headquarters 10/14/2015
DESCRIPTION:Come Meet\nRob Astorino at\nJoe Concannon Headquarters\n10/14/2015\n\n\n\n\n\n\n\n\n\n\n\n\n\n\n\n\n\n\n\n\n\n\n\n\n\n\n\n\n\n\nDear Friends\, \nWe would like to invite you to join us on Wednesday for a Bagel Breakfast with Rob Astorino\, Westchester County Executive\, former Gubernatorial candidate.  Rob Astorino is set to announce his endorsement of Joe Concannon.  Joe is running on the Republican\, Conservative and Reform Party lines.  Headquarters will open at 8:30am and we will be serving our wonderful bagel breakfast.  Rob Astorino is expected at Headquarters at 9:30am.  Please feel free to join us\, we would love to have you. \nDATE:     October 14\, 2015\nTIME:      Doors open at 8:30am\nPLACE:  Joe Concannon Campaign Headquarters\n247-39 Jericho Turnpike\nBellerose  NY 11426
URL:https://qvgop.org/event/come-meet-rob-astorino-at-joe-concannon-headquarters-10142015/
LOCATION:JOE4NY CAMPAIGN HQ\, 247-39 Jericho Tpke\, Bellerose\, 11426
END:VEVENT
END:VCALENDAR